BEGIN:VCALENDAR
VERSION:2.0
PRODID:-//Modesto-Stanislaus Poetry Center - ECPv6.15.13//NONSGML v1.0//EN
CALSCALE:GREGORIAN
METHOD:PUBLISH
X-WR-CALNAME:Modesto-Stanislaus Poetry Center
X-ORIGINAL-URL:https://www.mostpoetry.org
X-WR-CALDESC:Events for Modesto-Stanislaus Poetry Center
REFRESH-INTERVAL;VALUE=DURATION:PT1H
X-Robots-Tag:noindex
X-PUBLISHED-TTL:PT1H
BEGIN:VTIMEZONE
TZID:America/Los_Angeles
BEGIN:DAYLIGHT
TZOFFSETFROM:-0800
TZOFFSETTO:-0700
TZNAME:PDT
DTSTART:20230312T100000
END:DAYLIGHT
BEGIN:STANDARD
TZOFFSETFROM:-0700
TZOFFSETTO:-0800
TZNAME:PST
DTSTART:20231105T090000
END:STANDARD
BEGIN:DAYLIGHT
TZOFFSETFROM:-0800
TZOFFSETTO:-0700
TZNAME:PDT
DTSTART:20240310T100000
END:DAYLIGHT
BEGIN:STANDARD
TZOFFSETFROM:-0700
TZOFFSETTO:-0800
TZNAME:PST
DTSTART:20241103T090000
END:STANDARD
BEGIN:DAYLIGHT
TZOFFSETFROM:-0800
TZOFFSETTO:-0700
TZNAME:PDT
DTSTART:20250309T100000
END:DAYLIGHT
BEGIN:STANDARD
TZOFFSETFROM:-0700
TZOFFSETTO:-0800
TZNAME:PST
DTSTART:20251102T090000
END:STANDARD
END:VTIMEZONE
BEGIN:VEVENT
DTSTART;TZID=America/Los_Angeles:20241117T140000
DTEND;TZID=America/Los_Angeles:20241117T150000
DTSTAMP:20260424T140949
CREATED:20241022T230345Z
LAST-MODIFIED:20241022T230428Z
UID:3483-1731852000-1731855600@www.mostpoetry.org
SUMMARY:Poetry Book Club: In Praise of Late Wonder by Lee Herrick
DESCRIPTION:Join us for the latest edition of the MoSt Poetry Book Club\, when we’ll be discussing California Poet Laureate Lee Herrick’s excellent new collection\, In Praise of Late Wonder! We’ll meet on Sunday\, November 17th\, 2024 at 2pm\, at Panera Bread\, 2103 McHenry Avenue\, in Modesto. \nIn the meantime\, pick up a copy of Lee’s book\, which is now available at the front desk of the Modesto Library. Tom Portwood will lead a discussion about the collection that afternoon. We look forward to seeing you!
URL:https://www.mostpoetry.org/event/2024novbookclub/
LOCATION:Panera\, 2103 McHenry A\, Modesto\, CA\, 95350\, United States
CATEGORIES:Book Club
ATTACH;FMTTYPE=image/jpeg:https://www.mostpoetry.org/wp-content/uploads/2024/10/herrick-book-.jpg
END:VEVENT
END:VCALENDAR