BEGIN:VCALENDAR
VERSION:2.0
PRODID:-//Modesto-Stanislaus Poetry Center - ECPv6.15.13//NONSGML v1.0//EN
CALSCALE:GREGORIAN
METHOD:PUBLISH
X-WR-CALNAME:Modesto-Stanislaus Poetry Center
X-ORIGINAL-URL:https://www.mostpoetry.org
X-WR-CALDESC:Events for Modesto-Stanislaus Poetry Center
REFRESH-INTERVAL;VALUE=DURATION:PT1H
X-Robots-Tag:noindex
X-PUBLISHED-TTL:PT1H
BEGIN:VTIMEZONE
TZID:America/Los_Angeles
BEGIN:DAYLIGHT
TZOFFSETFROM:-0800
TZOFFSETTO:-0700
TZNAME:PDT
DTSTART:20180311T100000
END:DAYLIGHT
BEGIN:STANDARD
TZOFFSETFROM:-0700
TZOFFSETTO:-0800
TZNAME:PST
DTSTART:20181104T090000
END:STANDARD
BEGIN:DAYLIGHT
TZOFFSETFROM:-0800
TZOFFSETTO:-0700
TZNAME:PDT
DTSTART:20190310T100000
END:DAYLIGHT
BEGIN:STANDARD
TZOFFSETFROM:-0700
TZOFFSETTO:-0800
TZNAME:PST
DTSTART:20191103T090000
END:STANDARD
BEGIN:DAYLIGHT
TZOFFSETFROM:-0800
TZOFFSETTO:-0700
TZNAME:PDT
DTSTART:20200308T100000
END:DAYLIGHT
BEGIN:STANDARD
TZOFFSETFROM:-0700
TZOFFSETTO:-0800
TZNAME:PST
DTSTART:20201101T090000
END:STANDARD
BEGIN:DAYLIGHT
TZOFFSETFROM:-0800
TZOFFSETTO:-0700
TZNAME:PDT
DTSTART:20210314T100000
END:DAYLIGHT
BEGIN:STANDARD
TZOFFSETFROM:-0700
TZOFFSETTO:-0800
TZNAME:PST
DTSTART:20211107T090000
END:STANDARD
BEGIN:DAYLIGHT
TZOFFSETFROM:-0800
TZOFFSETTO:-0700
TZNAME:PDT
DTSTART:20220313T100000
END:DAYLIGHT
BEGIN:STANDARD
TZOFFSETFROM:-0700
TZOFFSETTO:-0800
TZNAME:PST
DTSTART:20221106T090000
END:STANDARD
END:VTIMEZONE
BEGIN:VEVENT
DTSTART;TZID=America/Los_Angeles:20210421T183000
DTEND;TZID=America/Los_Angeles:20210421T193000
DTSTAMP:20260423T170931
CREATED:20210330T045522Z
LAST-MODIFIED:20210414T213435Z
UID:1969-1619029800-1619033400@www.mostpoetry.org
SUMMARY:Poetry Book Club
DESCRIPTION:Join us for the latest edition of the MoSt Poetry Book Club! We’ll meet on Wednesday\, April 21st at 6:30 pm. In the meantime\, pick up a copy of Indigo Moor’s excellent new collection\, Everybody’s Jonesin’ for Something\, now available at the front desk of the Modesto Library. Tom Myers and Tom Portwood will lead a discussion about the collection that evening. Please join us! \nZoom link: https://cccconfer.zoom.us/j/92507601303
URL:https://www.mostpoetry.org/event/poetry-book-club-4-2021/
LOCATION:Zoom
CATEGORIES:Book Club
ATTACH;FMTTYPE=image/jpeg:https://www.mostpoetry.org/wp-content/uploads/2017/08/MoSt-Gala-2017-0001.jpg
END:VEVENT
BEGIN:VEVENT
DTSTART;TZID=America/Los_Angeles:20210120T183000
DTEND;TZID=America/Los_Angeles:20210120T193000
DTSTAMP:20260423T170931
CREATED:20201218T224017Z
LAST-MODIFIED:20210109T203215Z
UID:1864-1611167400-1611171000@www.mostpoetry.org
SUMMARY:Poetry Book Club
DESCRIPTION:Our MoSt Book Club is back on Wednesday\, January 20\, 2021\, at 6:30\, via Zoom meeting! \nWe’ll be discussing The Age of Phillis by Honorée Fanonne Jeffers. There are copies available to borrow at the Modesto Public Library. If you’d like one\, please email Vicki\, our most wonderful librarian contact\, at vsalinas@stanlibrary.org.  The discussion will be led by MoSt Board member Linda Scheller. \nZoom link: https://us02web.zoom.us/j/89965113712
URL:https://www.mostpoetry.org/event/poetry-book-club-6/
LOCATION:Zoom
CATEGORIES:Book Club
ATTACH;FMTTYPE=image/jpeg:https://www.mostpoetry.org/wp-content/uploads/2020/12/TheAgeofPhillis.jpg
END:VEVENT
BEGIN:VEVENT
DTSTART;TZID=America/Los_Angeles:20201118T183000
DTEND;TZID=America/Los_Angeles:20201118T193000
DTSTAMP:20260423T170931
CREATED:20201031T201543Z
LAST-MODIFIED:20201031T201543Z
UID:1811-1605724200-1605727800@www.mostpoetry.org
SUMMARY:Poetry Book Club
DESCRIPTION:Our MoSt Book Club is back on Wednesday\, November 18\, 2020 at 6:30\, via Zoom meeting! \nWe’ll be discussing Dylan Thomas’s Collected Poems. There are copies available to borrow at the Modesto Public Library. If you’d like one\, please email Vicki\, our most wonderful librarian contact\, at vsalinas@stanlibrary.org.  The discussion will be led by MoSt Board member Sal Salerno. \nWe’ll send out the Zoom invite via Mailchimp and our Facebook page soon\, so stay tuned!
URL:https://www.mostpoetry.org/event/poetry-book-club-11-2020/
LOCATION:Zoom
CATEGORIES:Book Club
ATTACH;FMTTYPE=image/jpeg:https://www.mostpoetry.org/wp-content/uploads/2017/08/MoSt-Gala-2017-0001.jpg
END:VEVENT
BEGIN:VEVENT
DTSTART;TZID=America/Los_Angeles:20200715T183000
DTEND;TZID=America/Los_Angeles:20200715T193000
DTSTAMP:20260423T170931
CREATED:20200630T230809Z
LAST-MODIFIED:20200713T014935Z
UID:1487-1594837800-1594841400@www.mostpoetry.org
SUMMARY:Poetry Book Club
DESCRIPTION:Our MoSt Summer Book Club is back on Wednesday\, July 15\, 2020 at 6:30\, and you don’t even have to drive to the library because it is a Zoom meeting! \nWe’ll be discussing Natasha Tretheway’s Pulitzer Prize winning collection\, Native Guard. There are copies available to borrow at the Modesto Public Library. If you’d like one\, please email Vicki\, our most wonderful librarian contact\, at vsalinas@stanlibrary.org. \nThrough elegiac verse that honors her mother and tells of her own fraught childhood\, Natasha Trethewey confronts the racial legacy of her native Deep South — where one of the first black regiments\, the Louisiana Native Guards\, was called into service during the Civil War. Trethewey’s resonant and beguiling collection is a haunting conversation between personal experience and national history. (from the Houghton Mifflin website) \nWe’ll send out the Zoom invite via Mailchimp and our Facebook page later this month\, so stay tuned!
URL:https://www.mostpoetry.org/event/poetry-book-club-5/
LOCATION:Zoom
CATEGORIES:Book Club
ATTACH;FMTTYPE=image/png:https://www.mostpoetry.org/wp-content/uploads/2020/06/poetry-book-club-July-2020.png
END:VEVENT
BEGIN:VEVENT
DTSTART;TZID=America/Los_Angeles:20200122T183000
DTEND;TZID=America/Los_Angeles:20200122T200000
DTSTAMP:20260423T170931
CREATED:20191212T015116Z
LAST-MODIFIED:20191212T015116Z
UID:1291-1579717800-1579723200@www.mostpoetry.org
SUMMARY:Poetry Book Club
DESCRIPTION:MoSt is pleased to announce another installment of our Poetry Book Club! Join us for a conversation about  Deaf Republic by Ilya Kaminsky. Copies of Deaf Republic will be available at the downtown Modesto library to check out in the near future. \nThe book club will be held Wednesday\, January 22 at 6:30 in the conference room at the downtown library and will be facilitated by Stella Beratlis.  See you there!
URL:https://www.mostpoetry.org/event/poetry-book-club-1-2020/
LOCATION:Stanislaus County Library\, 1500 I Street\, Modesto\, CA\, 95354\, United States
CATEGORIES:Book Club
ATTACH;FMTTYPE=image/jpeg:https://www.mostpoetry.org/wp-content/uploads/2017/08/MoSt-Gala-2017-0001.jpg
END:VEVENT
BEGIN:VEVENT
DTSTART;TZID=America/Los_Angeles:20191113T183000
DTEND;TZID=America/Los_Angeles:20191113T193000
DTSTAMP:20260423T170931
CREATED:20191006T183018Z
LAST-MODIFIED:20191006T183048Z
UID:1241-1573669800-1573673400@www.mostpoetry.org
SUMMARY:Poetry Book Club
DESCRIPTION:MoSt is pleased to announce another installment of our Poetry Book Club! Join us for a conversation about  Blindspot by Teju Cole. Copies of Blindspot are available at the downtown Modesto library to check out. \nThe book club will be held Wednesday\, November 13 at 6:30 in the conference room at the downtown library and will be facilitated by Janette Jameson.  See you there!
URL:https://www.mostpoetry.org/event/poetry-book-club-11-2019/
LOCATION:Stanislaus County Library\, 1500 I Street\, Modesto\, CA\, 95354\, United States
CATEGORIES:Book Club
ATTACH;FMTTYPE=image/jpeg:https://www.mostpoetry.org/wp-content/uploads/2017/08/MoSt-Gala-2017-0001.jpg
END:VEVENT
BEGIN:VEVENT
DTSTART;TZID=America/Los_Angeles:20190724T183000
DTEND;TZID=America/Los_Angeles:20190724T193000
DTSTAMP:20260423T170931
CREATED:20190514T205205Z
LAST-MODIFIED:20190609T203346Z
UID:1173-1563993000-1563996600@www.mostpoetry.org
SUMMARY:Poetry Book Club
DESCRIPTION:MoSt is pleased to announce another installment of our Poetry Book Club! Join us for a conversation about Theodore Roethke’s final collection The Far Field. Four copies of The Far Field are available at the downtown Modesto library to check out\, but if you have Roethke’s Collected Poems\, almost the entire collection is included there as well. \nThe book club will be held Wednesday\, July 24 at 6:30 in the conference room at the downtown library and will be facilitated by Salvatore Salerno.  See you there!
URL:https://www.mostpoetry.org/event/poetry-book-club-4/
LOCATION:Stanislaus County Library\, 1500 I Street\, Modesto\, CA\, 95354\, United States
CATEGORIES:Book Club
ATTACH;FMTTYPE=image/jpeg:https://www.mostpoetry.org/wp-content/uploads/2017/08/MoSt-Gala-2017-0001.jpg
END:VEVENT
BEGIN:VEVENT
DTSTART;TZID=America/Los_Angeles:20190424T183000
DTEND;TZID=America/Los_Angeles:20190424T193000
DTSTAMP:20260423T170931
CREATED:20190206T223231Z
LAST-MODIFIED:20190413T053722Z
UID:1110-1556130600-1556134200@www.mostpoetry.org
SUMMARY:Poetry Book Club
DESCRIPTION:MoSt is pleased to announce another installment of our Poetry Book Club! The meeting will be held on Wednesday\, April 24th from 6:30 to 7:30 at the downtown library. Our featured book is Wade in the Water by Tracy K. Smith–copies will be available from the Modesto Library or on Amazon\, and we will have a few copies on hand. \nThis event is free and open to the public.
URL:https://www.mostpoetry.org/event/poetry-book-club-4-2019/
LOCATION:Stanislaus County Library\, 1500 I Street\, Modesto\, CA\, 95354\, United States
CATEGORIES:Book Club
ATTACH;FMTTYPE=image/jpeg:https://www.mostpoetry.org/wp-content/uploads/2017/08/MoSt-Gala-2017-0001.jpg
END:VEVENT
BEGIN:VEVENT
DTSTART;TZID=America/Los_Angeles:20190123T183000
DTEND;TZID=America/Los_Angeles:20190123T193000
DTSTAMP:20260423T170931
CREATED:20181231T032548Z
LAST-MODIFIED:20190109T053415Z
UID:1068-1548268200-1548271800@www.mostpoetry.org
SUMMARY:Poetry Book Club
DESCRIPTION:MoSt is pleased to announce another installment of our Poetry Book Club! The meeting will be held on Wednesday\, January 23rd from 6:30 to 7:30 at the downtown library. Our featured book is Adamantine by Shin Yu Pai–copies are available from the Modesto Library or on Amazon\, and we will have a few copies on hand. \nThis event is free and open to the public.
URL:https://www.mostpoetry.org/event/poetry-book-club-3/
LOCATION:Stanislaus County Library\, 1500 I Street\, Modesto\, CA\, 95354\, United States
CATEGORIES:Book Club,Other Events
ATTACH;FMTTYPE=image/jpeg:https://www.mostpoetry.org/wp-content/uploads/2017/08/MoSt-Gala-2017-0001.jpg
END:VEVENT
END:VCALENDAR