BEGIN:VCALENDAR
VERSION:2.0
PRODID:-//Modesto-Stanislaus Poetry Center - ECPv6.15.13//NONSGML v1.0//EN
CALSCALE:GREGORIAN
METHOD:PUBLISH
X-ORIGINAL-URL:https://www.mostpoetry.org
X-WR-CALDESC:Events for Modesto-Stanislaus Poetry Center
REFRESH-INTERVAL;VALUE=DURATION:PT1H
X-Robots-Tag:noindex
X-PUBLISHED-TTL:PT1H
BEGIN:VTIMEZONE
TZID:America/Los_Angeles
BEGIN:DAYLIGHT
TZOFFSETFROM:-0800
TZOFFSETTO:-0700
TZNAME:PDT
DTSTART:20180311T100000
END:DAYLIGHT
BEGIN:STANDARD
TZOFFSETFROM:-0700
TZOFFSETTO:-0800
TZNAME:PST
DTSTART:20181104T090000
END:STANDARD
BEGIN:DAYLIGHT
TZOFFSETFROM:-0800
TZOFFSETTO:-0700
TZNAME:PDT
DTSTART:20190310T100000
END:DAYLIGHT
BEGIN:STANDARD
TZOFFSETFROM:-0700
TZOFFSETTO:-0800
TZNAME:PST
DTSTART:20191103T090000
END:STANDARD
BEGIN:DAYLIGHT
TZOFFSETFROM:-0800
TZOFFSETTO:-0700
TZNAME:PDT
DTSTART:20200308T100000
END:DAYLIGHT
BEGIN:STANDARD
TZOFFSETFROM:-0700
TZOFFSETTO:-0800
TZNAME:PST
DTSTART:20201101T090000
END:STANDARD
END:VTIMEZONE
BEGIN:VEVENT
DTSTART;TZID=America/Los_Angeles:20190724T183000
DTEND;TZID=America/Los_Angeles:20190724T193000
DTSTAMP:20260423T185050
CREATED:20190514T205205Z
LAST-MODIFIED:20190609T203346Z
UID:1173-1563993000-1563996600@www.mostpoetry.org
SUMMARY:Poetry Book Club
DESCRIPTION:MoSt is pleased to announce another installment of our Poetry Book Club! Join us for a conversation about Theodore Roethke’s final collection The Far Field. Four copies of The Far Field are available at the downtown Modesto library to check out\, but if you have Roethke’s Collected Poems\, almost the entire collection is included there as well. \nThe book club will be held Wednesday\, July 24 at 6:30 in the conference room at the downtown library and will be facilitated by Salvatore Salerno.  See you there!
URL:https://www.mostpoetry.org/event/poetry-book-club-4/
LOCATION:Stanislaus County Library\, 1500 I Street\, Modesto\, CA\, 95354\, United States
CATEGORIES:Book Club
ATTACH;FMTTYPE=image/jpeg:https://www.mostpoetry.org/wp-content/uploads/2017/08/MoSt-Gala-2017-0001.jpg
END:VEVENT
BEGIN:VEVENT
DTSTART;TZID=America/Los_Angeles:20190424T183000
DTEND;TZID=America/Los_Angeles:20190424T193000
DTSTAMP:20260423T185050
CREATED:20190206T223231Z
LAST-MODIFIED:20190413T053722Z
UID:1110-1556130600-1556134200@www.mostpoetry.org
SUMMARY:Poetry Book Club
DESCRIPTION:MoSt is pleased to announce another installment of our Poetry Book Club! The meeting will be held on Wednesday\, April 24th from 6:30 to 7:30 at the downtown library. Our featured book is Wade in the Water by Tracy K. Smith–copies will be available from the Modesto Library or on Amazon\, and we will have a few copies on hand. \nThis event is free and open to the public.
URL:https://www.mostpoetry.org/event/poetry-book-club-4-2019/
LOCATION:Stanislaus County Library\, 1500 I Street\, Modesto\, CA\, 95354\, United States
CATEGORIES:Book Club
ATTACH;FMTTYPE=image/jpeg:https://www.mostpoetry.org/wp-content/uploads/2017/08/MoSt-Gala-2017-0001.jpg
END:VEVENT
BEGIN:VEVENT
DTSTART;TZID=America/Los_Angeles:20190123T183000
DTEND;TZID=America/Los_Angeles:20190123T193000
DTSTAMP:20260423T185050
CREATED:20181231T032548Z
LAST-MODIFIED:20190109T053415Z
UID:1068-1548268200-1548271800@www.mostpoetry.org
SUMMARY:Poetry Book Club
DESCRIPTION:MoSt is pleased to announce another installment of our Poetry Book Club! The meeting will be held on Wednesday\, January 23rd from 6:30 to 7:30 at the downtown library. Our featured book is Adamantine by Shin Yu Pai–copies are available from the Modesto Library or on Amazon\, and we will have a few copies on hand. \nThis event is free and open to the public.
URL:https://www.mostpoetry.org/event/poetry-book-club-3/
LOCATION:Stanislaus County Library\, 1500 I Street\, Modesto\, CA\, 95354\, United States
CATEGORIES:Book Club,Other Events
ATTACH;FMTTYPE=image/jpeg:https://www.mostpoetry.org/wp-content/uploads/2017/08/MoSt-Gala-2017-0001.jpg
END:VEVENT
END:VCALENDAR