BEGIN:VCALENDAR
VERSION:2.0
PRODID:-//Modesto-Stanislaus Poetry Center - ECPv6.15.13//NONSGML v1.0//EN
CALSCALE:GREGORIAN
METHOD:PUBLISH
X-WR-CALNAME:Modesto-Stanislaus Poetry Center
X-ORIGINAL-URL:https://www.mostpoetry.org
X-WR-CALDESC:Events for Modesto-Stanislaus Poetry Center
REFRESH-INTERVAL;VALUE=DURATION:PT1H
X-Robots-Tag:noindex
X-PUBLISHED-TTL:PT1H
BEGIN:VTIMEZONE
TZID:America/Los_Angeles
BEGIN:DAYLIGHT
TZOFFSETFROM:-0800
TZOFFSETTO:-0700
TZNAME:PDT
DTSTART:20170312T100000
END:DAYLIGHT
BEGIN:STANDARD
TZOFFSETFROM:-0700
TZOFFSETTO:-0800
TZNAME:PST
DTSTART:20171105T090000
END:STANDARD
BEGIN:DAYLIGHT
TZOFFSETFROM:-0800
TZOFFSETTO:-0700
TZNAME:PDT
DTSTART:20180311T100000
END:DAYLIGHT
BEGIN:STANDARD
TZOFFSETFROM:-0700
TZOFFSETTO:-0800
TZNAME:PST
DTSTART:20181104T090000
END:STANDARD
BEGIN:DAYLIGHT
TZOFFSETFROM:-0800
TZOFFSETTO:-0700
TZNAME:PDT
DTSTART:20190310T100000
END:DAYLIGHT
BEGIN:STANDARD
TZOFFSETFROM:-0700
TZOFFSETTO:-0800
TZNAME:PST
DTSTART:20191103T090000
END:STANDARD
BEGIN:DAYLIGHT
TZOFFSETFROM:-0800
TZOFFSETTO:-0700
TZNAME:PDT
DTSTART:20200308T100000
END:DAYLIGHT
BEGIN:STANDARD
TZOFFSETFROM:-0700
TZOFFSETTO:-0800
TZNAME:PST
DTSTART:20201101T090000
END:STANDARD
BEGIN:DAYLIGHT
TZOFFSETFROM:-0800
TZOFFSETTO:-0700
TZNAME:PDT
DTSTART:20210314T100000
END:DAYLIGHT
BEGIN:STANDARD
TZOFFSETFROM:-0700
TZOFFSETTO:-0800
TZNAME:PST
DTSTART:20211107T090000
END:STANDARD
BEGIN:DAYLIGHT
TZOFFSETFROM:-0800
TZOFFSETTO:-0700
TZNAME:PDT
DTSTART:20220313T100000
END:DAYLIGHT
BEGIN:STANDARD
TZOFFSETFROM:-0700
TZOFFSETTO:-0800
TZNAME:PST
DTSTART:20221106T090000
END:STANDARD
BEGIN:DAYLIGHT
TZOFFSETFROM:-0800
TZOFFSETTO:-0700
TZNAME:PDT
DTSTART:20230312T100000
END:DAYLIGHT
BEGIN:STANDARD
TZOFFSETFROM:-0700
TZOFFSETTO:-0800
TZNAME:PST
DTSTART:20231105T090000
END:STANDARD
BEGIN:DAYLIGHT
TZOFFSETFROM:-0800
TZOFFSETTO:-0700
TZNAME:PDT
DTSTART:20240310T100000
END:DAYLIGHT
BEGIN:STANDARD
TZOFFSETFROM:-0700
TZOFFSETTO:-0800
TZNAME:PST
DTSTART:20241103T090000
END:STANDARD
BEGIN:DAYLIGHT
TZOFFSETFROM:-0800
TZOFFSETTO:-0700
TZNAME:PDT
DTSTART:20250309T100000
END:DAYLIGHT
BEGIN:STANDARD
TZOFFSETFROM:-0700
TZOFFSETTO:-0800
TZNAME:PST
DTSTART:20251102T090000
END:STANDARD
END:VTIMEZONE
BEGIN:VEVENT
DTSTART;TZID=America/Los_Angeles:20240727T100000
DTEND;TZID=America/Los_Angeles:20240727T110000
DTSTAMP:20260423T133814
CREATED:20240605T222908Z
LAST-MODIFIED:20240605T222908Z
UID:3311-1722074400-1722078000@www.mostpoetry.org
SUMMARY:Poetry Book Club--Modern Poetry by Diane Seuss
DESCRIPTION:Please join us at 10:00 a.m. Saturday\, July 27\, 2024 at Bakeshop\, 940 Eleventh Street in Modesto for MoSt Poetry Book Club. Linda Scheller will facilitate a discussion of Modern Poetry\, the latest collection by Diane Seuss. Copies are available at the Modesto Library main desk. You’re always more than welcome to come and enjoy the discussion whether or not you’ve read the book! This event is free and open to the public. \n“Diane Seuss’s signature voice—audacious in its honesty\, virtuosic in its artistry\, outsider in its attitude—has become one of the most original in contemporary poetry. Her latest collection takes its title\, Modern Poetry\, from the first textbook Seuss encountered as a child and the first poetry course she took in college\, as an enrapt but ill-equipped student\, one who felt poetry was beyond her reach. Many of the poems make use of the forms and terms of musical and poetic craft—ballad\, fugue\, aria\, refrain\, coda—and contend with the works of writers overrepresented in textbooks and anthologies and those too often underrepresented. Seuss provides a moving account of her picaresque years and their uncertainties\, and in the process\, she enters the realm between Modernism and Romanticism\, between romance and objectivity\, with Keats as ghost\, lover\, and interlocutor.” —https://www.graywolfpress.org/books/modern-poetry \n \nDiane Seuss is the author of six books of poetry\, including Modern Poetry; frank: sonnets\, winner of the Pulitzer Prize\, the National Book Critics Circle Award\, the Los Angeles Times Book Prize\, and the PEN/Voelcker Prize; Still Life With Two Dead Peacocks and a Girl\, a finalist for the National Book Critics Circle Award and the Los Angeles Times Book Prize; and Four-Legged Girl\, a finalist for the Pulitzer Prize. She was a 2020 Guggenheim Fellow\, and in 2021 she received the John Updike Award from the American Academy of Arts and Letters. She lives in Michigan.
URL:https://www.mostpoetry.org/event/poetry-book-club-modern-poetry-by-diane-seuss/
LOCATION:BakeShop\, 940 Eleventh Street\, Modesto\, CA\, 95354\, United States
CATEGORIES:Book Club,Books
ATTACH;FMTTYPE=image/jpeg:https://www.mostpoetry.org/wp-content/uploads/2024/06/MoSt-Poetry-e1717625617368.jpg
END:VEVENT
BEGIN:VEVENT
DTSTART;TZID=America/Los_Angeles:20231113T183000
DTEND;TZID=America/Los_Angeles:20231113T193000
DTSTAMP:20260423T133814
CREATED:20231019T213710Z
LAST-MODIFIED:20231030T201401Z
UID:3024-1699900200-1699903800@www.mostpoetry.org
SUMMARY:MoSt Poetry Book Club
DESCRIPTION:“The late W.S. Merwin might as well have been called Merlin\, for the seemingly magical changes of his work during his long career.  The poems in Present Company are like impressionist or even abstract paintings.  If you scan them quickly\, they will seem to be out of focus\, but if you read more slowly\, stopping and lingering\, your patience will be rewarded by their beauty.”
URL:https://www.mostpoetry.org/event/most-poetry-book-club-4/
LOCATION:Stanislaus County Library\, 1500 I Street\, Modesto\, CA\, 95354\, United States
CATEGORIES:Book Club,Books
ATTACH;FMTTYPE=image/png:https://www.mostpoetry.org/wp-content/uploads/2023/10/merwin-e1698696767685.png
END:VEVENT
BEGIN:VEVENT
DTSTART;TZID=America/Los_Angeles:20220910T080000
DTEND;TZID=America/Los_Angeles:20220910T090000
DTSTAMP:20260423T133814
CREATED:20220824T154037Z
LAST-MODIFIED:20220824T154037Z
UID:2446-1662796800-1662800400@www.mostpoetry.org
SUMMARY:Saturday in the Park with Poetry
DESCRIPTION:Join Modesto Poet Laureate Salvatore Salerno at Davis Community Park\, 2701 College Avenue in Modesto\, CA at 8:00 a.m. PT on September 10\, 2022 for Saturday in the Park with Poetry. Bring a favorite book of poetry or two and share some of your favorite poems with other poetry aficionados. You can also bring poetry books to donate or trade. \nMeet at the picnic tables near the parking lot. In case the tables are occupied\, please also bring a lawn chair\, and we’ll gather elsewhere.
URL:https://www.mostpoetry.org/event/saturday-in-the-park-with-poetry/
LOCATION:Davis Park\, 2701 College Ave\, Modesto\, CA\, 95350\, United States
CATEGORIES:Books,Coffee Tea and Poetry,Poetry on Saturday
ATTACH;FMTTYPE=image/png:https://www.mostpoetry.org/wp-content/uploads/2022/08/Red-and-White-Floral-National-Wear-Red-Day-Facebook-Event-Cover.png
END:VEVENT
BEGIN:VEVENT
DTSTART;TZID=America/Los_Angeles:20210522T090000
DTEND;TZID=America/Los_Angeles:20210522T100000
DTSTAMP:20260423T133814
CREATED:20210503T193904Z
LAST-MODIFIED:20210503T193904Z
UID:2011-1621674000-1621677600@www.mostpoetry.org
SUMMARY:Coffee\, Tea\, & Poetry
DESCRIPTION:Join us for Coffee\, Tea\, and Poetry!  A Saturday morning conversation about the poetry you’re reading. You can read from the latest book you’re reading\, and if you’d like\, share a few poems from that book on your screen. Hosted by Sal Salerno. \nMay 22\, 2021 09:00 AM Pacific Time \nJoin the Zoom Meeting\nhttps://us02web.zoom.us/j/83413965246?pwd=dEFybVlhTzNGNkxxeXg0MHZtT3YrZz09 \nMeeting ID: 834 1396 5246\nPasscode: 481342\nOne tap mobile\n+16699009128\,\,83413965246#\,\,\,\,*481342# US (San Jose)\n+12532158782\,\,83413965246#\,\,\,\,*481342# US (Tacoma) \nFor more information\, please contact us at info@mostpoetry.org.
URL:https://www.mostpoetry.org/event/coffee-tea-poetry-5-2021/
LOCATION:Zoom
CATEGORIES:Books,Other Events
ATTACH;FMTTYPE=image/jpeg:https://www.mostpoetry.org/wp-content/uploads/2020/12/03-note-coffe-pen-1.jpg
END:VEVENT
BEGIN:VEVENT
DTSTART;TZID=America/Los_Angeles:20210116T080000
DTEND;TZID=America/Los_Angeles:20210116T090000
DTSTAMP:20260423T133814
CREATED:20201228T225656Z
LAST-MODIFIED:20201228T225807Z
UID:1889-1610784000-1610787600@www.mostpoetry.org
SUMMARY:Coffee\, Tea\, and Poetry
DESCRIPTION:Join us for a new event…Coffee\, Tea\, and Poetry\, a way to start the day with poetry! Share what poetry collection you’re reading now and a poem or two from that collection. \nBring your chosen morning beverage and join us on Zoom:\nhttps://us02web.zoom.us/j/83329984336?pwd=SC9qdEVCTDAyUWYxQmkySCtueHkyUT09 \nFor more detailed Zoom information\, please check our latest Poetry Everywhere newsletter or contact us at info@mostpoetry.org!
URL:https://www.mostpoetry.org/event/coffee-tea-and-poetry/
LOCATION:Zoom
CATEGORIES:Books,Other Events
ATTACH;FMTTYPE=image/jpeg:https://www.mostpoetry.org/wp-content/uploads/2020/12/03-note-coffe-pen-1.jpg
END:VEVENT
BEGIN:VEVENT
DTSTART;TZID=America/Los_Angeles:20200912T090000
DTEND;TZID=America/Los_Angeles:20211009T160000
DTSTAMP:20260423T133814
CREATED:20211108T222655Z
LAST-MODIFIED:20211108T222655Z
UID:2209-1599901200-1633795200@www.mostpoetry.org
SUMMARY:Books Shared at Coffee\, Tea\, and Poetry
DESCRIPTION:The Park                             John Freeman \nSimply to Know its Name                   Robert Aquinas McNally \nFelon                           Reginald Betts \nEveryday Mojo Songs of the Earth              Yusef Komunyakaa \nPig Dreams: Scenes from the Life of Sylvia              Denise Levertov \nThe Collected Poems\, 1965-2019                 Lucille Clifton \nThe Really Really Short Poems                 A.R. Ammons \n100 Selected Poems                              e.e.cummings \nThe Blue Estuaries                                 Louise Bogan \nSelected Poems                                   Czelaw Milosz \nBuffalo Yoga                                    Charles Wright \nDeep Gossip                                         Sidney Wade \nWhere Shall I Wander?                          John Ashbery \nTattoos                            Francisco Alarcón \nBody Mutinies                                 Lucia Perillo \nMorning in the Burned House                Margaret Atwood \nEverybody’s Jonesin’ for Something        Indigo Moor \nIncedendiary Art                               Patricia Smith \nA Net to Catch My Body in Its Weaving                Katie Farris \nIf We Had a Lemon\,  \n            We’d Throw It and Call It the Sun                       Christopher Citro \nGlossary of Unsaid Terms                      Victoria Flanagan \nShrapnel Maps                                      Philip Metres \nForest Primeval                                     Vievee Francis \nEarthly Delights                                     Troy Jollimore \nYellow Rain                                           Mai der Vang \nThe Bell and the Blackbird                     David Whyte \nThe Road to Isla Negra                          William O’Daly \nThe World is God’s Language                 Dane Cervine \nFalling in Silence                                    Jatuh Bisu \nA Prince Albert Wind                             Wilma Elizabeth McDaniel \nCollected Works                                    Lorine Niedecker \nNight Sky with Exit Wounds                   Ocean Vuong \nConflict Resolution for Holy Beings                          Joy Harjo \nAmerican Sunrise                           Joy Harjo \nHawk Parable                           Tyler Mills \nTongue Lyre                       Tyler Mills \nDear All                                    Maggie Anderson \nDialogues with Rising Tides                    Kelli Russell Agodon \nHeaven Beneath                                   Anne Marie Macari \nThe Bastard and the Bishop                          Gerald Fleming \nPost-Mortem                                        Heather Altfeld \nRagged Eden                                         Michael Meyerhofer \nHundred-Year Wave                              Rachel Richardson \nFoxlogic Fireweed                                 Jennifer K. Sweeney \nOrdinary Psalms                                    Julie B. Levine \nBonfire Opera                                     Danusha Laméris \nWhen My Brother Was an Aztec                 Natalie Diaz \nHurdy-Gurdy                                    Tim Seibles \nThe Carrying                                   Ada Limón \n  \n  \n  \n  \n  \n  \n  \n 
URL:https://www.mostpoetry.org/event/books-shared-at-coffee-tea-and-poetry/
LOCATION:CA
CATEGORIES:Books,Coffee Tea and Poetry,Workshops
ATTACH;FMTTYPE=image/png:https://www.mostpoetry.org/wp-content/uploads/2021/11/Brown-Coffee-Day-Promotion-Instagram-Story.png
END:VEVENT
BEGIN:VEVENT
DTSTART;TZID=America/Los_Angeles:20181114T183000
DTEND;TZID=America/Los_Angeles:20181114T193000
DTSTAMP:20260423T133814
CREATED:20180302T222925Z
LAST-MODIFIED:20180302T222953Z
UID:919-1542220200-1542223800@www.mostpoetry.org
SUMMARY:Poetry Book Club
DESCRIPTION:MoSt is pleased to announce the fourth installment of our Poetry Book Club! The meeting will be held on Wednesday\, November 14 from 6:30 to 7:30 at the downtown library. Our featured book is to be announced–stay tuned. More details to follow\, but as usual\, this event is free and open to the public.
URL:https://www.mostpoetry.org/event/poetry-book-club-4-2018/
LOCATION:Stanislaus County Library\, 1500 I Street\, Modesto\, CA\, 95354\, United States
CATEGORIES:Books,Other Events
ATTACH;FMTTYPE=image/jpeg:https://www.mostpoetry.org/wp-content/uploads/2017/08/MoSt-Gala-2017-0001.jpg
END:VEVENT
BEGIN:VEVENT
DTSTART;TZID=America/Los_Angeles:20180718T183000
DTEND;TZID=America/Los_Angeles:20180718T193000
DTSTAMP:20260423T133814
CREATED:20180302T222757Z
LAST-MODIFIED:20180607T204143Z
UID:917-1531938600-1531942200@www.mostpoetry.org
SUMMARY:Poetry Book Club
DESCRIPTION:MoSt is pleased to announce the third installment of our Poetry Book Club! The meeting will be held on Wednesday\, July 18 from 6:30 to 7:30 at the downtown library and our featured book will be Barbie Chang by Victoria Chang. The library will have extra copies to check out\, but the book is widely available if you’d like to get your own. Either way\, you want to read it ahead of time and be prepared for some great conversation. More details to follow\, but as usual\, this event is free and open to the public.
URL:https://www.mostpoetry.org/event/poetry-book-club-3-2018/
LOCATION:Stanislaus County Library\, 1500 I Street\, Modesto\, CA\, 95354\, United States
CATEGORIES:Books,Other Events
ATTACH;FMTTYPE=image/jpeg:https://www.mostpoetry.org/wp-content/uploads/2018/03/July2018PoetryBookClub.jpg
END:VEVENT
BEGIN:VEVENT
DTSTART;TZID=America/Los_Angeles:20180314T183000
DTEND;TZID=America/Los_Angeles:20180314T193000
DTSTAMP:20260423T133814
CREATED:20180302T222446Z
LAST-MODIFIED:20180302T222938Z
UID:915-1521052200-1521055800@www.mostpoetry.org
SUMMARY:Poetry Book Club
DESCRIPTION:MoSt is pleased to announce the second installment of our Poetry Book Club! The meeting will be held on Wednesday\, March 14 from 6:30 to 7:30 at the downtown library and our featured book will be blud by Rachel McKibbens. The library will have extra copies to check out\, but the book is widely available if you’d like to get your own. Either way\, you want to read it ahead of time and be prepared for some great conversation. More details to follow\, but as usual\, this event is free and open to the public.
URL:https://www.mostpoetry.org/event/poetry-book-club-2/
LOCATION:Stanislaus County Library\, 1500 I Street\, Modesto\, CA\, 95354\, United States
CATEGORIES:Books,Other Events
ATTACH;FMTTYPE=image/jpeg:https://www.mostpoetry.org/wp-content/uploads/2017/08/MoSt-Gala-2017-0001.jpg
END:VEVENT
BEGIN:VEVENT
DTSTART;TZID=America/Los_Angeles:20180117T183000
DTEND;TZID=America/Los_Angeles:20180117T193000
DTSTAMP:20260423T133814
CREATED:20171009T220619Z
LAST-MODIFIED:20171009T220619Z
UID:817-1516213800-1516217400@www.mostpoetry.org
SUMMARY:Poetry Book Club
DESCRIPTION:MoSt is pleased to announce the start of our Poetry Book Club! Starting in January 2018\, we’ll meet four times a year and discuss a different book of poetry each time. Our first meeting will be on Wednesday\, January 17 from 6:30 to 7:30 at the downtown library and our featured book will be LOOK by Solmaz Sharif. This is the most recent Northern California Book Award winner in poetry and has been taking the poetry world by storm. The library will have extra copies to check out\, but the book is widely available if you’d like to get your own. Either way\, you want to read it ahead of time and be prepared some great conversation. More details to follow\, but as usual\, this event is free and open to the public\, and in the meantime\, you can find more here: https://solmazsharif.com/look/
URL:https://www.mostpoetry.org/event/poetry-book-club/
LOCATION:Stanislaus County Library\, 1500 I Street\, Modesto\, CA\, 95354\, United States
CATEGORIES:Books,Other Events
ATTACH;FMTTYPE=image/jpeg:https://www.mostpoetry.org/wp-content/uploads/2017/08/MoSt-Gala-2017-0001.jpg
END:VEVENT
END:VCALENDAR