BEGIN:VCALENDAR
VERSION:2.0
PRODID:-//Modesto-Stanislaus Poetry Center - ECPv6.15.13//NONSGML v1.0//EN
CALSCALE:GREGORIAN
METHOD:PUBLISH
X-WR-CALNAME:Modesto-Stanislaus Poetry Center
X-ORIGINAL-URL:https://www.mostpoetry.org
X-WR-CALDESC:Events for Modesto-Stanislaus Poetry Center
REFRESH-INTERVAL;VALUE=DURATION:PT1H
X-Robots-Tag:noindex
X-PUBLISHED-TTL:PT1H
BEGIN:VTIMEZONE
TZID:America/Los_Angeles
BEGIN:DAYLIGHT
TZOFFSETFROM:-0800
TZOFFSETTO:-0700
TZNAME:PDT
DTSTART:20120311T100000
END:DAYLIGHT
BEGIN:STANDARD
TZOFFSETFROM:-0700
TZOFFSETTO:-0800
TZNAME:PST
DTSTART:20121104T090000
END:STANDARD
BEGIN:DAYLIGHT
TZOFFSETFROM:-0800
TZOFFSETTO:-0700
TZNAME:PDT
DTSTART:20130310T100000
END:DAYLIGHT
BEGIN:STANDARD
TZOFFSETFROM:-0700
TZOFFSETTO:-0800
TZNAME:PST
DTSTART:20131103T090000
END:STANDARD
BEGIN:DAYLIGHT
TZOFFSETFROM:-0800
TZOFFSETTO:-0700
TZNAME:PDT
DTSTART:20140309T100000
END:DAYLIGHT
BEGIN:STANDARD
TZOFFSETFROM:-0700
TZOFFSETTO:-0800
TZNAME:PST
DTSTART:20141102T090000
END:STANDARD
BEGIN:DAYLIGHT
TZOFFSETFROM:-0800
TZOFFSETTO:-0700
TZNAME:PDT
DTSTART:20150308T100000
END:DAYLIGHT
BEGIN:STANDARD
TZOFFSETFROM:-0700
TZOFFSETTO:-0800
TZNAME:PST
DTSTART:20151101T090000
END:STANDARD
BEGIN:DAYLIGHT
TZOFFSETFROM:-0800
TZOFFSETTO:-0700
TZNAME:PDT
DTSTART:20160313T100000
END:DAYLIGHT
BEGIN:STANDARD
TZOFFSETFROM:-0700
TZOFFSETTO:-0800
TZNAME:PST
DTSTART:20161106T090000
END:STANDARD
BEGIN:DAYLIGHT
TZOFFSETFROM:-0800
TZOFFSETTO:-0700
TZNAME:PDT
DTSTART:20170312T100000
END:DAYLIGHT
BEGIN:STANDARD
TZOFFSETFROM:-0700
TZOFFSETTO:-0800
TZNAME:PST
DTSTART:20171105T090000
END:STANDARD
BEGIN:DAYLIGHT
TZOFFSETFROM:-0800
TZOFFSETTO:-0700
TZNAME:PDT
DTSTART:20180311T100000
END:DAYLIGHT
BEGIN:STANDARD
TZOFFSETFROM:-0700
TZOFFSETTO:-0800
TZNAME:PST
DTSTART:20181104T090000
END:STANDARD
BEGIN:DAYLIGHT
TZOFFSETFROM:-0800
TZOFFSETTO:-0700
TZNAME:PDT
DTSTART:20190310T100000
END:DAYLIGHT
BEGIN:STANDARD
TZOFFSETFROM:-0700
TZOFFSETTO:-0800
TZNAME:PST
DTSTART:20191103T090000
END:STANDARD
BEGIN:DAYLIGHT
TZOFFSETFROM:-0800
TZOFFSETTO:-0700
TZNAME:PDT
DTSTART:20200308T100000
END:DAYLIGHT
BEGIN:STANDARD
TZOFFSETFROM:-0700
TZOFFSETTO:-0800
TZNAME:PST
DTSTART:20201101T090000
END:STANDARD
END:VTIMEZONE
BEGIN:VEVENT
DTSTART;VALUE=DATE:20190308
DTEND;VALUE=DATE:20190309
DTSTAMP:20260423T150816
CREATED:20190220T010830Z
LAST-MODIFIED:20190220T011003Z
UID:1126-1552003200-1552089599@www.mostpoetry.org
SUMMARY:Poets' Corner Contest Deadline
DESCRIPTION:See Poets’ Corner contest page for details.
URL:https://www.mostpoetry.org/event/deadline-for-city-of-modesto-poets-corner-contest/
CATEGORIES:Contests,Submission Opportunities
ATTACH;FMTTYPE=image/jpeg:https://www.mostpoetry.org/wp-content/uploads/2017/08/MoSt-Gala-2017-0001.jpg
END:VEVENT
BEGIN:VEVENT
DTSTART;VALUE=DATE:20190301
DTEND;VALUE=DATE:20190302
DTSTAMP:20260423T150816
CREATED:20181115T182749Z
LAST-MODIFIED:20181115T182749Z
UID:1063-1551398400-1551484799@www.mostpoetry.org
SUMMARY:Student Chapbook Contest Deadline
DESCRIPTION:Today’s the deadline for our annual George Rogers-Lee Nicholson Student Chapbook Contest! Check out the main contest page for full details.
URL:https://www.mostpoetry.org/event/student-chapbook-contest-deadline-2/
CATEGORIES:Contests,Youth Poetry
ATTACH;FMTTYPE=image/jpeg:https://www.mostpoetry.org/wp-content/uploads/2017/08/MoSt-Gala-2017-0001.jpg
END:VEVENT
BEGIN:VEVENT
DTSTART;TZID=America/Los_Angeles:20190206T190000
DTEND;TZID=America/Los_Angeles:20190206T210000
DTSTAMP:20260423T150816
CREATED:20190114T015550Z
LAST-MODIFIED:20190114T015550Z
UID:1078-1549479600-1549486800@www.mostpoetry.org
SUMMARY:Poetry Out Loud County Competition
DESCRIPTION:Poetry Out Loud is a national poetry recitation contest for students\, sponsored by the National Endowment for the Arts and the Poetry Foundation\, and the Modesto-Stanislaus Poetry Center is proud to announce that we will be holding our county-level competition at the MJC Little Theatre on February 6th. Last year\, our county winner took third place at the state level\, so don’t miss the chance to witness this year’s contest!
URL:https://www.mostpoetry.org/event/poetry-out-loud-county-competition/
LOCATION:Little Theatre\, MJC\, 435 College Ave\, Modesto\, CA\, 95350\, United States
CATEGORIES:Contests,Readings,Youth Poetry
ATTACH;FMTTYPE=image/jpeg:https://www.mostpoetry.org/wp-content/uploads/2017/08/MoSt-Gala-2017-0001.jpg
END:VEVENT
BEGIN:VEVENT
DTSTART;TZID=America/Los_Angeles:20190202T093000
DTEND;TZID=America/Los_Angeles:20190202T160000
DTSTAMP:20260423T150816
CREATED:20181115T182159Z
LAST-MODIFIED:20190117T203907Z
UID:1059-1549099800-1549123200@www.mostpoetry.org
SUMMARY:7th Annual Modesto Poetry Festival
DESCRIPTION:We are thrilled to announce the details of our 7th Annual Modesto Poetry Festival\, coming up on February 2nd\, 2019! \nEach year in February we organize and hold an all-day poetry festival featuring workshops\, readings\, and a featured poet. This year\, we are proud to welcome back featured poet Indigo Moor\, Sacramento’s Poet Laureate\, as our guest poet and workshop leader. CLICK HERE to read more about the workshop theme. \nJoin us on Saturday\, February 2nd\, 2019 at St. Paul’s Episcopal Church in Modesto for a day of poetry\, learning\, and inspiration! Click on the image at right to download the PDF flyer\, and you can click here to download the registration form (which also has details about this year’s festival poetry contest). \nThemes for this year’s contest are 1. Here in this House; 2. What Remains; 3. The Edge of the Sea; 4. In and Out of Fashion (Life a la Mode). Submissions to the poetry contest must be postmarked by the CONTEST DEADLINE: JANUARY 11\, 2019. Please see the form for more information.
URL:https://www.mostpoetry.org/event/7th-annual-modesto-poetry-festival/
LOCATION:St. Paul’s Episcopal Church\, 1528 Oakdale Road\, Modesto\, CA\, 95355\, United States
CATEGORIES:Contests,Other Events,Readings,Workshops
ATTACH;FMTTYPE=image/jpeg:https://www.mostpoetry.org/wp-content/uploads/2018/11/2019_MoStFlyer_brdr.jpg
END:VEVENT
BEGIN:VEVENT
DTSTART;VALUE=DATE:20190111
DTEND;VALUE=DATE:20190112
DTSTAMP:20260423T150816
CREATED:20181115T182534Z
LAST-MODIFIED:20181115T182534Z
UID:1061-1547164800-1547251199@www.mostpoetry.org
SUMMARY:Poetry Festival Contest Deadline
DESCRIPTION:Today’s the postmark deadline for the poetry contest held at our annual Modesto Poetry Festival! For more information\, take a look at the main event page.
URL:https://www.mostpoetry.org/event/poetry-festival-contest-deadline/
CATEGORIES:Contests
ATTACH;FMTTYPE=image/jpeg:https://www.mostpoetry.org/wp-content/uploads/2018/11/2019_MoStFlyer_brdr.jpg
END:VEVENT
BEGIN:VEVENT
DTSTART;TZID=America/Los_Angeles:20180520T140000
DTEND;TZID=America/Los_Angeles:20180520T170000
DTSTAMP:20260423T150816
CREATED:20180302T224233Z
LAST-MODIFIED:20180302T224233Z
UID:932-1526824800-1526835600@www.mostpoetry.org
SUMMARY:Aileen Jaffa Poetry Contest Awards Ceremony
DESCRIPTION:Come join us at the Carnegie Arts Center in Turlock for the Awards Ceremony for this year’s Aileen Jaffa Young Poets Contest! First\, second and third place winners in each category will receive cash awards from the MoSt Poetry Center. Prizes are: First Place $25\, Second Place $15\, Third Place $10. In addition\, the Modesto Branch of the National League of American Pen Women will award a $60 Aileen Jaffa Outstanding Poem award in each of two combined categories\, Categories 1 and 2\, and Categories 3 and 4. The current president of the NLAPW Modesto chapter will present the awards\, and you’ll get to hear a reading featuring the winning poems.
URL:https://www.mostpoetry.org/event/aileen-jaffa-poetry-contest-awards-ceremony-2/
LOCATION:Carnegie Arts Center\, Gemperle Gallery\, 250 N. Broadway Ave.\, Turlock\, CA\, United States
CATEGORIES:Contests,Poetry on Sunday Series,Readings
ATTACH;FMTTYPE=image/jpeg:https://www.mostpoetry.org/wp-content/uploads/2018/03/May2018CarnegieFlyer.jpg
END:VEVENT
BEGIN:VEVENT
DTSTART;TZID=America/Los_Angeles:20180207T180000
DTEND;TZID=America/Los_Angeles:20180207T200000
DTSTAMP:20260423T150816
CREATED:20180105T013334Z
LAST-MODIFIED:20180130T223635Z
UID:891-1518026400-1518033600@www.mostpoetry.org
SUMMARY:Poetry Out Loud County Finals
DESCRIPTION:MoSt is coordinating the county competiton of the Poetry Out Loud contest\, a national recitation contest for high school students. The county competition will be held at MJC on Feb. 7 at 6:00. If you are interested in participating as a judge or just coming to see these talented students perform amazing poetry\, please email us at info@mostpoetry.org.
URL:https://www.mostpoetry.org/event/poetry-out-loud-county-finals/
CATEGORIES:Contests,Other Events,Readings
ATTACH;FMTTYPE=image/jpeg:https://www.mostpoetry.org/wp-content/uploads/2018/01/poetryoutloud.jpg
END:VEVENT
BEGIN:VEVENT
DTSTART;TZID=America/Los_Angeles:20180203T093000
DTEND;TZID=America/Los_Angeles:20180203T160000
DTSTAMP:20260423T150816
CREATED:20171102T183237Z
LAST-MODIFIED:20171102T183237Z
UID:834-1517650200-1517673600@www.mostpoetry.org
SUMMARY:6th Annual Modesto Poetry Festival
DESCRIPTION:We are thrilled to announce the details of our 6th Annual Modesto Poetry Festival\, coming up on February 3rd! \nEach year in February we organize and hold an all-day poetry festival featuring workshops\, readings\, and a featured poet. This year\, we are proud to welcome featured poet William O’Daly as our guest poet and workshop leader. \nJoin us on Saturday\, February 4th\, 2017 at St. Paul’s Episcopal Church in Modesto for a day of poetry\, learning\, and inspiration! Click on the image at right to download the PDF flyer\, and you can click here to download the registration form (which also has details about this year’s festival poetry contest). \nThemes for this year’s contest are 1. Arrivals and Departures; 2. The Disappearance of Things; 3. Empty Spaces; 4. Inheritances. Submissions to the poetry contest must be postmarked by the CONTEST DEADLINE: JANUARY 11\, 2018. Please see the form for more information.
URL:https://www.mostpoetry.org/event/6th-annual-modesto-poetry-festival/
LOCATION:St. Paul’s Episcopal Church\, 1528 Oakdale Road\, Modesto\, CA\, 95355\, United States
CATEGORIES:Contests,Other Events,Readings,Workshops
ATTACH;FMTTYPE=image/jpeg:https://www.mostpoetry.org/wp-content/uploads/2017/08/MoSt-Gala-2017-0001.jpg
END:VEVENT
BEGIN:VEVENT
DTSTART;TZID=America/Los_Angeles:20170521T140000
DTEND;TZID=America/Los_Angeles:20170521T160000
DTSTAMP:20260423T150816
CREATED:20170311T024555Z
LAST-MODIFIED:20170311T024555Z
UID:694-1495375200-1495382400@www.mostpoetry.org
SUMMARY:Aileen Jaffa Poetry Contest Awards Ceremony
DESCRIPTION:Come join us at the Carnegie Arts Center in Turlock for the Awards Ceremony for this year’s Aileen Jaffa Young Poets Contest! First\, second and third place winners in each category will receive cash awards from the MoSt Poetry Center. Prizes are: First Place $25\, Second Place $15\, Third Place $10. In addition\, the Modesto Branch of the National League of American Pen Women will award a $60 Aileen Jaffa Outstanding Poem award in each of two combined categories\, Categories 1 and 2\, and Categories 3 and 4. The current president of the NLAPW Modesto chapter will present the awards\, and you’ll get to hear a reading featuring the winning poems.
URL:https://www.mostpoetry.org/event/aileen-jaffa-poetry-contest-awards-ceremony/
LOCATION:Carnegie Arts Center\, 250 N. Broadway\, Turlock\, CA\, 95380\, United States
CATEGORIES:Contests,Readings
ATTACH;FMTTYPE=image/jpeg:https://www.mostpoetry.org/wp-content/uploads/2017/08/MoSt-Gala-2017-0001.jpg
END:VEVENT
BEGIN:VEVENT
DTSTART;VALUE=DATE:20170414
DTEND;VALUE=DATE:20170415
DTSTAMP:20260423T150816
CREATED:20170311T024339Z
LAST-MODIFIED:20170311T024339Z
UID:692-1492128000-1492214399@www.mostpoetry.org
SUMMARY:Aileen Jaffa Young Poets Contest Deadline
DESCRIPTION:Today is the postmark deadline. Please see the Aileen Jaffa contest page for more information!
URL:https://www.mostpoetry.org/event/aileen-jaffa-young-poets-contest-deadline/
CATEGORIES:Contests,Submission Opportunities
ATTACH;FMTTYPE=image/jpeg:https://www.mostpoetry.org/wp-content/uploads/2017/08/MoSt-Gala-2017-0001.jpg
END:VEVENT
BEGIN:VEVENT
DTSTART;TZID=America/Los_Angeles:20170204T093000
DTEND;TZID=America/Los_Angeles:20170204T160000
DTSTAMP:20260423T150816
CREATED:20160927T204301Z
LAST-MODIFIED:20160927T204301Z
UID:630-1486200600-1486224000@www.mostpoetry.org
SUMMARY:5th Annual Modesto Poetry Festival
DESCRIPTION:Each year in February we organize and hold an all-day poetry festival featuring workshops\, readings\, and a featured poet. This year\, we are proud to welcome featured poet Susan Wooldridge as our guest poet and workshop leader. \nJoin us on Saturday\, February 4th\, 2017 at St. Paul’s Episcopal Church in Modesto for a day of poetry\, learning\, and inspiration! Click on the image at right to download the PDF flyer\, and you can click here to download the registration form (which also has details about this year’s festival poetry contest). \nThemes for this year’s contest are 1. Across the Generations; 2. Rivers and Streams; 3. Fault Lines; 4. Polarities / Attractions. Submissions to the poetry contest must be postmarked by the CONTEST DEADLINE: JANUARY 11\, 2017. Please see the form for more information. \nSave
URL:https://www.mostpoetry.org/event/5th-annual-modesto-poetry-festival/
LOCATION:St. Paul’s Episcopal Church\, 1528 Oakdale Road\, Modesto\, CA\, 95355\, United States
CATEGORIES:Contests,Other Events,Readings,Workshops
ATTACH;FMTTYPE=image/jpeg:https://www.mostpoetry.org/wp-content/uploads/2017/08/MoSt-Gala-2017-0001.jpg
END:VEVENT
BEGIN:VEVENT
DTSTART;VALUE=DATE:20170101
DTEND;VALUE=DATE:20170102
DTSTAMP:20260423T150816
CREATED:20160917T195159Z
LAST-MODIFIED:20161207T192209Z
UID:616-1483228800-1483315199@www.mostpoetry.org
SUMMARY:Student Chapbook Contest Deadline
DESCRIPTION:EDITED: The deadline has been extended to January 1st! \nToday is the deadline for our first annual Lee Nicholson-George Rogers Award! Read more about the contest here.
URL:https://www.mostpoetry.org/event/student-chapbook-contest-deadline/
CATEGORIES:Contests,Submission Opportunities
ATTACH;FMTTYPE=image/jpeg:https://www.mostpoetry.org/wp-content/uploads/2017/08/MoSt-Gala-2017-0001.jpg
END:VEVENT
BEGIN:VEVENT
DTSTART;TZID=America/Los_Angeles:20160522T140000
DTEND;TZID=America/Los_Angeles:20160522T160000
DTSTAMP:20260423T150816
CREATED:20160425T185301Z
LAST-MODIFIED:20160425T185432Z
UID:523-1463925600-1463932800@www.mostpoetry.org
SUMMARY:Poetry on Sunday @ Carnegie
DESCRIPTION:This very special reading will feature the winning youth poets from the Aileen Jaffa Poetry Contest\, administered by MoSt and the Modesto Chapter of the National League of American Pen Women. Please join us! Download the PDF flyer here. \nRead more about the competition on our Contests page.
URL:https://www.mostpoetry.org/event/poetry-on-sunday-carnegie/
LOCATION:Carnegie Arts Center\, Gemperle Gallery\, 250 N. Broadway Ave.\, Turlock\, CA\, United States
CATEGORIES:Contests,Poetry on Sunday Series,Readings
ATTACH;FMTTYPE=image/jpeg:https://www.mostpoetry.org/wp-content/uploads/2017/08/MoSt-Gala-2017-0001.jpg
END:VEVENT
BEGIN:VEVENT
DTSTART;VALUE=DATE:20160415
DTEND;VALUE=DATE:20160416
DTSTAMP:20260423T150816
CREATED:20160130T204404Z
LAST-MODIFIED:20160130T204404Z
UID:478-1460678400-1460764799@www.mostpoetry.org
SUMMARY:Deadline: Aileen Jaffa Young Poets Contest
DESCRIPTION:This contest is offered as a means of encouraging young writers throughout Stanislaus County and as a way to remember poet Aileen Jaffa\, the founding President of the Poets of the San Joaquin and member of the Modesto Branch of the National League of American Pen Women. \nAny student enrolled in a Stanislaus County school\, grades K through 12\, is eligible to submit up to 3 entries\, at $1 per entry. Read more and download the entry form on the Contest Page.
URL:https://www.mostpoetry.org/event/deadline-aileen-jaffa-young-poets-contest/
CATEGORIES:Contests
ATTACH;FMTTYPE=image/jpeg:https://www.mostpoetry.org/wp-content/uploads/2017/08/MoSt-Gala-2017-0001.jpg
END:VEVENT
BEGIN:VEVENT
DTSTART;VALUE=DATE:20160311
DTEND;VALUE=DATE:20160312
DTSTAMP:20260423T150816
CREATED:20151208T040639Z
LAST-MODIFIED:20151208T040639Z
UID:452-1457654400-1457740799@www.mostpoetry.org
SUMMARY:Deadline: Poets' Corner Contest
DESCRIPTION:March 11th is the deadline for this year’s Modesto Poets’ Corner contest! The guidelines are up at https://www.modestogov.com/prnd/poet_corner.asp. Share the link and let everyone and their parents know that this contest is out there!
URL:https://www.mostpoetry.org/event/deadline-poets-corner-contest/
CATEGORIES:Contests,Submission Opportunities
ATTACH;FMTTYPE=image/jpeg:https://www.mostpoetry.org/wp-content/uploads/2017/08/MoSt-Gala-2017-0001.jpg
END:VEVENT
BEGIN:VEVENT
DTSTART;TZID=America/Los_Angeles:20160206T090000
DTEND;TZID=America/Los_Angeles:20160206T160000
DTSTAMP:20260423T150816
CREATED:20151031T211755Z
LAST-MODIFIED:20151101T003149Z
UID:442-1454749200-1454774400@www.mostpoetry.org
SUMMARY:Fourth Annual Modesto Poetry Festival with Troy Jollimore and Heather Altfeld
DESCRIPTION:The Modesto-Stanislaus Poetry Center is proud to announce its 4th Annual Poetry Festival featuring workshops with special guests Troy Jollimore and Heather Altfeld\, luncheon\, and poetry contest. 9:30 am – 4 pm at St. Paul’s Episcopal Church\, 1528 Oakdale Road\, Modesto. \n$30 for MoSt members; $35 for non-members. (Hint: you should join.) \n*Participants are encouraged to pre-register\, but may register at the door. Doors open at 9 am.For questions about the festival\, please email info@mostpoetry.org. For questions concerning the poetry contest\, please email Louise Kantro at kantro@sbcglobal.net. \nSee our flier and contest/registration forms.
URL:https://www.mostpoetry.org/event/modesto-poetry-fest-featuring-troy-jollimore-and-heather-altfeld/
LOCATION:St. Paul’s Episcopal Church\, 1528 Oakdale Road\, Modesto\, CA\, 95355\, United States
CATEGORIES:Contests,Other Events,Readings
ATTACH;FMTTYPE=image/jpeg:https://www.mostpoetry.org/wp-content/uploads/2017/08/MoSt-Gala-2017-0001.jpg
END:VEVENT
BEGIN:VEVENT
DTSTART;VALUE=DATE:20150504
DTEND;VALUE=DATE:20150505
DTSTAMP:20260423T150816
CREATED:20150423T173803Z
LAST-MODIFIED:20150423T173803Z
UID:292-1430697600-1430783999@www.mostpoetry.org
SUMMARY:Writer's Digest Poetry Contest - Early Bird Deadline
DESCRIPTION:WD’s Annual Writing Competition has an early-bird deadline on May 4th–if you enter by May 4th\, the entry fee is lower! Rules and information here.
URL:https://www.mostpoetry.org/event/writers-digest-poetry-contest-early-bird-deadline/
CATEGORIES:Contests,Submission Opportunities
ATTACH;FMTTYPE=image/jpeg:https://www.mostpoetry.org/wp-content/uploads/2017/08/MoSt-Gala-2017-0001.jpg
END:VEVENT
BEGIN:VEVENT
DTSTART;VALUE=DATE:20140412
DTEND;VALUE=DATE:20140413
DTSTAMP:20260423T150816
CREATED:20140402T015727Z
LAST-MODIFIED:20140402T015727Z
UID:137-1397260800-1397347199@www.mostpoetry.org
SUMMARY:Deadline: 19th Annual Aileen Jaffa Poetry Contest
DESCRIPTION:The 19th Annual Aileen Jaffa Poetry Contest is underway. This contest is for students living in or attending school in Stanislaus County. The deadline is April 12. Forms are available at county schools\, McHenry Museum\, the Mistlin Gallery\, the downtown Modesto library\, or the Salida library. For more information contact Cleo at cleor36@yahoo.com.
URL:https://www.mostpoetry.org/event/19th-jaffa-poetry-contest/
CATEGORIES:Contests,Submission Opportunities
ATTACH;FMTTYPE=image/jpeg:https://www.mostpoetry.org/wp-content/uploads/2017/08/MoSt-Gala-2017-0001.jpg
END:VEVENT
BEGIN:VEVENT
DTSTART;VALUE=DATE:20131220
DTEND;VALUE=DATE:20131221
DTSTAMP:20260423T150816
CREATED:20131204T204742Z
LAST-MODIFIED:20131204T204742Z
UID:99-1387497600-1387583999@www.mostpoetry.org
SUMMARY:Contest Submissions Due for MoSt Poetry Festival
DESCRIPTION:Contest submissions to the MoSt Poetry Festival are due! And even if you don’t send poems for the contest\, sign up to come the festival. It will feature poet Patrice Vecchione doing a workshop\, poet Gary Thomas doing another workshop\, a lovely lunch\, winning poems\, and lots of poetic camaraderie. An excellent flier with all kinds of good info is attached for your convenience: MoSt Poetry Festival flier. We’d love to see you there!
URL:https://www.mostpoetry.org/event/contest-submissions-due-for-most-poetry-festival/
CATEGORIES:Contests
ATTACH;FMTTYPE=image/jpeg:https://www.mostpoetry.org/wp-content/uploads/2017/08/MoSt-Gala-2017-0001.jpg
END:VEVENT
BEGIN:VEVENT
DTSTART;VALUE=DATE:20131213
DTEND;VALUE=DATE:20131214
DTSTAMP:20260423T150816
CREATED:20131204T204316Z
LAST-MODIFIED:20131204T204316Z
UID:98-1386892800-1386979199@www.mostpoetry.org
SUMMARY:Quercus Review Annual Book Award Contest Deadline
DESCRIPTION:Today is the last day to get your manuscripts in to the Quercus Review Annual Book Award contest. Guidelines can be found here: http://quercusreviewpress.com/2013/06/22/annual-book-award-2013/
URL:https://www.mostpoetry.org/event/quercus-review-annual-book-award-contest-deadline/
CATEGORIES:Contests,Submission Opportunities
ATTACH;FMTTYPE=image/jpeg:https://www.mostpoetry.org/wp-content/uploads/2017/08/MoSt-Gala-2017-0001.jpg
END:VEVENT
END:VCALENDAR