BEGIN:VCALENDAR
VERSION:2.0
PRODID:-//Modesto-Stanislaus Poetry Center - ECPv6.15.13//NONSGML v1.0//EN
CALSCALE:GREGORIAN
METHOD:PUBLISH
X-WR-CALNAME:Modesto-Stanislaus Poetry Center
X-ORIGINAL-URL:https://www.mostpoetry.org
X-WR-CALDESC:Events for Modesto-Stanislaus Poetry Center
REFRESH-INTERVAL;VALUE=DURATION:PT1H
X-Robots-Tag:noindex
X-PUBLISHED-TTL:PT1H
BEGIN:VTIMEZONE
TZID:America/Los_Angeles
BEGIN:DAYLIGHT
TZOFFSETFROM:-0800
TZOFFSETTO:-0700
TZNAME:PDT
DTSTART:20120311T100000
END:DAYLIGHT
BEGIN:STANDARD
TZOFFSETFROM:-0700
TZOFFSETTO:-0800
TZNAME:PST
DTSTART:20121104T090000
END:STANDARD
BEGIN:DAYLIGHT
TZOFFSETFROM:-0800
TZOFFSETTO:-0700
TZNAME:PDT
DTSTART:20130310T100000
END:DAYLIGHT
BEGIN:STANDARD
TZOFFSETFROM:-0700
TZOFFSETTO:-0800
TZNAME:PST
DTSTART:20131103T090000
END:STANDARD
BEGIN:DAYLIGHT
TZOFFSETFROM:-0800
TZOFFSETTO:-0700
TZNAME:PDT
DTSTART:20140309T100000
END:DAYLIGHT
BEGIN:STANDARD
TZOFFSETFROM:-0700
TZOFFSETTO:-0800
TZNAME:PST
DTSTART:20141102T090000
END:STANDARD
BEGIN:DAYLIGHT
TZOFFSETFROM:-0800
TZOFFSETTO:-0700
TZNAME:PDT
DTSTART:20150308T100000
END:DAYLIGHT
BEGIN:STANDARD
TZOFFSETFROM:-0700
TZOFFSETTO:-0800
TZNAME:PST
DTSTART:20151101T090000
END:STANDARD
BEGIN:DAYLIGHT
TZOFFSETFROM:-0800
TZOFFSETTO:-0700
TZNAME:PDT
DTSTART:20160313T100000
END:DAYLIGHT
BEGIN:STANDARD
TZOFFSETFROM:-0700
TZOFFSETTO:-0800
TZNAME:PST
DTSTART:20161106T090000
END:STANDARD
BEGIN:DAYLIGHT
TZOFFSETFROM:-0800
TZOFFSETTO:-0700
TZNAME:PDT
DTSTART:20170312T100000
END:DAYLIGHT
BEGIN:STANDARD
TZOFFSETFROM:-0700
TZOFFSETTO:-0800
TZNAME:PST
DTSTART:20171105T090000
END:STANDARD
BEGIN:DAYLIGHT
TZOFFSETFROM:-0800
TZOFFSETTO:-0700
TZNAME:PDT
DTSTART:20180311T100000
END:DAYLIGHT
BEGIN:STANDARD
TZOFFSETFROM:-0700
TZOFFSETTO:-0800
TZNAME:PST
DTSTART:20181104T090000
END:STANDARD
BEGIN:DAYLIGHT
TZOFFSETFROM:-0800
TZOFFSETTO:-0700
TZNAME:PDT
DTSTART:20190310T100000
END:DAYLIGHT
BEGIN:STANDARD
TZOFFSETFROM:-0700
TZOFFSETTO:-0800
TZNAME:PST
DTSTART:20191103T090000
END:STANDARD
BEGIN:DAYLIGHT
TZOFFSETFROM:-0800
TZOFFSETTO:-0700
TZNAME:PDT
DTSTART:20200308T100000
END:DAYLIGHT
BEGIN:STANDARD
TZOFFSETFROM:-0700
TZOFFSETTO:-0800
TZNAME:PST
DTSTART:20201101T090000
END:STANDARD
END:VTIMEZONE
BEGIN:VEVENT
DTSTART;TZID=America/Los_Angeles:20190905T183000
DTEND;TZID=America/Los_Angeles:20190905T193000
DTSTAMP:20260423T170855
CREATED:20190808T031002Z
LAST-MODIFIED:20190808T031002Z
UID:1200-1567708200-1567711800@www.mostpoetry.org
SUMMARY:MoSt Board Meeting
DESCRIPTION:Our next MoSt Poetry Board meeting will be held on Thursday\, September 5th\, at 6:30 pm at the house of one of our members. If you are interested in attending\, please email info@mostpoetry.org for more information.
URL:https://www.mostpoetry.org/event/most-board-meeting-8-2019/
CATEGORIES:Board Meetings
ATTACH;FMTTYPE=image/jpeg:https://www.mostpoetry.org/wp-content/uploads/2017/08/MoSt-Gala-2017-0001.jpg
END:VEVENT
BEGIN:VEVENT
DTSTART;TZID=America/Los_Angeles:20190801T183000
DTEND;TZID=America/Los_Angeles:20190801T193000
DTSTAMP:20260423T170855
CREATED:20190724T213335Z
LAST-MODIFIED:20190724T213335Z
UID:1195-1564684200-1564687800@www.mostpoetry.org
SUMMARY:MoSt Board Meeting
DESCRIPTION:Our next MoSt Poetry Board meeting will be held on Thursday\, August 1st\, at 6:30 pm at the house of one of our members. If you are interested in attending\, please email info@mostpoetry.org for more information.
URL:https://www.mostpoetry.org/event/most-board-meeting-15/
CATEGORIES:Board Meetings
ATTACH;FMTTYPE=image/jpeg:https://www.mostpoetry.org/wp-content/uploads/2017/08/MoSt-Gala-2017-0001.jpg
END:VEVENT
BEGIN:VEVENT
DTSTART;TZID=America/Los_Angeles:20190714T150000
DTEND;TZID=America/Los_Angeles:20190714T170000
DTSTAMP:20260423T170855
CREATED:20190609T202416Z
LAST-MODIFIED:20190609T202416Z
UID:1178-1563116400-1563123600@www.mostpoetry.org
SUMMARY:Potluck and Annual Meeting
DESCRIPTION:Our annual meeting is coming right up and all members are invited. We’ll have the meeting at 3:00 and a potluck dinner at 4:00. Come here about next year’s plans and all the inner workings of MoSt\, and of course\, we’d love any member input as well. The get-together will be held at a member’s home in Modesto on Sunday\, July 14. You are welcome to come just for the meeting or just for the potluck or for both\, but we’d be so happy to have you join us.  Please email Gillian at info@mostpoetry.org if you’d like more information.
URL:https://www.mostpoetry.org/event/potluck-and-annual-meeting/
CATEGORIES:Board Meetings,Other Events
ATTACH;FMTTYPE=image/jpeg:https://www.mostpoetry.org/wp-content/uploads/2017/08/MoSt-Gala-2017-0001.jpg
END:VEVENT
BEGIN:VEVENT
DTSTART;TZID=America/Los_Angeles:20190502T183000
DTEND;TZID=America/Los_Angeles:20190502T193000
DTSTAMP:20260423T170855
CREATED:20190321T181759Z
LAST-MODIFIED:20190321T181759Z
UID:1137-1556821800-1556825400@www.mostpoetry.org
SUMMARY:MoSt Board Meeting
DESCRIPTION:Our next MoSt Poetry Board meeting will be held on Thursday\, May 2nd\, at 6:30 pm at the house of one of our members. If you are interested in attending\, please email info@mostpoetry.org for more information.
URL:https://www.mostpoetry.org/event/most-board-meeting-14/
CATEGORIES:Board Meetings
ATTACH;FMTTYPE=image/jpeg:https://www.mostpoetry.org/wp-content/uploads/2017/08/MoSt-Gala-2017-0001.jpg
END:VEVENT
BEGIN:VEVENT
DTSTART;TZID=America/Los_Angeles:20190404T183000
DTEND;TZID=America/Los_Angeles:20190404T193000
DTSTAMP:20260423T170855
CREATED:20190321T180539Z
LAST-MODIFIED:20190321T180539Z
UID:1130-1554402600-1554406200@www.mostpoetry.org
SUMMARY:MoSt Board Meeting
DESCRIPTION:Our next MoSt Poetry Board meeting will be held on Thursday\, April 4th\, at 6:30 pm at the house of one of our members. If you are interested in attending\, please email info@mostpoetry.org for more information.
URL:https://www.mostpoetry.org/event/most-board-meeting-4-2019/
CATEGORIES:Board Meetings
ATTACH;FMTTYPE=image/jpeg:https://www.mostpoetry.org/wp-content/uploads/2017/08/MoSt-Gala-2017-0001.jpg
END:VEVENT
BEGIN:VEVENT
DTSTART;TZID=America/Los_Angeles:20190307T183000
DTEND;TZID=America/Los_Angeles:20190307T193000
DTSTAMP:20260423T170855
CREATED:20190206T222322Z
LAST-MODIFIED:20190206T222322Z
UID:1102-1551983400-1551987000@www.mostpoetry.org
SUMMARY:MoSt Board Meeting
DESCRIPTION:Our next MoSt Poetry Board meeting will be held on Thursday\, March 7th\, at 6:30 pm at the house of one of our members. If you are interested in attending\, please email info@mostpoetry.org for more information.
URL:https://www.mostpoetry.org/event/most-board-meeting-13/
CATEGORIES:Board Meetings
ATTACH;FMTTYPE=image/jpeg:https://www.mostpoetry.org/wp-content/uploads/2017/08/MoSt-Gala-2017-0001.jpg
END:VEVENT
BEGIN:VEVENT
DTSTART;TZID=America/Los_Angeles:20190207T183000
DTEND;TZID=America/Los_Angeles:20190207T193000
DTSTAMP:20260423T170855
CREATED:20190114T015724Z
LAST-MODIFIED:20190114T015724Z
UID:1081-1549564200-1549567800@www.mostpoetry.org
SUMMARY:MoSt Board Meeting
DESCRIPTION:Our next Board meeting will be held on February 7th at 6:30 pm. If you are interested in attending\, please contact us at info@mostpoetry.org.
URL:https://www.mostpoetry.org/event/most-board-meeting-12/
CATEGORIES:Board Meetings
ATTACH;FMTTYPE=image/jpeg:https://www.mostpoetry.org/wp-content/uploads/2017/08/MoSt-Gala-2017-0001.jpg
END:VEVENT
BEGIN:VEVENT
DTSTART;TZID=America/Los_Angeles:20180802T183000
DTEND;TZID=America/Los_Angeles:20180802T193000
DTSTAMP:20260423T170855
CREATED:20180607T205135Z
LAST-MODIFIED:20180607T205135Z
UID:992-1533234600-1533238200@www.mostpoetry.org
SUMMARY:MoSt Board Meeting
DESCRIPTION:Our next regular Board meeting will be held on August 2nd at a member’s home–Board members stay tuned for more information. If you are interested in attending\, please contact info@mostpoetry.org
URL:https://www.mostpoetry.org/event/most-board-meeting-11/
CATEGORIES:Board Meetings
ATTACH;FMTTYPE=image/jpeg:https://www.mostpoetry.org/wp-content/uploads/2017/08/MoSt-Gala-2017-0001.jpg
END:VEVENT
BEGIN:VEVENT
DTSTART;TZID=America/Los_Angeles:20180712T160000
DTEND;TZID=America/Los_Angeles:20180712T180000
DTSTAMP:20260423T170855
CREATED:20180607T204643Z
LAST-MODIFIED:20180607T204643Z
UID:987-1531411200-1531418400@www.mostpoetry.org
SUMMARY:MoSt Annual Meeting
DESCRIPTION:The annual meeting of the Modesto-Stanislaus Poetry Center will be held on July 12th at a member’s home in Modesto. All members and interested poetry friends are welcome to attend. The meeting starts at 4:00\, with a potluck dinner at 5:00. Mark your calendars and join us!  Email us at info@mostpoetry.org for more information.
URL:https://www.mostpoetry.org/event/most-annual-meeting/
CATEGORIES:Board Meetings,Other Events
ATTACH;FMTTYPE=image/jpeg:https://www.mostpoetry.org/wp-content/uploads/2017/08/MoSt-Gala-2017-0001.jpg
END:VEVENT
BEGIN:VEVENT
DTSTART;TZID=America/Los_Angeles:20180503T183000
DTEND;TZID=America/Los_Angeles:20180503T200000
DTSTAMP:20260423T170855
CREATED:20180302T223629Z
LAST-MODIFIED:20180302T223629Z
UID:930-1525372200-1525377600@www.mostpoetry.org
SUMMARY:MoSt Board Meeting
DESCRIPTION:Our next Board meeting is Thursday\, May 3rd at 6:30–email info@mostpoetry.org for more information!
URL:https://www.mostpoetry.org/event/most-board-meeting-10/
CATEGORIES:Board Meetings
ATTACH;FMTTYPE=image/jpeg:https://www.mostpoetry.org/wp-content/uploads/2017/08/MoSt-Gala-2017-0001.jpg
END:VEVENT
BEGIN:VEVENT
DTSTART;TZID=America/Los_Angeles:20180405T183000
DTEND;TZID=America/Los_Angeles:20180405T200000
DTSTAMP:20260423T170855
CREATED:20180302T223124Z
LAST-MODIFIED:20180302T223124Z
UID:923-1522953000-1522958400@www.mostpoetry.org
SUMMARY:MoSt Board Meeting
DESCRIPTION:Our next Board meeting is Thursday\, April 5th at 6:30–email info@mostpoetry.org for more information!
URL:https://www.mostpoetry.org/event/most-board-meeting-9/
CATEGORIES:Board Meetings
ATTACH;FMTTYPE=image/jpeg:https://www.mostpoetry.org/wp-content/uploads/2017/08/MoSt-Gala-2017-0001.jpg
END:VEVENT
BEGIN:VEVENT
DTSTART;TZID=America/Los_Angeles:20180104T183000
DTEND;TZID=America/Los_Angeles:20180104T193000
DTSTAMP:20260423T170855
CREATED:20180101T212131Z
LAST-MODIFIED:20180101T212131Z
UID:856-1515090600-1515094200@www.mostpoetry.org
SUMMARY:MoSt Board Meeting
DESCRIPTION:Our next Board meeting is Thursday\, January 4th at 6:30 at Sal Salerno’s home–email info@mostpoetry.org for more information!
URL:https://www.mostpoetry.org/event/most-board-meeting-jan2018/
CATEGORIES:Board Meetings
ATTACH;FMTTYPE=image/jpeg:https://www.mostpoetry.org/wp-content/uploads/2017/08/MoSt-Gala-2017-0001.jpg
END:VEVENT
BEGIN:VEVENT
DTSTART;TZID=America/Los_Angeles:20171207T183000
DTEND;TZID=America/Los_Angeles:20171207T193000
DTSTAMP:20260423T170855
CREATED:20171118T183941Z
LAST-MODIFIED:20171118T183941Z
UID:850-1512671400-1512675000@www.mostpoetry.org
SUMMARY:MoSt Board Meeting
DESCRIPTION:Our next Board meeting is Thursday\, December 7th at 6:30 at Sal Salerno’s home–email info@mostpoetry.org for more information!
URL:https://www.mostpoetry.org/event/most-board-meeting-8/
CATEGORIES:Board Meetings
ATTACH;FMTTYPE=image/jpeg:https://www.mostpoetry.org/wp-content/uploads/2017/08/MoSt-Gala-2017-0001.jpg
END:VEVENT
BEGIN:VEVENT
DTSTART;TZID=America/Los_Angeles:20170803T183000
DTEND;TZID=America/Los_Angeles:20170803T200000
DTSTAMP:20260423T170855
CREATED:20170712T233845Z
LAST-MODIFIED:20170712T233845Z
UID:743-1501785000-1501790400@www.mostpoetry.org
SUMMARY:MoSt Board Meeting
DESCRIPTION:Our next Board meeting is Thursday\, August 3 at 6:30 at Tom Portwood’s home–email info@mostpoetry.org for more information!
URL:https://www.mostpoetry.org/event/most-board-meeting-7/
CATEGORIES:Board Meetings
ATTACH;FMTTYPE=image/jpeg:https://www.mostpoetry.org/wp-content/uploads/2017/08/MoSt-Gala-2017-0001.jpg
END:VEVENT
BEGIN:VEVENT
DTSTART;TZID=America/Los_Angeles:20170625T150000
DTEND;TZID=America/Los_Angeles:20170625T160000
DTSTAMP:20260423T170855
CREATED:20170621T194445Z
LAST-MODIFIED:20170621T194445Z
UID:729-1498402800-1498406400@www.mostpoetry.org
SUMMARY:Annual General Meeting
DESCRIPTION:Join us for our open Annual Meeting and potluck and find out how you can get involved in promoting poetry in our community! For more information\, email info@mostpoetry.org
URL:https://www.mostpoetry.org/event/annual-general-meeting/
CATEGORIES:Board Meetings
ATTACH;FMTTYPE=image/jpeg:https://www.mostpoetry.org/wp-content/uploads/2017/08/MoSt-Gala-2017-0001.jpg
END:VEVENT
BEGIN:VEVENT
DTSTART;TZID=America/Los_Angeles:20170119T183000
DTEND;TZID=America/Los_Angeles:20170119T193000
DTSTAMP:20260423T170855
CREATED:20170107T204703Z
LAST-MODIFIED:20170107T204703Z
UID:668-1484850600-1484854200@www.mostpoetry.org
SUMMARY:MoSt Board Meeting
DESCRIPTION:Our next Board meeting is Thursday\, Jan. 19 at 6:30 at Tom Portwood’s home–email info@mostpoetry.org for more information!
URL:https://www.mostpoetry.org/event/most-board-meeting-6/
CATEGORIES:Board Meetings
ATTACH;FMTTYPE=image/jpeg:https://www.mostpoetry.org/wp-content/uploads/2017/08/MoSt-Gala-2017-0001.jpg
END:VEVENT
BEGIN:VEVENT
DTSTART;TZID=America/Los_Angeles:20161026T183000
DTEND;TZID=America/Los_Angeles:20161026T200000
DTSTAMP:20260423T170855
CREATED:20161025T220208Z
LAST-MODIFIED:20161025T220208Z
UID:648-1477506600-1477512000@www.mostpoetry.org
SUMMARY:MoSt Board Meeting
DESCRIPTION:Our next Board meeting is scheduled for Wednesday\, October 26th\, at 6:30 pm at Tom Portwood’s home. Please contact info@mostpoetry.org for more information\, if you would like to attend. All members are welcome.
URL:https://www.mostpoetry.org/event/most-board-meeting-5/
CATEGORIES:Board Meetings
ATTACH;FMTTYPE=image/jpeg:https://www.mostpoetry.org/wp-content/uploads/2017/08/MoSt-Gala-2017-0001.jpg
END:VEVENT
BEGIN:VEVENT
DTSTART;TZID=America/Los_Angeles:20160929T183000
DTEND;TZID=America/Los_Angeles:20160929T200000
DTSTAMP:20260423T170855
CREATED:20160927T204534Z
LAST-MODIFIED:20160927T204534Z
UID:632-1475173800-1475179200@www.mostpoetry.org
SUMMARY:MoSt Board Meeting
DESCRIPTION:Join us at Tom Portwood’s home for our next Board meeting! All interested MoSt members may attend. For more information\, contact us at info@mostpoetry.org
URL:https://www.mostpoetry.org/event/most-board-meeting-4/
CATEGORIES:Board Meetings
ATTACH;FMTTYPE=image/jpeg:https://www.mostpoetry.org/wp-content/uploads/2017/08/MoSt-Gala-2017-0001.jpg
END:VEVENT
BEGIN:VEVENT
DTSTART;TZID=America/Los_Angeles:20160428T183000
DTEND;TZID=America/Los_Angeles:20160428T200000
DTSTAMP:20260423T170855
CREATED:20160425T185601Z
LAST-MODIFIED:20160425T185601Z
UID:526-1461868200-1461873600@www.mostpoetry.org
SUMMARY:MoSt Board Meeting
DESCRIPTION:Our next Board Meeting is scheduled for April 28 at 6:30 at Tom Portwood’s home. Please contact us at info (at) mostpoetry.org for more information about attending.
URL:https://www.mostpoetry.org/event/most-board-meeting-3/
CATEGORIES:Board Meetings
ATTACH;FMTTYPE=image/jpeg:https://www.mostpoetry.org/wp-content/uploads/2017/08/MoSt-Gala-2017-0001.jpg
END:VEVENT
BEGIN:VEVENT
DTSTART;TZID=America/Los_Angeles:20160225T183000
DTEND;TZID=America/Los_Angeles:20160225T193000
DTSTAMP:20260423T170855
CREATED:20160222T230031Z
LAST-MODIFIED:20160222T230031Z
UID:488-1456425000-1456428600@www.mostpoetry.org
SUMMARY:MoSt Board Meeting
DESCRIPTION:We will be having a Board meeting on Thursday\, Feb. 25 at 6:30 p.m. at Gillian’s house.
URL:https://www.mostpoetry.org/event/most-board-meeting-2/
CATEGORIES:Board Meetings
ATTACH;FMTTYPE=image/jpeg:https://www.mostpoetry.org/wp-content/uploads/2017/08/MoSt-Gala-2017-0001.jpg
END:VEVENT
BEGIN:VEVENT
DTSTART;TZID=America/Los_Angeles:20150628T140000
DTEND;TZID=America/Los_Angeles:20150628T160000
DTSTAMP:20260423T170855
CREATED:20150602T183052Z
LAST-MODIFIED:20150602T183052Z
UID:324-1435500000-1435507200@www.mostpoetry.org
SUMMARY:Save the Date: MoSt Annual Meeting
DESCRIPTION:Our next board meeting will be on June 28 at 2:00. This is our official ANNUAL MEETING open to regular MoSt members! For more information about the meeting location and to RSVP\, please email info@mostpoetry.org
URL:https://www.mostpoetry.org/event/save-the-date-most-annual-meeting/
CATEGORIES:Board Meetings
ATTACH;FMTTYPE=image/jpeg:https://www.mostpoetry.org/wp-content/uploads/2017/08/MoSt-Gala-2017-0001.jpg
END:VEVENT
BEGIN:VEVENT
DTSTART;TZID=America/Los_Angeles:20141214T140000
DTEND;TZID=America/Los_Angeles:20141214T160000
DTSTAMP:20260423T170855
CREATED:20141126T194734Z
LAST-MODIFIED:20141126T194734Z
UID:173-1418565600-1418572800@www.mostpoetry.org
SUMMARY:MoSt Board Meeting
DESCRIPTION:Our next Board meeting is scheduled for Sunday\, December 14 at 2:00 at Tom Portwood’s home. Please contact info@mostpoetry.org if you would like to attend and need directions.
URL:https://www.mostpoetry.org/event/most-board-meeting/
CATEGORIES:Board Meetings
ATTACH;FMTTYPE=image/jpeg:https://www.mostpoetry.org/wp-content/uploads/2017/08/MoSt-Gala-2017-0001.jpg
END:VEVENT
BEGIN:VEVENT
DTSTART;TZID=America/Los_Angeles:20141120T183000
DTEND;TZID=America/Los_Angeles:20141120T200000
DTSTAMP:20260423T170855
CREATED:20141103T195656Z
LAST-MODIFIED:20141103T195656Z
UID:169-1416508200-1416513600@www.mostpoetry.org
SUMMARY:MoSt Poetry Board Meeting
DESCRIPTION:Board members and other interested folks are welcome to join us for our monthly board meeting! 6:30 p.m. For more information\, please contact info@mostpoetry.org
URL:https://www.mostpoetry.org/event/most-poetry-board-meeting-2/
CATEGORIES:Board Meetings
ATTACH;FMTTYPE=image/jpeg:https://www.mostpoetry.org/wp-content/uploads/2017/08/MoSt-Gala-2017-0001.jpg
END:VEVENT
BEGIN:VEVENT
DTSTART;TZID=America/Los_Angeles:20140727T143000
DTEND;TZID=America/Los_Angeles:20140727T163000
DTSTAMP:20260423T170855
CREATED:20140711T213037Z
LAST-MODIFIED:20140711T213037Z
UID:144-1406471400-1406478600@www.mostpoetry.org
SUMMARY:MoSt Poetry Board Meeting
DESCRIPTION:Our next meeting is scheduled for Sunday\, July 27 at 2:30 at Tom Portwood’s home. This meeting will serve as our ‘annual’ meeting and will include reports from the president\, secretary\, and treasurer as well as a budget for the next year\, and a membership report from our veep. We will also be discussing the bylaws (newly updated!) and next steps toward being a non profit\, and various projects like the festival and the chapbook contest. In addition\, we need to discuss not only bringing in new members but appreciating the members we have. \nPlease contact info@mostpoetry.org for details.
URL:https://www.mostpoetry.org/event/most-poetry-board-meeting-july-2014/
CATEGORIES:Board Meetings
ATTACH;FMTTYPE=image/jpeg:https://www.mostpoetry.org/wp-content/uploads/2017/08/MoSt-Gala-2017-0001.jpg
END:VEVENT
BEGIN:VEVENT
DTSTART;TZID=America/Los_Angeles:20140406T143000
DTEND;TZID=America/Los_Angeles:20140406T163000
DTSTAMP:20260423T170855
CREATED:20140402T020445Z
LAST-MODIFIED:20140402T020445Z
UID:140-1396794600-1396801800@www.mostpoetry.org
SUMMARY:MoStPoetry Board Meeting
DESCRIPTION:Our next meeting is set for Sunday\, April 6 at 2:30 at the home of Ed and Roberta Bearden.
URL:https://www.mostpoetry.org/event/mostpoetry-board-meeting-2/
CATEGORIES:Board Meetings
ATTACH;FMTTYPE=image/jpeg:https://www.mostpoetry.org/wp-content/uploads/2017/08/MoSt-Gala-2017-0001.jpg
END:VEVENT
BEGIN:VEVENT
DTSTART;TZID=America/Los_Angeles:20140105T143000
DTEND;TZID=America/Los_Angeles:20140105T160000
DTSTAMP:20260423T170855
CREATED:20131204T202623Z
LAST-MODIFIED:20131204T202623Z
UID:86-1388932200-1388937600@www.mostpoetry.org
SUMMARY:MoSt Poetry Board Meeting
DESCRIPTION:Our next Board meeting will be held on Sunday\, Jan. 5 at Standiford Place.
URL:https://www.mostpoetry.org/event/most-poetry-board-meeting/
LOCATION:Standiford Place\, 3420 Shawnee Dr\, Modesto\, CA\, 95350\, United States
CATEGORIES:Board Meetings
ATTACH;FMTTYPE=image/jpeg:https://www.mostpoetry.org/wp-content/uploads/2017/08/MoSt-Gala-2017-0001.jpg
END:VEVENT
BEGIN:VEVENT
DTSTART;TZID=America/Los_Angeles:20131201T143000
DTEND;TZID=America/Los_Angeles:20131201T163000
DTSTAMP:20260423T170855
CREATED:20131126T022451Z
LAST-MODIFIED:20131126T022451Z
UID:76-1385908200-1385915400@www.mostpoetry.org
SUMMARY:MoStPoetry Board Meeting
DESCRIPTION:Our next meeting is scheduled for 2:30 on December 1 at Standiford Place. Agenda to include bylaws revisions\, the advisory board\, the MoSt Poetry Festival\, support for the Modesto Art Museum\, and the Stanislaus Poem.
URL:https://www.mostpoetry.org/event/mostpoetry-board-meeting/
LOCATION:Standiford Place\, 3420 Shawnee Dr\, Modesto\, CA\, 95350\, United States
CATEGORIES:Board Meetings
ATTACH;FMTTYPE=image/jpeg:https://www.mostpoetry.org/wp-content/uploads/2017/08/MoSt-Gala-2017-0001.jpg
END:VEVENT
END:VCALENDAR