BEGIN:VCALENDAR
VERSION:2.0
PRODID:-//Modesto-Stanislaus Poetry Center - ECPv6.15.13//NONSGML v1.0//EN
CALSCALE:GREGORIAN
METHOD:PUBLISH
X-ORIGINAL-URL:https://www.mostpoetry.org
X-WR-CALDESC:Events for Modesto-Stanislaus Poetry Center
REFRESH-INTERVAL;VALUE=DURATION:PT1H
X-Robots-Tag:noindex
X-PUBLISHED-TTL:PT1H
BEGIN:VTIMEZONE
TZID:America/Los_Angeles
BEGIN:DAYLIGHT
TZOFFSETFROM:-0800
TZOFFSETTO:-0700
TZNAME:PDT
DTSTART:20230312T100000
END:DAYLIGHT
BEGIN:STANDARD
TZOFFSETFROM:-0700
TZOFFSETTO:-0800
TZNAME:PST
DTSTART:20231105T090000
END:STANDARD
BEGIN:DAYLIGHT
TZOFFSETFROM:-0800
TZOFFSETTO:-0700
TZNAME:PDT
DTSTART:20240310T100000
END:DAYLIGHT
BEGIN:STANDARD
TZOFFSETFROM:-0700
TZOFFSETTO:-0800
TZNAME:PST
DTSTART:20241103T090000
END:STANDARD
BEGIN:DAYLIGHT
TZOFFSETFROM:-0800
TZOFFSETTO:-0700
TZNAME:PDT
DTSTART:20250309T100000
END:DAYLIGHT
BEGIN:STANDARD
TZOFFSETFROM:-0700
TZOFFSETTO:-0800
TZNAME:PST
DTSTART:20251102T090000
END:STANDARD
END:VTIMEZONE
BEGIN:VEVENT
DTSTART;TZID=America/Los_Angeles:20240813T190000
DTEND;TZID=America/Los_Angeles:20240813T200000
DTSTAMP:20260424T153314
CREATED:20240727T011857Z
LAST-MODIFIED:20240727T011938Z
UID:3378-1723575600-1723579200@www.mostpoetry.org
SUMMARY:Second Tuesday Poetry featuring Susan Cohen & Lenore Weiss
DESCRIPTION:Modesto-Stanislaus Poetry Center is proud to present Second Tuesday Poetry featuring Susan Cohen & Lenore Weiss \nDate: Tuesday\, August 13\, 2024\nTime: 7:00 pm PST\nWhere: Bookish Modesto\, 811 W. Roseburg\, Modesto CA 95350 (Roseburg Square Shopping Center) \nOpen mic following featured poets (3 min per poet); sign up at the event.  \n  \nSusan Cohen \nSusan Cohen’s third collection\, Democracy of Fire (Broadstone Books: 2022)\, was praised by Ellen Bass as a “wise and wonderful” vision of “our interconnectedness.” Her poetry honors include the Red Wheelbarrow Prize judged by Mark Doty\, the Terrain Annual Poetry Prize judged by Arthur Sze\, and a special mention in Pushcart Prize XLIII.  A former journalist and contributing writer for the Washington Post Magazine\, she lives in Berkeley and has appeared in 32 Poems\, Prairie Schooner\, Southern Review\, Verse Daily\, and many anthologies. \nPraise for Susan Cohen & Democracy of Fire\nA thread of elegy runs through Democracy of Fire\, Susan Cohen’s wise and wonderful new poetry collection. Tenderly\, precisely\, these poems record a litany of the world’s ongoing losses: “Greenland’s ice sheet pooling like tears into the ocean\,” elephants\, beetles\, democracies\, “languages left behind like cloaks\,” and “our own bones interred without ceremony.” Cohen shows us our interconnectedness\, a reminder of both the beauty and value of what’s at stake. Yet\, paradoxically\, this vision makes Democracy of Fire a deeply comforting book. Of the planet Mercury she writes\, “…a pinprick ablaze for longer than our species will exist…Between us and it\, there’s a distance far beyond air\, and beyond despair.” —Ellen Bass\, Chancellor of the Academy of American Poets & author of Indigo \n At this historical\, political and ecological moment\, with democracy and our earth aflame\, could there be a more timely or relevant collection than Susan Cohen’s powerful\, wise and deeply humane book of poetry\, Democracy of Fire? Here\, the many losses we experience both daily and across time—losses both cultural and personal—are mitigated by the act of memory and a faith in\, well\, the facts of our world and our capacity for intimate reckonings. Once again\, Susan Cohen has shown herself to be one of the most compassionate recorders of our complicated times. —David St. John\, Chancellor of the Academy of American Poets & author of The Last Troubadour: Selected and New Poems \nLenore Weiss\nLenore’s past poetry collections form a trilogy about love\, loss\, and being mortal: Cutting Down the Last Tree on Easter Island (West End Press\, 2012); Two Places (Kelsay Books\, 2014)\, and The Golem (Hakodesh Word Press\, 2017). Her most recent collection\, Video Game Pointers (WordTech Editions\, 2024) issues a call for peace. Ethelzine published her hand-sewn poetry chapbook\, From Malls to Museums. Alexandria Quarterly Press published her prize-winning flash fiction chapbook\, Holding on to the Fringes of Love.  \nLenore serves as the Associate Editor (Creative Nonfiction) for the Mud Season Review and lives in Oakland\, California with Zebra the Brave and Granola the Shy. She earned an MFA in fiction from San Francisco State University. You may find her at www.lenoreweiss.com.  \n\nPraise for Lenore Weiss and Video Game Pointers\n“This mighty collection features limbs of a radical mass autobiography. Our aggregate imagination wedded to virtuosic architecture of wordplay and image. Through these poems\, quilted revolutionary legacies of resistance find their best song.”—Tongo Eisen-Martin\, 8th Poet Laureate of San Francisco\, California \n“This generous volume stretches the expansive geography of the author’s imagination\, time\, space\, experience and world view. Weiss is a practitioner of the politics of being fully alive.”—Maw Shein Win\, Storage Unit for the Spirit House (Omnidawn)
URL:https://www.mostpoetry.org/event/second-tuesday-poetry-featuring-susan-cohen-lenore-weiss/
LOCATION:Bookish Modesto\, 811 W. Roseburg Ave\, Modesto\, CA\, 95350\, United States
CATEGORIES:Open Mic,Readings,Second Tuesday
ATTACH;FMTTYPE=image/png:https://www.mostpoetry.org/wp-content/uploads/2024/07/second-tuesday-poetry-e1722043173803.png
ORGANIZER;CN="Stella Beratlis":MAILTO:stellab@mostpoetry.org
END:VEVENT
END:VCALENDAR