BEGIN:VCALENDAR
VERSION:2.0
PRODID:-//Modesto-Stanislaus Poetry Center - ECPv6.15.13//NONSGML v1.0//EN
CALSCALE:GREGORIAN
METHOD:PUBLISH
X-ORIGINAL-URL:https://www.mostpoetry.org
X-WR-CALDESC:Events for Modesto-Stanislaus Poetry Center
REFRESH-INTERVAL;VALUE=DURATION:PT1H
X-Robots-Tag:noindex
X-PUBLISHED-TTL:PT1H
BEGIN:VTIMEZONE
TZID:America/Los_Angeles
BEGIN:DAYLIGHT
TZOFFSETFROM:-0800
TZOFFSETTO:-0700
TZNAME:PDT
DTSTART:20220313T100000
END:DAYLIGHT
BEGIN:STANDARD
TZOFFSETFROM:-0700
TZOFFSETTO:-0800
TZNAME:PST
DTSTART:20221106T090000
END:STANDARD
BEGIN:DAYLIGHT
TZOFFSETFROM:-0800
TZOFFSETTO:-0700
TZNAME:PDT
DTSTART:20230312T100000
END:DAYLIGHT
BEGIN:STANDARD
TZOFFSETFROM:-0700
TZOFFSETTO:-0800
TZNAME:PST
DTSTART:20231105T090000
END:STANDARD
BEGIN:DAYLIGHT
TZOFFSETFROM:-0800
TZOFFSETTO:-0700
TZNAME:PDT
DTSTART:20240310T100000
END:DAYLIGHT
BEGIN:STANDARD
TZOFFSETFROM:-0700
TZOFFSETTO:-0800
TZNAME:PST
DTSTART:20241103T090000
END:STANDARD
END:VTIMEZONE
BEGIN:VEVENT
DTSTART;TZID=America/Los_Angeles:20230604T130000
DTEND;TZID=America/Los_Angeles:20230604T150000
DTSTAMP:20260425T170626
CREATED:20230208T203522Z
LAST-MODIFIED:20230424T230025Z
UID:2676-1685883600-1685890800@www.mostpoetry.org
SUMMARY:City of Modesto Poet's Corner Reading/Reception
DESCRIPTION:Join us at McHenry Museum on Sunday\, June 4 at 1 pm for a reading featuring the winners of the 2023 Poet’s Corner Contest\, sponsored by the City of Modesto. \nFor contest information\, please visit the City of Modesto Poet’s Corner page. (Contest info will be updated soon.)
URL:https://www.mostpoetry.org/event/city-of-modesto-poets-corner-reading-reception/
LOCATION:McHenry Museum\, 1402 14th St\, Modesto\, CA\, 95354\, United States
CATEGORIES:Contests,Other Events,Readings,Youth Poetry
ATTACH;FMTTYPE=image/png:https://www.mostpoetry.org/wp-content/uploads/2023/03/poets-corner-2023-facebook-page-cover-900-×-1200-px.png
ORGANIZER;CN="Stella Beratlis":MAILTO:stellab@mostpoetry.org
END:VEVENT
END:VCALENDAR