BEGIN:VCALENDAR
VERSION:2.0
PRODID:-//Modesto-Stanislaus Poetry Center - ECPv6.15.13//NONSGML v1.0//EN
CALSCALE:GREGORIAN
METHOD:PUBLISH
X-ORIGINAL-URL:https://www.mostpoetry.org
X-WR-CALDESC:Events for Modesto-Stanislaus Poetry Center
REFRESH-INTERVAL;VALUE=DURATION:PT1H
X-Robots-Tag:noindex
X-PUBLISHED-TTL:PT1H
BEGIN:VTIMEZONE
TZID:America/Los_Angeles
BEGIN:DAYLIGHT
TZOFFSETFROM:-0800
TZOFFSETTO:-0700
TZNAME:PDT
DTSTART:20220313T100000
END:DAYLIGHT
BEGIN:STANDARD
TZOFFSETFROM:-0700
TZOFFSETTO:-0800
TZNAME:PST
DTSTART:20221106T090000
END:STANDARD
BEGIN:DAYLIGHT
TZOFFSETFROM:-0800
TZOFFSETTO:-0700
TZNAME:PDT
DTSTART:20230312T100000
END:DAYLIGHT
BEGIN:STANDARD
TZOFFSETFROM:-0700
TZOFFSETTO:-0800
TZNAME:PST
DTSTART:20231105T090000
END:STANDARD
BEGIN:DAYLIGHT
TZOFFSETFROM:-0800
TZOFFSETTO:-0700
TZNAME:PDT
DTSTART:20240310T100000
END:DAYLIGHT
BEGIN:STANDARD
TZOFFSETFROM:-0700
TZOFFSETTO:-0800
TZNAME:PST
DTSTART:20241103T090000
END:STANDARD
END:VTIMEZONE
BEGIN:VEVENT
DTSTART;TZID=America/Los_Angeles:20230923T140000
DTEND;TZID=America/Los_Angeles:20230923T170000
DTSTAMP:20260425T123314
CREATED:20230728T223650Z
LAST-MODIFIED:20230914T220231Z
UID:2903-1695477600-1695488400@www.mostpoetry.org
SUMMARY:MoSt's 10th Anniversary Fundraiser w/ CA Poet Laureate Lee Herrick & Stan Cty Youth Poet Laureate Faith Delgado
DESCRIPTION:Join us on the afternoon of Saturday\, September 23\, 2023 for an afternoon of wine\, hors d’oeuvres\, and readings by California Poet Laureate Lee Herrick and Stanislaus County Youth Poet Laureate Faith Delgado. \nYour ticket supports poetry in Stanislaus County\, including monthly reading series in Modesto and Turlock; sets of poetry books for area schools; Poetry Out Loud; poetry readings at senior communities; free poetry workshops and poetry book discussions at the Modesto Library; the Youth Poet Laureate program; poetry on the spot at events across the county; annual workshops by noted poets from across California\, the Modesto Poetry Festival every February\, and much more! \nTICKET SALES END FRIDAY\, SEPTEMBER 15th AT MIDNIGHT.  $50 purchase through https://poetrygala2023.brownpapertickets.com/.  \nPlease email info@mostpoetry.org to request sliding scale price. 
URL:https://www.mostpoetry.org/event/10th-anniversary-fundraiser-with-california-poet-laureate-lee-herrick-stanislaus-county-youth-poet-laureate-faith-delgago/
LOCATION:CA
CATEGORIES:Other Events,Readings
ATTACH;FMTTYPE=image/jpeg:https://www.mostpoetry.org/wp-content/uploads/2023/07/371124483_680823127415429_5009606102761934664_n-e1694728919483.jpeg
ORGANIZER;CN="Stella Beratlis":MAILTO:stellab@mostpoetry.org
END:VEVENT
BEGIN:VEVENT
DTSTART;TZID=America/Los_Angeles:20230924T130000
DTEND;TZID=America/Los_Angeles:20230924T160000
DTSTAMP:20260425T123314
CREATED:20230828T224524Z
LAST-MODIFIED:20230828T224655Z
UID:2941-1695560400-1695571200@www.mostpoetry.org
SUMMARY:Poetry on the Spot at the Gallo Family Fun Festival
DESCRIPTION:FREE FOR EVERYONE! SUNDAY\, SEPTEMBER 24\, 2023 \n1 PM – 4 PM \nThe Gallo Center for the Arts presents its first annual Family Fun Festival—a community event that will take over the Gallo Center Plaza and the Modesto Rotary Music Garden with a host of FREE activities. We’ll be typing poems for anyone who wants one–but you can also enjoy music\, dancing\, chalk art\, lawn games\, exotic reptiles\, face painting\, balloon animals\, and more. Free; no ticket purchase required. \nFood trucks will be on site for those wishing to purchase hot dogs\, frozen yogurt\, and other treats.
URL:https://www.mostpoetry.org/event/poetry-on-the-spot-at-the-gallo-family-fun-festival/
LOCATION:Gallo Center for the Arts\, Gallo Center Plaza\, Modesto\, CA\, 95354\, United States
CATEGORIES:Other Events,Poetry on the Spot
ATTACH;FMTTYPE=image/jpeg:https://www.mostpoetry.org/wp-content/uploads/2017/08/MoSt-Gala-2017-0001.jpg
END:VEVENT
END:VCALENDAR