BEGIN:VCALENDAR
VERSION:2.0
PRODID:-//Modesto-Stanislaus Poetry Center - ECPv6.15.13//NONSGML v1.0//EN
CALSCALE:GREGORIAN
METHOD:PUBLISH
X-ORIGINAL-URL:https://www.mostpoetry.org
X-WR-CALDESC:Events for Modesto-Stanislaus Poetry Center
REFRESH-INTERVAL;VALUE=DURATION:PT1H
X-Robots-Tag:noindex
X-PUBLISHED-TTL:PT1H
BEGIN:VTIMEZONE
TZID:America/Los_Angeles
BEGIN:DAYLIGHT
TZOFFSETFROM:-0800
TZOFFSETTO:-0700
TZNAME:PDT
DTSTART:20120311T100000
END:DAYLIGHT
BEGIN:STANDARD
TZOFFSETFROM:-0700
TZOFFSETTO:-0800
TZNAME:PST
DTSTART:20121104T090000
END:STANDARD
BEGIN:DAYLIGHT
TZOFFSETFROM:-0800
TZOFFSETTO:-0700
TZNAME:PDT
DTSTART:20130310T100000
END:DAYLIGHT
BEGIN:STANDARD
TZOFFSETFROM:-0700
TZOFFSETTO:-0800
TZNAME:PST
DTSTART:20131103T090000
END:STANDARD
BEGIN:DAYLIGHT
TZOFFSETFROM:-0800
TZOFFSETTO:-0700
TZNAME:PDT
DTSTART:20140309T100000
END:DAYLIGHT
BEGIN:STANDARD
TZOFFSETFROM:-0700
TZOFFSETTO:-0800
TZNAME:PST
DTSTART:20141102T090000
END:STANDARD
BEGIN:DAYLIGHT
TZOFFSETFROM:-0800
TZOFFSETTO:-0700
TZNAME:PDT
DTSTART:20150308T100000
END:DAYLIGHT
BEGIN:STANDARD
TZOFFSETFROM:-0700
TZOFFSETTO:-0800
TZNAME:PST
DTSTART:20151101T090000
END:STANDARD
END:VTIMEZONE
BEGIN:VEVENT
DTSTART;VALUE=DATE:20140425
DTEND;VALUE=DATE:20140427
DTSTAMP:20260424T064522
CREATED:20140402T014943Z
LAST-MODIFIED:20140402T015337Z
UID:132-1398384000-1398556799@www.mostpoetry.org
SUMMARY:California Federation of Chapparal Poets Annual Convention
DESCRIPTION:The weekend of April 25-26\, the annual convention for the California Federation of Chaparral Poets will be held right here in Modesto. The registration deadline is April 12. If you’d like more info\, please contact Cleo Griffith at cleor36@yahoo.com
URL:https://www.mostpoetry.org/event/132/
LOCATION:Wood Colony Hall\, 3549 Dakota Ave\, Modesto\, CA\, 95350\, United States
CATEGORIES:Other Events
ATTACH;FMTTYPE=image/jpeg:https://www.mostpoetry.org/wp-content/uploads/2017/08/MoSt-Gala-2017-0001.jpg
END:VEVENT
BEGIN:VEVENT
DTSTART;TZID=America/Los_Angeles:20140208T090000
DTEND;TZID=America/Los_Angeles:20140208T160000
DTSTAMP:20260424T064523
CREATED:20131126T232917Z
LAST-MODIFIED:20131204T205115Z
UID:80-1391850000-1391875200@www.mostpoetry.org
SUMMARY:Modesto Poetry Festival 2014
DESCRIPTION:Save the Date! The Modesto Poetry Festival will be held on Saturday\, February 8. It will feature poet Patrice Vecchione doing a workshop\, poet Gary Thomas doing another workshop\, a lovely lunch\, winning poems\, and lots of poetic camaraderie. An excellent flier with all kinds of good info is attached for your convenience: MoSt Poetry Festival flier. We’d love to see you there! \nRegistration deadline: January 20th.
URL:https://www.mostpoetry.org/event/modesto-poetry-festival-2014/
LOCATION:St. Paul’s Episcopal Church\, 1528 Oakdale Road\, Modesto\, CA\, 95355\, United States
CATEGORIES:Other Events,Readings
ATTACH;FMTTYPE=image/jpeg:https://www.mostpoetry.org/wp-content/uploads/2017/08/MoSt-Gala-2017-0001.jpg
END:VEVENT
BEGIN:VEVENT
DTSTART;TZID=America/Los_Angeles:20131205T180000
DTEND;TZID=America/Los_Angeles:20131205T210000
DTSTAMP:20260424T064523
CREATED:20131204T203420Z
LAST-MODIFIED:20131204T203420Z
UID:90-1386266400-1386277200@www.mostpoetry.org
SUMMARY:Imagination Film Festival
DESCRIPTION:The Imagination Film Festival is FREE at the State Theater and will feature a showing of poet James Broughton’s film “The Bed\,” along with a reading of his poem “The Bed” by local poets\, including Stella Beratlis. There is a 6:00 reception\, followed by the program at 7:00. This is brought to you by the Modesto Art Museum and the State Theater.
URL:https://www.mostpoetry.org/event/imagination-film-festival/
LOCATION:State Theatre of Modesto\, 1307 J Street \, Modesto\, CA\, 95354\, United States
CATEGORIES:Other Events,Readings
ATTACH;FMTTYPE=image/jpeg:https://www.mostpoetry.org/wp-content/uploads/2017/08/MoSt-Gala-2017-0001.jpg
END:VEVENT
END:VCALENDAR