BEGIN:VCALENDAR
VERSION:2.0
PRODID:-//Modesto-Stanislaus Poetry Center - ECPv6.15.13//NONSGML v1.0//EN
CALSCALE:GREGORIAN
METHOD:PUBLISH
X-ORIGINAL-URL:https://www.mostpoetry.org
X-WR-CALDESC:Events for Modesto-Stanislaus Poetry Center
REFRESH-INTERVAL;VALUE=DURATION:PT1H
X-Robots-Tag:noindex
X-PUBLISHED-TTL:PT1H
BEGIN:VTIMEZONE
TZID:America/Los_Angeles
BEGIN:DAYLIGHT
TZOFFSETFROM:-0800
TZOFFSETTO:-0700
TZNAME:PDT
DTSTART:20230312T100000
END:DAYLIGHT
BEGIN:STANDARD
TZOFFSETFROM:-0700
TZOFFSETTO:-0800
TZNAME:PST
DTSTART:20231105T090000
END:STANDARD
BEGIN:DAYLIGHT
TZOFFSETFROM:-0800
TZOFFSETTO:-0700
TZNAME:PDT
DTSTART:20240310T100000
END:DAYLIGHT
BEGIN:STANDARD
TZOFFSETFROM:-0700
TZOFFSETTO:-0800
TZNAME:PST
DTSTART:20241103T090000
END:STANDARD
BEGIN:DAYLIGHT
TZOFFSETFROM:-0800
TZOFFSETTO:-0700
TZNAME:PDT
DTSTART:20250309T100000
END:DAYLIGHT
BEGIN:STANDARD
TZOFFSETFROM:-0700
TZOFFSETTO:-0800
TZNAME:PST
DTSTART:20251102T090000
END:STANDARD
BEGIN:DAYLIGHT
TZOFFSETFROM:-0800
TZOFFSETTO:-0700
TZNAME:PDT
DTSTART:20260308T100000
END:DAYLIGHT
BEGIN:STANDARD
TZOFFSETFROM:-0700
TZOFFSETTO:-0800
TZNAME:PST
DTSTART:20261101T090000
END:STANDARD
BEGIN:DAYLIGHT
TZOFFSETFROM:-0800
TZOFFSETTO:-0700
TZNAME:PDT
DTSTART:20270314T100000
END:DAYLIGHT
BEGIN:STANDARD
TZOFFSETFROM:-0700
TZOFFSETTO:-0800
TZNAME:PST
DTSTART:20271107T090000
END:STANDARD
END:VTIMEZONE
BEGIN:VEVENT
DTSTART;TZID=America/Los_Angeles:20241027T090000
DTEND;TZID=America/Los_Angeles:20241027T120000
DTSTAMP:20260425T203648
CREATED:20241004T195806Z
LAST-MODIFIED:20241004T195806Z
UID:3435-1730019600-1730030400@www.mostpoetry.org
SUMMARY:Dos Rios State Park Nature Poetry Walk
DESCRIPTION:A special event for poetry lovers! Join a State Park Interpreter and special guest\, poetry author\, Salvatore Salerno. Bring your favorite poem or poetry book about nature and share with other poetry enthusiasts. Walk 2.5 miles round-trip to the amazing pond Oaks. Share or just listen to poems that connects us to nature. Please bring good walking shoes\, sunscreen\, snack\, and water. Bring lunch to eat at the day use area\, along the pond\, following the poetry walking tour. Register:  https://www.parks.ca.gov/EventDetails/16477
URL:https://www.mostpoetry.org/event/dos-rios-state-park-nature-poetry-walk/
LOCATION:Dos Rios State Park\, 3559 Shiloh Rd\, Modesto\, CA\, 95358\, United States
CATEGORIES:Other Events,Poetry in Nature,Readings
ATTACH;FMTTYPE=application/pdf:https://www.mostpoetry.org/wp-content/uploads/2024/10/Dos-Rios-Saxon.pdf
END:VEVENT
BEGIN:VEVENT
DTSTART;TZID=America/Los_Angeles:20251209T180000
DTEND;TZID=America/Los_Angeles:20251209T200000
DTSTAMP:20260425T203648
CREATED:20251112T001258Z
LAST-MODIFIED:20251130T184503Z
UID:3947-1765303200-1765310400@www.mostpoetry.org
SUMMARY:Second Tuesday - MoSt Member Potluck/Open Mic
DESCRIPTION:Join us for our December reading at The Dragonfly- Art for Life for a joyful open mic and potluck for members of Modesto-Stanislaus Poetry Center. \nWe’d love to have you there! It’s not too late to join MoSt–you can join at the door\, even.
URL:https://www.mostpoetry.org/event/second-tuesday-most-members-potluck-open-mic/
LOCATION:The Dragonfly Art for Life\, 1210 J Street\, Modesto\, CA\, 95350\, United States
CATEGORIES:Open Mic,Other Events,Second Tuesday
ATTACH;FMTTYPE=image/png:https://www.mostpoetry.org/wp-content/uploads/2025/11/Most-SecondTues-Dec2025-e1764528296926.png
ORGANIZER;CN="Stella Beratlis":MAILTO:stellab@mostpoetry.org
END:VEVENT
BEGIN:VEVENT
DTSTART;TZID=America/Los_Angeles:20260321T100000
DTEND;TZID=America/Los_Angeles:20260321T120000
DTSTAMP:20260425T203648
CREATED:20260227T205637Z
LAST-MODIFIED:20260227T205637Z
UID:4078-1774087200-1774094400@www.mostpoetry.org
SUMMARY:Nature Poetry Reading & Walk at Dos Rios State Park
DESCRIPTION:Nature lovers and fans of poetry are welcome to celebrate Spring at the 4th Nature Poetry Reading and Walk at Dos Rios State Park on Saturday\, March 21 at 10:00 a.m..  Participants can bring a few of their own nature poems to read\, or read poems from their favorite nature poets.  After the one-hour reading at the ramadas\, an optional hike will be offered by park staff along the 1.8-mile trail around the oxbow pond.  Loaner binoculars are available.
URL:https://www.mostpoetry.org/event/nature-poetry-reading-walk-at-dos-rios-state-park/
LOCATION:Dos Rios State Park\, 3559 Shiloh Rd\, Modesto\, CA\, 95358\, United States
CATEGORIES:Other Events,Readings
ATTACH;FMTTYPE=image/jpeg:https://www.mostpoetry.org/wp-content/uploads/2026/02/Spring-Nature-Poetry-Reading-2026-e1772225596305.jpg
END:VEVENT
END:VCALENDAR