BEGIN:VCALENDAR
VERSION:2.0
PRODID:-//Modesto-Stanislaus Poetry Center - ECPv6.15.13//NONSGML v1.0//EN
CALSCALE:GREGORIAN
METHOD:PUBLISH
X-ORIGINAL-URL:https://www.mostpoetry.org
X-WR-CALDESC:Events for Modesto-Stanislaus Poetry Center
REFRESH-INTERVAL;VALUE=DURATION:PT1H
X-Robots-Tag:noindex
X-PUBLISHED-TTL:PT1H
BEGIN:VTIMEZONE
TZID:America/Los_Angeles
BEGIN:DAYLIGHT
TZOFFSETFROM:-0800
TZOFFSETTO:-0700
TZNAME:PDT
DTSTART:20230312T100000
END:DAYLIGHT
BEGIN:STANDARD
TZOFFSETFROM:-0700
TZOFFSETTO:-0800
TZNAME:PST
DTSTART:20231105T090000
END:STANDARD
BEGIN:DAYLIGHT
TZOFFSETFROM:-0800
TZOFFSETTO:-0700
TZNAME:PDT
DTSTART:20240310T100000
END:DAYLIGHT
BEGIN:STANDARD
TZOFFSETFROM:-0700
TZOFFSETTO:-0800
TZNAME:PST
DTSTART:20241103T090000
END:STANDARD
BEGIN:DAYLIGHT
TZOFFSETFROM:-0800
TZOFFSETTO:-0700
TZNAME:PDT
DTSTART:20250309T100000
END:DAYLIGHT
BEGIN:STANDARD
TZOFFSETFROM:-0700
TZOFFSETTO:-0800
TZNAME:PST
DTSTART:20251102T090000
END:STANDARD
END:VTIMEZONE
BEGIN:VEVENT
DTSTART;TZID=America/Los_Angeles:20240511T140000
DTEND;TZID=America/Los_Angeles:20240511T150000
DTSTAMP:20260424T202522
CREATED:20240506T195100Z
LAST-MODIFIED:20240509T182025Z
UID:3265-1715436000-1715439600@www.mostpoetry.org
SUMMARY:Aileen Jaffa Contest Awards Ceremony
DESCRIPTION:Join us at the Carnegie Arts Center on Saturday\, May 11 at 2:00 pm to celebrate our youth contest winners! Presented by the North American League of American Pen Women\, Modesto Branch\, in partnership with MoSt Poetry. \n 
URL:https://www.mostpoetry.org/event/aileen-jaffa-contest-awards-ceremony/
LOCATION:Carnegie Arts Center\, 250 N. Broadway\, Turlock\, CA\, 95380\, United States
CATEGORIES:Contests,Readings,Youth Poetry
ATTACH;FMTTYPE=image/png:https://www.mostpoetry.org/wp-content/uploads/2024/05/2024-aileen-jaffa--e1715024539519.png
END:VEVENT
BEGIN:VEVENT
DTSTART;TZID=America/Los_Angeles:20240514T190000
DTEND;TZID=America/Los_Angeles:20240514T200000
DTSTAMP:20260424T202522
CREATED:20240502T000638Z
LAST-MODIFIED:20240502T000756Z
UID:3245-1715713200-1715716800@www.mostpoetry.org
SUMMARY:Second Tuesday Poetry featuring Fresno poets Michael Meyerhofer and Angela Chaidez Vincent
DESCRIPTION:MoSt Poetry welcomes featured poets Michael Meyerhofer and Angela Chaidez Vincent for its May  Second Tuesday Poetry series–this month at Bookish–Modesto’s very own\, very new\, and very exciting bookstore!  \nWhere: Bookish Bookstore\, 811 W. Roseburg Avenue\, Modesto CA 95350\nWhen: Tuesday\, May 14\, 2024 at 7:00 pm \nHosted by Modesto poet laureate emeritus Gillian Wegener;  open mic follows featured poets. Please sign up at event.  \nMichael Meyerhofer\n  \n \n  \nMichael Meyerhofer is the author of five books of poetry—including What To Do If You’re Buried Alive (free from Doubleback Books). His work has appeared in The Sun\, Missouri Review\, Southern Review\, Brevity\, Rattle\, and other journals. He’s also the author of a fantasy series and Poetry Editor of Atticus Review. For more info and an embarrassing childhood photo\, visit troublewithhammers.com. \nAbout WHAT TO DO IF YOU’RE BURIED ALIVE \nThe poems in What To Do If You’re Buried Alive are tenderly masculine\, self-deprecating and humorous. They are the poems of an adult male poet looking back at childhood and puberty with anything  but rose-colored glasses. He shows us how we see ourselves often through time—with a mixture of cringe and understanding. \nMary Biddinger\, author of A Sunny Place with Adequate Water\, writes\, “With a compassionate eye\, and his trademark sense of humor that hooks readers from the very first page\, Meyerhofer sends us back to our earliest memories\, and shows us a world of heartbreak and wonder.” And Jon Tribble\, author of Natural State\, adds “Through pain and loss\, Meyerhofer’s poems are harrowing prayers searching for ‘the charms of language’ that might lead to forgiveness\, to redemption\, to love.” \nAngela Chaidez Vincent\nImage credit: © Adrianne Mathiowetz Photography \nAngela Chaidez Vincent writes poetry and fiction and has a background of livelihoods in engineering\, mathematics\, and programming. Her debut poetry collection ARENA GLOW (April 2024\, Tourane Press) features poems about women with a daredevil oblique. Angela’s work has appeared in Oxford Review of Books\, North American Review\, 32 Poems\, Atticus Review\, and Bellevue Literary Review\, among others. She lives in Fresno\, California and is online at angelachaidezvincent.com. \n 
URL:https://www.mostpoetry.org/event/second-tuesday-poetry-featuring-fresno-poets-michael-meyerhofer-and-angela-chaidez-vincent/
LOCATION:Bookish Modesto\, 811 W. Roseburg Ave\, Modesto\, CA\, 95350\, United States
CATEGORIES:Open Mic,Readings,Second Tuesday
ATTACH;FMTTYPE=image/png:https://www.mostpoetry.org/wp-content/uploads/2024/05/May-2024-Second-Tues-reading-e1714608157292.png
ORGANIZER;CN="Stella Beratlis":MAILTO:stellab@mostpoetry.org
END:VEVENT
BEGIN:VEVENT
DTSTART;TZID=America/Los_Angeles:20240519T130000
DTEND;TZID=America/Los_Angeles:20240519T153000
DTSTAMP:20260424T202522
CREATED:20240506T193324Z
LAST-MODIFIED:20240513T193716Z
UID:3255-1716123600-1716132600@www.mostpoetry.org
SUMMARY:City of Modesto Poets' Corner Reading & Reception
DESCRIPTION:Join us at the McHenry Museum for a reception and reading for the annual Poets’ Corner contest. \nWhen: Sunday\, May 19\, 2024\nWhere: McHenry Museum\nTime: 1:00 pm \nA copy of the Poets’ Corner anthology will be available to contributors. \nPresented by the City of Modesto with assistance from the Modesto-Stanislaus Poetry Center \n  \n 
URL:https://www.mostpoetry.org/event/city-of-modesto-poets-corner-contest-reading/
LOCATION:McHenry Museum\, 1402 14th St\, Modesto\, CA\, 95354\, United States
CATEGORIES:Contests,Readings
ATTACH;FMTTYPE=image/png:https://www.mostpoetry.org/wp-content/uploads/2024/03/poets-corner-2024-facebook-page-cover-900-×-1200-px-e1715628984745.png
END:VEVENT
END:VCALENDAR