BEGIN:VCALENDAR
VERSION:2.0
PRODID:-//Modesto-Stanislaus Poetry Center - ECPv6.15.13//NONSGML v1.0//EN
CALSCALE:GREGORIAN
METHOD:PUBLISH
X-ORIGINAL-URL:https://www.mostpoetry.org
X-WR-CALDESC:Events for Modesto-Stanislaus Poetry Center
REFRESH-INTERVAL;VALUE=DURATION:PT1H
X-Robots-Tag:noindex
X-PUBLISHED-TTL:PT1H
BEGIN:VTIMEZONE
TZID:America/Los_Angeles
BEGIN:DAYLIGHT
TZOFFSETFROM:-0800
TZOFFSETTO:-0700
TZNAME:PDT
DTSTART:20230312T100000
END:DAYLIGHT
BEGIN:STANDARD
TZOFFSETFROM:-0700
TZOFFSETTO:-0800
TZNAME:PST
DTSTART:20231105T090000
END:STANDARD
BEGIN:DAYLIGHT
TZOFFSETFROM:-0800
TZOFFSETTO:-0700
TZNAME:PDT
DTSTART:20240310T100000
END:DAYLIGHT
BEGIN:STANDARD
TZOFFSETFROM:-0700
TZOFFSETTO:-0800
TZNAME:PST
DTSTART:20241103T090000
END:STANDARD
BEGIN:DAYLIGHT
TZOFFSETFROM:-0800
TZOFFSETTO:-0700
TZNAME:PDT
DTSTART:20250309T100000
END:DAYLIGHT
BEGIN:STANDARD
TZOFFSETFROM:-0700
TZOFFSETTO:-0800
TZNAME:PST
DTSTART:20251102T090000
END:STANDARD
END:VTIMEZONE
BEGIN:VEVENT
DTSTART;TZID=America/Los_Angeles:20240910T190000
DTEND;TZID=America/Los_Angeles:20240910T203000
DTSTAMP:20260424T140540
CREATED:20240831T055121Z
LAST-MODIFIED:20240831T055132Z
UID:3414-1725994800-1726000200@www.mostpoetry.org
SUMMARY:Second Tuesday Poetry featuring Tom Myers and Stella Beratlis\, with special guest Zoe Byron
DESCRIPTION:Modesto-Stanislaus Poetry Center is pleased to present Second Tuesday Poetry featuring Tom Myers and Stella Beratlis\, with special guest Zoe Byron\, Stanislaus County Youth Poet Laureate \nDate: Tuesday\, September 10\, 2024\nTime: 7:00 pm PST\nWhere: Bookish Modesto\, 811 W. Roseburg\, Modesto CA 95350 (Roseburg Square Shopping Center) \nJoin us for this special reading to celebrate the release of Tom Myer’s first full poetry collection\, Tremor in my Bones. Also featuring Stella Beratlis\, author of Dust Bowl Venus. With special guest Zoe Byron\, new Youth Poet Laureate for Stanislaus County. \nOpen mic following featured poets (3 min per poet); sign up at the event.  Reading host: Gillian Wegener \nTom Myers\nTom Myers is a retired elementary school teacher and a founding board member of the Modesto-Stanislaus Poetry Center (MoSt). He enjoys the wilds of nature and a sense of place frames much of his poetry. His poems have been published in hardpan\, Quercus Review\, More Than Soil\, More Than Sky: The Modesto Poets\, Collision II and VII\, Homestead Review\, Cosumnes River Journal\, and Steam Ticket. He has four chapbooks. His first full-length book\, A Tremor in my Bones\, was just published in August. \nStella Beratlis\nStella Beratlis is the author of Dust Bowl Venus (2021) and Alkali Sink\, both published by Sixteen Rivers Press. Alkali Sink was a 2016 nominee for the Northern California Book Award. Stella’s poems have appeared in journals and anthologies as well as in the grand rotunda of the San Francisco Transbay Terminal\, as part of a giant LED installation by artist Jenny Holzer. Stella was Modesto’s poet laureate from 2016-2020; is the coordinator of the Stanislaus County Youth Poet Laureate program\, and works as a librarian at Modesto Junior College. She also collects typewriters\, if you want to sell yours.  \nZoe Byron\nStanislaus County Youth Poet Laureate Zoe Byron\, a junior at Oakdale High School\, was recently appointed to serve as the county’s second youth poet laureate. Zoe\, whose parents are both English teachers\, is a confirmed poetry fanatic whose initial exposure to performance poetry (thanks\, Mom!) during the pandemic sparked a curiosity for and love of the form. Zoe’s early work was published in Oakdale Junior High’s annual poetry anthology; more recently\, her work appeared in Penumbra\, the Stan State literary journal. Zoe is also a regular participant in the Stanislaus County Poetry Out Loud competition.
URL:https://www.mostpoetry.org/event/second-tuesday-poetry-featuring-tom-myers-and-stella-beratlis-with-special-guest-zoe-byron/
LOCATION:Bookish Modesto\, 811 W. Roseburg Ave\, Modesto\, CA\, 95350\, United States
CATEGORIES:Open Mic,Readings,Second Tuesday
ATTACH;FMTTYPE=image/png:https://www.mostpoetry.org/wp-content/uploads/2024/08/sept-2024-second-tues-1-e1725083265520.png
END:VEVENT
END:VCALENDAR