BEGIN:VCALENDAR
VERSION:2.0
PRODID:-//Modesto-Stanislaus Poetry Center - ECPv6.15.13//NONSGML v1.0//EN
CALSCALE:GREGORIAN
METHOD:PUBLISH
X-WR-CALNAME:Modesto-Stanislaus Poetry Center
X-ORIGINAL-URL:https://www.mostpoetry.org
X-WR-CALDESC:Events for Modesto-Stanislaus Poetry Center
REFRESH-INTERVAL;VALUE=DURATION:PT1H
X-Robots-Tag:noindex
X-PUBLISHED-TTL:PT1H
BEGIN:VTIMEZONE
TZID:America/Los_Angeles
BEGIN:DAYLIGHT
TZOFFSETFROM:-0800
TZOFFSETTO:-0700
TZNAME:PDT
DTSTART:20230312T100000
END:DAYLIGHT
BEGIN:STANDARD
TZOFFSETFROM:-0700
TZOFFSETTO:-0800
TZNAME:PST
DTSTART:20231105T090000
END:STANDARD
BEGIN:DAYLIGHT
TZOFFSETFROM:-0800
TZOFFSETTO:-0700
TZNAME:PDT
DTSTART:20240310T100000
END:DAYLIGHT
BEGIN:STANDARD
TZOFFSETFROM:-0700
TZOFFSETTO:-0800
TZNAME:PST
DTSTART:20241103T090000
END:STANDARD
BEGIN:DAYLIGHT
TZOFFSETFROM:-0800
TZOFFSETTO:-0700
TZNAME:PDT
DTSTART:20250309T100000
END:DAYLIGHT
BEGIN:STANDARD
TZOFFSETFROM:-0700
TZOFFSETTO:-0800
TZNAME:PST
DTSTART:20251102T090000
END:STANDARD
END:VTIMEZONE
BEGIN:VEVENT
DTSTART;TZID=America/Los_Angeles:20241109T140000
DTEND;TZID=America/Los_Angeles:20241109T150000
DTSTAMP:20260424T105927
CREATED:20241005T013244Z
LAST-MODIFIED:20241005T013357Z
UID:3442-1731160800-1731164400@www.mostpoetry.org
SUMMARY:MoSt Poetry on Saturday featuring Christina Lloyd & Alice Templeton
DESCRIPTION:MoSt Poetry On Saturday Reading\nNovember 9\, 2024\n2:00 p.m. PST\nCarnegie Arts Center\n250 North Broadway Avenue\, Turlock\, CA\n\n     Join host Gary Thomas for the latest edition of Modesto-Stanislaus Poetry Center’s (MoSt’s) Poetry On Saturday in-person readings on November 9 at 2:00 p.m. at the Carnegie Arts Center (250 North Broadway Avenue) in Turlock. Our featured poets are Christina Lloyd and Alice Templeton\, both with new books out from Sixteen Rivers Press. An Open Mic time will follow the featured poets. This event is free and open to the public\, and light refreshments will be provided.\n\n\n     Born in Hong Kong and raised in Manila and San Francisco\, Christina Lloyd holds a PhD in creative writing from Lancaster University. Her work appears in a wide variety of publications\, including Canadian Woman Studies\, EcoTheo\, Hive\, Meniscus\, Poetry Daily\, Poetry Ireland\, Poet Lore\, The North\, and SWWIM. Women Twice Removed\, published by Sixteen Rivers Press\, is her first full-length collection. She lives in San Francisco. \n \n     Alice Templeton’s poems and short stories have appeared in Asheville Poetry Review\, Bellingham Review\, Calyx\, North American Review\, Poetry\, and other publications. Her work was a finalist for the 2020 Neruda Prize from Nimrod\, and her chapbook Archaeology won the 2008 New Women’s Voices Prize in Poetry from Finishing Line Press. She is also the author of a critical book on Adrienne Rich’s poetics and scholarly articles on contemporary poetics\, cultural criticism\, and literary theory. Originally from Tennessee\, Templeton lives in Point Richmond\, California.
URL:https://www.mostpoetry.org/event/most-poetry-on-saturday-featuring-christina-lloyd-alice-templeton/
LOCATION:Carnegie Arts Center\, 250 N. Broadway\, Turlock\, CA\, 95380\, United States
CATEGORIES:Poetry on Saturday,Readings
ATTACH;FMTTYPE=image/jpeg:https://www.mostpoetry.org/wp-content/uploads/2024/10/Orange-Autumn-Leaves-and-Pumpkins-Harvest-Festival-Facebook-Event-Cover-e1728091394226.jpg
END:VEVENT
BEGIN:VEVENT
DTSTART;TZID=America/Los_Angeles:20241123T120000
DTEND;TZID=America/Los_Angeles:20241123T130000
DTSTAMP:20260424T105927
CREATED:20241022T230806Z
LAST-MODIFIED:20241022T230806Z
UID:3488-1732363200-1732366800@www.mostpoetry.org
SUMMARY:Poetry Reading and Open Mic featuring Youth Poet Laureate Zoe Byron
DESCRIPTION:Please join Modesto-Stanislaus Poetry Center and Stanislaus County Library at a poetry reading and open mic at the Oakdale Library\, featuring Stanislaus County Youth Poet Laureate Zoe Byron. Bring a poem—your own or a favorite–to share at open mic. Reading starts at 12:00; free and open to all. \nZoe\, a student at Oakdale High School\, was selected by a panel of judges to serve as the county’s second Youth Poet Laureate. The Youth Poet Laureate program is a partnership between MoSt Poetry\, Stanislaus County Library\, SCOE\, and MJC’s School of Language Arts & Education. For more info: ypl@mostpoetry.org.
URL:https://www.mostpoetry.org/event/2024novypl/
LOCATION:Oakdale Library\, 151 South First Avenue\, Oakdale\, CA\, 95361\, United States
CATEGORIES:Open Mic,Readings,Youth Poet Laureate,Youth Poetry
ATTACH;FMTTYPE=image/png:https://www.mostpoetry.org/wp-content/uploads/2024/10/YPL-reading-Oakdale-Libr-Nov-2024-1920-x-1080-px-e1729638352644.png
ORGANIZER;CN="Stella Beratlis":MAILTO:stellab@mostpoetry.org
END:VEVENT
BEGIN:VEVENT
DTSTART;TZID=America/Los_Angeles:20241126T190000
DTEND;TZID=America/Los_Angeles:20241126T200000
DTSTAMP:20260424T105927
CREATED:20241121T211723Z
LAST-MODIFIED:20241121T211823Z
UID:3496-1732647600-1732651200@www.mostpoetry.org
SUMMARY:Reading/Open Mic & Book Launch for Gary Thomas's O YES WE BREATHE
DESCRIPTION:O Yes We Breathe is a collection of earthborn connections\, a ragged inquiry into our commonalities and yearnings as humans. Divided into four sections (Hard News & Kittens in Trees\, If Memory Serves\, Liaisons Ordinaires\, and Ready to Step Into Waves) these poems address “current” events\, the acts of recollection and reminiscence\, mortal-to-mortal relationships\, and unexpected spiritual encounters and connections. Embedded and resting at rock bottom in this landscape of dusty farms\, remnants from news and history\, summonings of childhood scraps and souvenirs\, and arguments for and within love is the awareness that each of us matters simply because of what we all share. \n<><><><><><><><><><><><><><><><><><><><><><><><><><><><><><><><><><><><>\nGary Thomas writes with a gentility that belies razor-sharp observations of the human condition\, and the humans conditioned to excuse\, ignore and embrace it. O Yes We Breathe is stuffed full of poems posing questions. Will you reminisce\, nodding in agreement\, despair and clench in anger\, gasp at a sudden nuance\, squirm with uncomfortable recognition? Yeah\, you will. But mostly you’ll just marvel…\n——Tama L. Brisbane\, Literary Arts Consultant\, Stockton Poet Laureate Emerita \nIn his new collection\, O Yes We Breathe\, Gary Thomas seamlessly weaves days-gone-by boyhood pastoral with the post-pandemic political and spiritual present. Moving between poems\, I was transfixed by the gentle music within these pages. “I am beholden to beauty that breathes any way it can—” As inhale\, Thomas’ keen eye for detail sharpens the blade of these poems on the sandstone grit of his father’s lessons on life. As exhale\, Thomas delivers poignant and tender incantations summoning the deeper\, higher self. “If all we ever have is what we trade invisibly in our hulls of flesh and fluidity\, we can learn to care for what we have. We can partake our full portion as family. We can breathe easy.” Each poem is a circle within itself “still working with some astonishment\,” rippling outward\, a whole world. This collection: “Let it light the corners.”\n——Kai Coggin\, Poet Laureate of Hot Springs\, Arkansas\, author of Mother of Other Kingdoms and Mining for Stardust \nO Yes We Breathe chronicles a poet’s joyful boyhood and explores\, with wonder\, a changing world. A farmer’s son\, Thomas writes with precision and imagination about nature and human nature through the lens of a “sandstone fireplace\,” “ten prayer things\,” or the miracles of everyday life. He writes\, “I wish we were us again instead of our shadows. I wish/ you were the weather and here. I wish I was abundance.” This is a large-hearted poet\, a book of abundance\, a pleasure through and through.\n——Lee Herrick\, California Poet Laureate\, author of In Praise of Late Wonder:\nNew and Selected Poems and Scar and Flower \n  \nGary Thomas grew up on a peach farm outside Empire\, California. Prior to retirement\, he taught eighth grade language arts for thirty-one years and junior college English for seven. He has presented poetry workshops for literary organizations\, festivals\, and conferences. His poems have been published or accepted for publication in The Comstock Review\, MockingHeart Review\, Atticus Review\, River Heron Review\, Barzakh\, Blue Heron Review\, Split Rock Review\, Book of Matches\, Hole in the Head Review\, and The Banyan Review among others\, and in the anthology More Than Soil\, More Than Sky: The Modesto Poets. He is a founding member of the Modesto-Stanislaus Poetry Center (MoSt) and of the Stanislaus County writing group known as The Licensed Fools. A full-length collection\, All the Connecting Lights\, was released in August 2022 from Finishing Line Press.
URL:https://www.mostpoetry.org/event/thomasoyes/
LOCATION:Prospect Theater Project\, 1214 K Street\, Modesto\, CA\, United States
CATEGORIES:Open Mic,Readings
ATTACH;FMTTYPE=image/jpeg:https://www.mostpoetry.org/wp-content/uploads/2024/11/Garys-1126-Book-Launch-Real-Estate-Flyer-1.jpeg
END:VEVENT
END:VCALENDAR