BEGIN:VCALENDAR
VERSION:2.0
PRODID:-//Modesto-Stanislaus Poetry Center - ECPv6.15.13//NONSGML v1.0//EN
CALSCALE:GREGORIAN
METHOD:PUBLISH
X-WR-CALNAME:Modesto-Stanislaus Poetry Center
X-ORIGINAL-URL:https://www.mostpoetry.org
X-WR-CALDESC:Events for Modesto-Stanislaus Poetry Center
REFRESH-INTERVAL;VALUE=DURATION:PT1H
X-Robots-Tag:noindex
X-PUBLISHED-TTL:PT1H
BEGIN:VTIMEZONE
TZID:America/Los_Angeles
BEGIN:DAYLIGHT
TZOFFSETFROM:-0800
TZOFFSETTO:-0700
TZNAME:PDT
DTSTART:20240310T100000
END:DAYLIGHT
BEGIN:STANDARD
TZOFFSETFROM:-0700
TZOFFSETTO:-0800
TZNAME:PST
DTSTART:20241103T090000
END:STANDARD
BEGIN:DAYLIGHT
TZOFFSETFROM:-0800
TZOFFSETTO:-0700
TZNAME:PDT
DTSTART:20250309T100000
END:DAYLIGHT
BEGIN:STANDARD
TZOFFSETFROM:-0700
TZOFFSETTO:-0800
TZNAME:PST
DTSTART:20251102T090000
END:STANDARD
BEGIN:DAYLIGHT
TZOFFSETFROM:-0800
TZOFFSETTO:-0700
TZNAME:PDT
DTSTART:20260308T100000
END:DAYLIGHT
BEGIN:STANDARD
TZOFFSETFROM:-0700
TZOFFSETTO:-0800
TZNAME:PST
DTSTART:20261101T090000
END:STANDARD
END:VTIMEZONE
BEGIN:VEVENT
DTSTART;TZID=America/Los_Angeles:20250812T190000
DTEND;TZID=America/Los_Angeles:20250812T203000
DTSTAMP:20260423T212545
CREATED:20250729T152238Z
LAST-MODIFIED:20250729T152238Z
UID:3818-1755025200-1755030600@www.mostpoetry.org
SUMMARY:Second Tuesday Poetry: Modesto Poet Laureate Angela Drew + Stanislaus County Youth Poet Laureate Valentina Zeff
DESCRIPTION:Modesto-Stanislaus Poetry Center is pleased to present Second Tuesday Poetry featuring Modesto Poet Laureate Angela Drew with special guest Valentina Zeff\, Stanislaus County Youth Poet Laureate \nDate: Tuesday\, August 12\,  2025\nTime: 7:00 pm PST\nWhere: Bookish Modesto\, 811 W. Orangeburg Ave\, in the Roseburg Square shopping center \nOpen mic following featured poets (3 min per poet); sign up at the event. Hosted by Gillian Wegener \nANGELA DREW  \nAngela Drew is a mother\, dancer\, author\, poet\, and self-proclaimed linguistic artist who has loved the rhythm of words for as long as she can remember. Born in Berkeley\, California\, she began writing at age eight\, and has always understood that words have the power to soothe\, stir\, or solidify connection. She has played with the magic of storytelling ever since.  Angela is the winner and first-place slam champion of Modesto’s 2021 ILL List 16 Poetry Slam. She has performed her spoken word poetry at an array of venues\, just to name a few: Yoshi’s Jazz Club\, Oakland\, California; Gallo Center for the Arts and the State Theater\, Modesto\, California; Brickhouse Art Gallery\, Sacramento\, California\, and Apache Cafe\, Atlanta\, Georgia–a landmark poetry lounge that is home to some of Atlanta’s finest creatives.   \nShe is the author of ElderBerry Wine\, a children’s book written in poetic verse that celebrates the beauty and majesty of our elders\, and the richness they bring by  simply being a part of our lives. Join Angela on her poetic journey on all social media platforms. Her book is available on Amazon\, Barnes & Noble\, and other booksellers.   \n  \nVALENTINA ZEFF \nValentina Zeff is a sixteen-year-old poet from Modesto\, California who is currently enrolled in the International Baccalaureate program at Modesto High School. Zeff has been writing free verse and ballad poetry since her freshman year of high school. \nZeff is active within her community and school through social and environmental activism\, extracurricular projects\, and volunteering. She was selected to be a member of the Park’s Youth Committee (April 2024-current)\, Modesto Youth Commission (October 2024-current)\, and student representative for Modesto High School’s Student Senate for both ninth and tenth grade. During the 2023-2024 Speech and Debate season\, she was a top finalist for Original Spoken Word Poetry at State Qualifications. She is also the founder and Co-President of Modesto High School’s Book Club where she leads discussions on novels and poems of interest. Additionally\, she is the Secretary and head layout editor/designer of the Panther Press\, Modesto High School’s monthly newspaper. \n 
URL:https://www.mostpoetry.org/event/2025aug12/
LOCATION:Bookish Modesto\, 811 W. Roseburg Ave\, Modesto\, CA\, 95350\, United States
CATEGORIES:Open Mic,Readings,Second Tuesday
ATTACH;FMTTYPE=image/png:https://www.mostpoetry.org/wp-content/uploads/2025/07/Aug2025-Second-Tues-1-e1753802491401.png
ORGANIZER;CN="Stella Beratlis":MAILTO:stellab@mostpoetry.org
END:VEVENT
BEGIN:VEVENT
DTSTART;TZID=America/Los_Angeles:20250830T140000
DTEND;TZID=America/Los_Angeles:20250830T150000
DTSTAMP:20260423T212545
CREATED:20250706T201323Z
LAST-MODIFIED:20250706T201323Z
UID:3787-1756562400-1756566000@www.mostpoetry.org
SUMMARY:MoSt Poetry on Saturday featuring Joshua McKinney & Cecil Morris
DESCRIPTION:Please join host Gary Thomas at 2:00 p.m. Saturday\, August 30\, 2025 at Carnegie Arts Center in Turlock\, CA for a poetry reading featuring Joshua McKinney and Cecil Morris. There will be light refreshments and an open mic following the featured poets. This event is free and open to the public. \n \nJoshua McKinney’s fifth book of poetry\, Sad Animal (2024)\, was the recipient of the John Ridland Poetry Prize from Gunpowder Press. His work has appeared in such journals as Boulevard\, Denver Quarterly\, Kenyon Review\, New American Writing\, and many others. He is co-editor of the online ecopoetics journal\, Clade Song. \n \nCecil Morris taught high school English for 37 years in Roseville\, the small northern California city where he grew up. At Work in the Garden of Possibilities is his debut poetry collection. A Pushcart and Best of the Net nominee\, Morris has poems in The 2River Review\, Ekphrastic Review\, Hole in the Head Review\, Lascaux Review\, Rust + Moth\, Sugar House Review\, and elsewhere. He and his wife\, the mother of their children\, divide their year between their California hometown and the cool Oregon coast\, where they walk the beach and marvel at the sea and tide pools and joyful romping dogs. \n \n  \n \n 
URL:https://www.mostpoetry.org/event/most-poetry-on-saturday-featuring-joshua-mckinney-cecil-morris/
LOCATION:Carnegie Arts Center\, 250 N. Broadway\, Turlock\, CA\, 95380\, United States
CATEGORIES:Poetry on Saturday,Readings
ATTACH;FMTTYPE=image/jpeg:https://www.mostpoetry.org/wp-content/uploads/2025/07/MoSt-Poetry-1-e1751830105571.jpg
END:VEVENT
END:VCALENDAR