BEGIN:VCALENDAR
VERSION:2.0
PRODID:-//Modesto-Stanislaus Poetry Center - ECPv6.15.13//NONSGML v1.0//EN
CALSCALE:GREGORIAN
METHOD:PUBLISH
X-WR-CALNAME:Modesto-Stanislaus Poetry Center
X-ORIGINAL-URL:https://www.mostpoetry.org
X-WR-CALDESC:Events for Modesto-Stanislaus Poetry Center
REFRESH-INTERVAL;VALUE=DURATION:PT1H
X-Robots-Tag:noindex
X-PUBLISHED-TTL:PT1H
BEGIN:VTIMEZONE
TZID:America/Los_Angeles
BEGIN:DAYLIGHT
TZOFFSETFROM:-0800
TZOFFSETTO:-0700
TZNAME:PDT
DTSTART:20120311T100000
END:DAYLIGHT
BEGIN:STANDARD
TZOFFSETFROM:-0700
TZOFFSETTO:-0800
TZNAME:PST
DTSTART:20121104T090000
END:STANDARD
BEGIN:DAYLIGHT
TZOFFSETFROM:-0800
TZOFFSETTO:-0700
TZNAME:PDT
DTSTART:20130310T100000
END:DAYLIGHT
BEGIN:STANDARD
TZOFFSETFROM:-0700
TZOFFSETTO:-0800
TZNAME:PST
DTSTART:20131103T090000
END:STANDARD
BEGIN:DAYLIGHT
TZOFFSETFROM:-0800
TZOFFSETTO:-0700
TZNAME:PDT
DTSTART:20140309T100000
END:DAYLIGHT
BEGIN:STANDARD
TZOFFSETFROM:-0700
TZOFFSETTO:-0800
TZNAME:PST
DTSTART:20141102T090000
END:STANDARD
BEGIN:DAYLIGHT
TZOFFSETFROM:-0800
TZOFFSETTO:-0700
TZNAME:PDT
DTSTART:20150308T100000
END:DAYLIGHT
BEGIN:STANDARD
TZOFFSETFROM:-0700
TZOFFSETTO:-0800
TZNAME:PST
DTSTART:20151101T090000
END:STANDARD
BEGIN:DAYLIGHT
TZOFFSETFROM:-0800
TZOFFSETTO:-0700
TZNAME:PDT
DTSTART:20160313T100000
END:DAYLIGHT
BEGIN:STANDARD
TZOFFSETFROM:-0700
TZOFFSETTO:-0800
TZNAME:PST
DTSTART:20161106T090000
END:STANDARD
END:VTIMEZONE
BEGIN:VEVENT
DTSTART;TZID=America/Los_Angeles:20150113T180000
DTEND;TZID=America/Los_Angeles:20150113T200000
DTSTAMP:20260424T153226
CREATED:20150108T003328Z
LAST-MODIFIED:20150108T003328Z
UID:189-1421172000-1421179200@www.mostpoetry.org
SUMMARY:Second Tuesday @ Barkin' Dog
DESCRIPTION:Join us on Jan. 13 for featured readers Soul Vang from Fresno\, author of To Live Here (Imaginary Friend Press\, 2014) and Yu-Han Chao from Merced\, author of We Grow Old: 53 Chinese Love Poems (Backwater Press\, 2009). You can read more about them on the attached flyer and at their websites: www.soulvang.com and yuhanchao.net. This will be an especially great reading because we will also be celebrating the publication of the 6th annual New Year’s Poetry Challenge booklet. See you there!
URL:https://www.mostpoetry.org/event/second-tuesday-jan-2015/
LOCATION:Barkin’ Dog Grill\, 940 11th St\, Modesto\, CA\, 95354\, United States
CATEGORIES:Readings,Second Tuesday
ATTACH;FMTTYPE=image/jpeg:https://www.mostpoetry.org/wp-content/uploads/2017/08/MoSt-Gala-2017-0001.jpg
END:VEVENT
BEGIN:VEVENT
DTSTART;TZID=America/Los_Angeles:20141209T180000
DTEND;TZID=America/Los_Angeles:20141209T200000
DTSTAMP:20260424T153226
CREATED:20141204T230442Z
LAST-MODIFIED:20141204T230455Z
UID:179-1418148000-1418155200@www.mostpoetry.org
SUMMARY:Second Tuesday @ Barkin' Dog
DESCRIPTION:On Tuesday\, Dec. 9\, the Second Tuesday Poetry Series continues with readings from Raina J. Leon and Dimitri Keriotis. Raina is a poet from the East Bay\, whose book\, Boogeyman Dawn\, will just knock your socks off. Dimiti is a prose writer from MJC whose first collection of short stories\, A Quiet Time\, just came out this fall. I know both of these people will be wonderful to hear. The fun will start at 6:00. Our featured readers will be followed by an open mic\, so bring a poem or two to share. Here’s the flyer (PDF) — please post\, print\, and share to your heart’s content. The more\, the merrier!
URL:https://www.mostpoetry.org/event/second-tuesday-barkin-dog-dec2014/
LOCATION:Barkin’ Dog Grill\, 940 11th St\, Modesto\, CA\, 95354\, United States
CATEGORIES:Readings,Second Tuesday
ATTACH;FMTTYPE=image/jpeg:https://www.mostpoetry.org/wp-content/uploads/2017/08/MoSt-Gala-2017-0001.jpg
END:VEVENT
BEGIN:VEVENT
DTSTART;TZID=America/Los_Angeles:20141111T180000
DTEND;TZID=America/Los_Angeles:20141111T200000
DTSTAMP:20260424T153226
CREATED:20141103T195411Z
LAST-MODIFIED:20141103T195411Z
UID:167-1415728800-1415736000@www.mostpoetry.org
SUMMARY:Second Tuesday @ Barkin' Dog
DESCRIPTION:The Second Tuesday Poetry Series is happening at the Barkin’ Dog Grill! Join us on November 11 at 6:00p.m. for a great reading with HELEN WICKES and FLORA CARTER\, and come and enjoy a great dinner too. Open mic after the reading\, so bring a poem or two to share! Click here to download a PDF flyer.
URL:https://www.mostpoetry.org/event/second-tuesday-barkin-dog/
LOCATION:Barkin’ Dog Grill\, 940 11th St\, Modesto\, CA\, 95354\, United States
CATEGORIES:Readings,Second Tuesday
ATTACH;FMTTYPE=image/jpeg:https://www.mostpoetry.org/wp-content/uploads/2017/08/MoSt-Gala-2017-0001.jpg
END:VEVENT
BEGIN:VEVENT
DTSTART;TZID=America/Los_Angeles:20141014T180000
DTEND;TZID=America/Los_Angeles:20141014T200000
DTSTAMP:20260424T153226
CREATED:20141012T234236Z
LAST-MODIFIED:20141012T234400Z
UID:164-1413309600-1413316800@www.mostpoetry.org
SUMMARY:Second Tuesday @ Barkin' Dog Grill
DESCRIPTION:This month at the Barkin’ Dog we will feature Sonoma County poet Katherine Hastings and Modesto poet Dana Koster. \n\nHere is a PDF flyer with more information\, so please print\, post\, forward\, and otherwise share.\n\nAnd don’t forget\, the featured readers will be followed by our Most Excellent Open Mic\, so be sure to bring a poem or two to share.
URL:https://www.mostpoetry.org/event/second-tuesday-barkin-dog-grill-2/
LOCATION:Barkin’ Dog Grill\, 940 11th St\, Modesto\, CA\, 95354\, United States
CATEGORIES:Readings,Second Tuesday
ATTACH;FMTTYPE=image/jpeg:https://www.mostpoetry.org/wp-content/uploads/2017/08/MoSt-Gala-2017-0001.jpg
END:VEVENT
BEGIN:VEVENT
DTSTART;TZID=America/Los_Angeles:20140812T180000
DTEND;TZID=America/Los_Angeles:20140812T200000
DTSTAMP:20260424T153226
CREATED:20140806T194021Z
LAST-MODIFIED:20140806T194021Z
UID:151-1407866400-1407873600@www.mostpoetry.org
SUMMARY:Second Tuesday @ Barkin' Dog Grill
DESCRIPTION:This month at the Barkin’ Dog we will feature Los Angeles poet Lynne Thompson and Stanislaus County poet Linda Scheller. \n\nAttached is a PDF flyer with more information\, so please print\, post\, forward\, and otherwise share.\n\nAnd don’t forget\, the featured readers will be followed by our Most Excellent Open Mic\, so be sure to bring a poem or two to share.
URL:https://www.mostpoetry.org/event/second-tuesday-barkin-dog-grill/
LOCATION:Barkin’ Dog Grill\, 940 11th St\, Modesto\, CA\, 95354\, United States
CATEGORIES:Readings,Second Tuesday
ATTACH;FMTTYPE=image/jpeg:https://www.mostpoetry.org/wp-content/uploads/2017/08/MoSt-Gala-2017-0001.jpg
END:VEVENT
BEGIN:VEVENT
DTSTART;TZID=America/Los_Angeles:20140408T180000
DTEND;TZID=America/Los_Angeles:20140408T200000
DTSTAMP:20260424T153226
CREATED:20140402T020326Z
LAST-MODIFIED:20140402T020326Z
UID:139-1396980000-1396987200@www.mostpoetry.org
SUMMARY:Second Tuesday Poetry Reading
DESCRIPTION:The Second Tuesday Poetry Series is happening at the Barkin’ Dog Grill\, 940 11th Street\, Modesto! \nJoin us on April 8 at 6:00p.m. for a great reading\, and come and enjoy a great dinner too. \nBEVERLY BURCH’s previous poetry collection\, Sweet to Burn (Gival Press\, 2004) won the Gival Poetry Prize and a Lambda Literary Award. Two non-fiction books on psychoanalytic theory and sexual orientation have also been published: On Intimate Terms (U. of Ill. Press) and Other Women (Columbia University Press). An Atlanta native\, she’s lived most of her adult life in the Bay Area and has a psychotherapy practice in Berkeley\, CA. \nMURRAY SILVERSTEIN’s first collection\, Any Old Wolf (Sixteen Rivers Press\, 2006) received an Independent Publisher medal for poetry. Silverstein produced the Sixteen Rivers compact disc\, Naming the Rivers (2008)\, and served as executive editor for the press’s anthology\, The Place That Inhabits Us: Poems of the San Francisco Bay Watershed (2010). His poems have appeared in numerous journals\, including The Brooklyn Review\, Hunger Mountain\, The Louisville Review\, Nimrod\, Poetry East\, and Rattle. A practicing architect and coauthor of four books about architecture\, including A Pattern Language (Oxford University Press) and Patterns of Home (The Taunton Press)\, Silverstein lives in Oakland\, California. \nOur Most Excellent Open Mic will follow the featured readers\, so bring a poem or two to share! \nFor more information\, email info@mostpoetry.org
URL:https://www.mostpoetry.org/event/second-tuesday-apr-8-2014/
LOCATION:Barkin’ Dog Grill\, 940 11th St\, Modesto\, CA\, 95354\, United States
CATEGORIES:Readings,Second Tuesday
ATTACH;FMTTYPE=image/jpeg:https://www.mostpoetry.org/wp-content/uploads/2017/08/MoSt-Gala-2017-0001.jpg
END:VEVENT
BEGIN:VEVENT
DTSTART;TZID=America/Los_Angeles:20140114T180000
DTEND;TZID=America/Los_Angeles:20140114T200000
DTSTAMP:20260424T153226
CREATED:20140109T001548Z
LAST-MODIFIED:20140109T001548Z
UID:114-1389722400-1389729600@www.mostpoetry.org
SUMMARY:Second Tuesday Poetry Reading
DESCRIPTION:The Second Tuesday Poetry Reading at the Barkin’ Dog will feature Brian Medina and Indigo Moore. The reading starts at 6:00 with an open mic to follow\, so bring a poem or two to share.
URL:https://www.mostpoetry.org/event/second-tuesday-poetry-reading-1-2014/
LOCATION:Barkin’ Dog Grill\, 940 11th St\, Modesto\, CA\, 95354\, United States
CATEGORIES:Readings,Second Tuesday
ATTACH;FMTTYPE=image/jpeg:https://www.mostpoetry.org/wp-content/uploads/2017/08/MoSt-Gala-2017-0001.jpg
END:VEVENT
BEGIN:VEVENT
DTSTART;TZID=America/Los_Angeles:20131210T180000
DTEND;TZID=America/Los_Angeles:20131210T200000
DTSTAMP:20260424T153226
CREATED:20131204T204149Z
LAST-MODIFIED:20131204T204149Z
UID:95-1386698400-1386705600@www.mostpoetry.org
SUMMARY:Second Tuesday Poetry Reading
DESCRIPTION:The Second Tuesday Poetry Reading at the Barkin’ Dog will feature Paul Neumann and Gordon Preston\, both reading from their new books. The reading starts at 6:00 with an open mic to follow\, so bring a poem or two to share. A flyer for this reading is here: December 2013 Flyer PDF.
URL:https://www.mostpoetry.org/event/second-tuesday-poetry-reading-12-2013/
LOCATION:Barkin’ Dog Grill\, 940 11th St\, Modesto\, CA\, 95354\, United States
CATEGORIES:Readings,Second Tuesday
ATTACH;FMTTYPE=image/jpeg:https://www.mostpoetry.org/wp-content/uploads/2017/08/MoSt-Gala-2017-0001.jpg
END:VEVENT
END:VCALENDAR