BEGIN:VCALENDAR
VERSION:2.0
PRODID:-//Modesto-Stanislaus Poetry Center - ECPv6.15.13//NONSGML v1.0//EN
CALSCALE:GREGORIAN
METHOD:PUBLISH
X-WR-CALNAME:Modesto-Stanislaus Poetry Center
X-ORIGINAL-URL:https://www.mostpoetry.org
X-WR-CALDESC:Events for Modesto-Stanislaus Poetry Center
REFRESH-INTERVAL;VALUE=DURATION:PT1H
X-Robots-Tag:noindex
X-PUBLISHED-TTL:PT1H
BEGIN:VTIMEZONE
TZID:America/Los_Angeles
BEGIN:DAYLIGHT
TZOFFSETFROM:-0800
TZOFFSETTO:-0700
TZNAME:PDT
DTSTART:20220313T100000
END:DAYLIGHT
BEGIN:STANDARD
TZOFFSETFROM:-0700
TZOFFSETTO:-0800
TZNAME:PST
DTSTART:20221106T090000
END:STANDARD
BEGIN:DAYLIGHT
TZOFFSETFROM:-0800
TZOFFSETTO:-0700
TZNAME:PDT
DTSTART:20230312T100000
END:DAYLIGHT
BEGIN:STANDARD
TZOFFSETFROM:-0700
TZOFFSETTO:-0800
TZNAME:PST
DTSTART:20231105T090000
END:STANDARD
BEGIN:DAYLIGHT
TZOFFSETFROM:-0800
TZOFFSETTO:-0700
TZNAME:PDT
DTSTART:20240310T100000
END:DAYLIGHT
BEGIN:STANDARD
TZOFFSETFROM:-0700
TZOFFSETTO:-0800
TZNAME:PST
DTSTART:20241103T090000
END:STANDARD
END:VTIMEZONE
BEGIN:VEVENT
DTSTART;VALUE=DATE:20230324
DTEND;VALUE=DATE:20230325
DTSTAMP:20260425T180259
CREATED:20230308T183430Z
LAST-MODIFIED:20230308T190012Z
UID:2704-1679616000-1679702399@www.mostpoetry.org
SUMMARY:Deadline: City of Modesto Poet's Corner Contest
DESCRIPTION:The Parks\, Recreation and Neighborhoods Department and the City of Modesto’s Poet’s Corner Committee are pleased to offer an Annual Poets’ Corner Contest. Please view the Poet’s Corner Contest Submission Form for full details. \nSubmissions\nPoems will not be returned after the contest\, so entrants should keep copies of their work. \nElectronic Submissions\n\nInclude one cover page with poet’s name\, address\, email and title(s) of poem(s). If poet is a student\, then indicate grade\, school and name of teacher on the cover page.\nSubmit cover page and poem/poems in one file in .doc\, .docx or .pdf format to the Poets Corner Contest Submission Email.\n\nMailed Submissions\nSubmit one copy of each poem along with one entry form for each poet to one of the following locations: \n\nModesto-Stanislaus Poetry Center\, C/O Poet’s Corner Contest\, PO Box 578940\, Modesto\, CA\, 95353\nMcHenry Museum\, C/O Poet’s Corner Contest\,1402 I Street\, Modesto\, CA\, 95354\n\nPrinted Entry Form and Contest Rules\nMay be picked up at the following locations: \n\nParks\, Recreation & Neighborhoods Department Office – 1010 Tenth Street Place\, Suite 4400\nMcHenry Museum – 1402 I Street\nMcHenry Mansion Visitor’s Center and Gift Shop – 924 15th Street\nStanislaus County Library – 1500 I Street\n\nDeadline\nEntries must be postmarked by Friday\, March 24\, 2023 or submitted electronically by 11:59 pm on Friday\, March 24\, 2023.  \nRequirements\nThe contest is open to all Stanislaus County residents. \nCategories\n\nGeneral: Any kind of poetry on any subject\, rhymed or unrhymed.  Free verse and form welcome.  Group of three haiku accepted as one entry.\nSpecial: “Renewal: How do we restore and renew ourselves and our community after years of pandemic? How do we individually and collectively allow ourselves the space to mourn and feel what has been lost while holding optimism and being open to possibility? What might renewal look like in nature\, ourselves\, our families\, and our communities? What does it feel like to be hopeful\, imagine a better world\, and create the future?”\n\nEntry Limitations\n\nTwo poems per person\nEach poem may not exceed 32 lines\nAll entries must be typed on standard 8.5″ x 11″ paper\, double-spaced\, in standard font\nEntries must be unpublished at the time of submission\nEntries may be two of one category or one of each category\nAt the top of each poem\, indicate contest category and\, if under the age of 18\, grade in school\nDo not put name of poet on any submitted poem: put name on cover page or entry form only\nNo plagiarism or offensive language.\n\n\n\n\n\n\n\n\n\n\n\n\n\nContest Winners\nContest winners will be notified by email (or mail\, when email is unavailable).  Poets will be invited to read their winning poems on Sunday\, June 4\, 2023 at 1:00 PM at the McHenry Museum\, followed by light refreshments. \nWinning poems will be printed in a booklet that will be placed in the Poets’ Bookshelf\, which contains published works by local writers and will be kept at the McHenry Museum. Each winner will receive a copy of the booklet.
URL:https://www.mostpoetry.org/event/deadline-for-poets-corner-contest-march-24/
CATEGORIES:Contests,Submission Opportunities,Youth Poetry
ATTACH;FMTTYPE=image/png:https://www.mostpoetry.org/wp-content/uploads/2023/03/Poets-Corner-Flyer.png
ORGANIZER;CN="Stella Beratlis":MAILTO:stellab@mostpoetry.org
END:VEVENT
END:VCALENDAR