BEGIN:VCALENDAR
VERSION:2.0
PRODID:-//Modesto-Stanislaus Poetry Center - ECPv6.15.13//NONSGML v1.0//EN
CALSCALE:GREGORIAN
METHOD:PUBLISH
X-WR-CALNAME:Modesto-Stanislaus Poetry Center
X-ORIGINAL-URL:https://www.mostpoetry.org
X-WR-CALDESC:Events for Modesto-Stanislaus Poetry Center
REFRESH-INTERVAL;VALUE=DURATION:PT1H
X-Robots-Tag:noindex
X-PUBLISHED-TTL:PT1H
BEGIN:VTIMEZONE
TZID:America/Los_Angeles
BEGIN:DAYLIGHT
TZOFFSETFROM:-0800
TZOFFSETTO:-0700
TZNAME:PDT
DTSTART:20220313T100000
END:DAYLIGHT
BEGIN:STANDARD
TZOFFSETFROM:-0700
TZOFFSETTO:-0800
TZNAME:PST
DTSTART:20221106T090000
END:STANDARD
BEGIN:DAYLIGHT
TZOFFSETFROM:-0800
TZOFFSETTO:-0700
TZNAME:PDT
DTSTART:20230312T100000
END:DAYLIGHT
BEGIN:STANDARD
TZOFFSETFROM:-0700
TZOFFSETTO:-0800
TZNAME:PST
DTSTART:20231105T090000
END:STANDARD
BEGIN:DAYLIGHT
TZOFFSETFROM:-0800
TZOFFSETTO:-0700
TZNAME:PDT
DTSTART:20240310T100000
END:DAYLIGHT
BEGIN:STANDARD
TZOFFSETFROM:-0700
TZOFFSETTO:-0800
TZNAME:PST
DTSTART:20241103T090000
END:STANDARD
END:VTIMEZONE
BEGIN:VEVENT
DTSTART;TZID=America/Los_Angeles:20230513T140000
DTEND;TZID=America/Los_Angeles:20230513T160000
DTSTAMP:20260425T150352
CREATED:20230124T190346Z
LAST-MODIFIED:20230424T200316Z
UID:2657-1683986400-1683993600@www.mostpoetry.org
SUMMARY:2023 Aileen Jaffa Young Poets Awards Ceremony
DESCRIPTION:AILEEN JAFFA YOUNG POETS CONTEST \nCo-sponsored by MoSt (Modesto-Stanislaus Poetry Center) and the National League of American Penwomen (NLAPW)\, Modesto chapter. \nThis contest is offered as a means of encouraging young writers throughout Stanislaus County and as a way to remember poet Aileen Jaffa\, the founding President of the Poets of the San Joaquin and member of the Modesto Branch of the National League of American Pen Women. \nAwards and Recognition \nFirst\, second and third place winners in each category will receive cash awards from the MoSt Poetry Center. Prizes are: First Place $25\, Second Place $15\, Third Place $10. In addition\, the Modesto Branch of the National League of American Pen Women will award a $60 Aileen Jaffa Outstanding Poem award in each of two combined categories\, Categories 1 and 2\, and Categories 3 and 4. \nThe current president of the NLAPW Modesto chapter will present the awards\, and the winning poems will be read at an Awards Ceremony at 2 P.M. on Saturday May 13\, 2023 at the Carnegie Arts Center\, 250 N. Broadway\, Turlock. \nFor more information\, contact info@mostpoetry.org \n 
URL:https://www.mostpoetry.org/event/2023-aileen-jaffa-young-poets-awards-ceremony/
LOCATION:Carnegie Arts Center\, 250 N. Broadway\, Turlock\, CA\, 95380\, United States
CATEGORIES:Other Events,Submission Opportunities,Youth Poetry
ATTACH;FMTTYPE=image/png:https://www.mostpoetry.org/wp-content/uploads/2023/01/2023-aileen-jaffa--e1678300581949.png
ORGANIZER;CN="Stella Beratlis":MAILTO:stellab@mostpoetry.org
END:VEVENT
END:VCALENDAR