BEGIN:VCALENDAR
VERSION:2.0
PRODID:-//Modesto-Stanislaus Poetry Center - ECPv6.15.13//NONSGML v1.0//EN
CALSCALE:GREGORIAN
METHOD:PUBLISH
X-ORIGINAL-URL:https://www.mostpoetry.org
X-WR-CALDESC:Events for Modesto-Stanislaus Poetry Center
REFRESH-INTERVAL;VALUE=DURATION:PT1H
X-Robots-Tag:noindex
X-PUBLISHED-TTL:PT1H
BEGIN:VTIMEZONE
TZID:America/Los_Angeles
BEGIN:DAYLIGHT
TZOFFSETFROM:-0800
TZOFFSETTO:-0700
TZNAME:PDT
DTSTART:20240310T100000
END:DAYLIGHT
BEGIN:STANDARD
TZOFFSETFROM:-0700
TZOFFSETTO:-0800
TZNAME:PST
DTSTART:20241103T090000
END:STANDARD
BEGIN:DAYLIGHT
TZOFFSETFROM:-0800
TZOFFSETTO:-0700
TZNAME:PDT
DTSTART:20250309T100000
END:DAYLIGHT
BEGIN:STANDARD
TZOFFSETFROM:-0700
TZOFFSETTO:-0800
TZNAME:PST
DTSTART:20251102T090000
END:STANDARD
BEGIN:DAYLIGHT
TZOFFSETFROM:-0800
TZOFFSETTO:-0700
TZNAME:PDT
DTSTART:20260308T100000
END:DAYLIGHT
BEGIN:STANDARD
TZOFFSETFROM:-0700
TZOFFSETTO:-0800
TZNAME:PST
DTSTART:20261101T090000
END:STANDARD
END:VTIMEZONE
BEGIN:VEVENT
DTSTART;TZID=America/Los_Angeles:20250201T100000
DTEND;TZID=America/Los_Angeles:20250201T140000
DTSTAMP:20260424T075532
CREATED:20241216T212756Z
LAST-MODIFIED:20241216T214810Z
UID:3535-1738404000-1738418400@www.mostpoetry.org
SUMMARY:13th Annual MoSt Poetry Festival with Michael Meyerhofer: Pulling Up the Floorboards
DESCRIPTION:For poets and poetry lovers\, MoSt Poetry Festival is the place to be on Saturday\, February 1. \nJoin us as we meet fellow poets and create space to write new poems in supportive community. This event features a generative workshop led by author Michael Meyerhofer\, whose workshop Pulling Up the Floorboards: Two Radical Approaches to Revising Poems\, will guide you through the process of writing as well as revision. \nRSVP $40. Price includes continental breakfast and a light lunch. \nIf you are a poet with a publication\, feel free to bring your books to sell. Bring poetry books to exchange at our community table. \n  \nAbout Michael Meyerhofer\nMichael Meyerhofer is a contemporary poet and fantasy author who believes those two genres genuinely can get along. His fifth poetry book\, Ragged Eden\, was published by Glass Lyre Press. His fourth\, What To Do If You’re Buried Alive\, was originally published by Split Lip Press\, then recently re-released by the fine books at Doubleback Press (click here to download it for free!). His third\, Damnatio Memoriae (lit. “damned memory”)\, won the Brick Road Poetry Book Contest. His previous books are Leaving Iowa (winner of the Liam Rector First Book Award) and Blue Collar Eulogies (Steel Toe Books\, finalist for the Grub Street Book Prize). \nIn addition to his poetry books\, he has published two fantasy trilogies. His debut fantasy novel\, Wytchfire (Book I in the Dragonkin Trilogy)\, was published by Red Adept Publishing\, and went on to win the Whirling Prize and a Readers Choice nomination from Big Al’s Books and Pals. \nHe has also published six poetry chapbooks: To the Person Who Tends My Body (out now from Finishing Line Press)\, Pure Elysium (winner of the Palettes and Quills Chapbook Contest)\, The Clay-Shaper’s Husband (winner of the Codhill Press Chapbook Award)\, Real Courage (winner of the Terminus Magazine and Jeanne Duval Editions Poetry Chapbook Prize)\, The Right Madness of Beggars (winner of the Uccelli Press 3rd Annual Chapbook Competition)\, and Cardboard Urn (winner of the Copperdome Chapbook Contest). \nMichael has won the Marjorie J. Wilson Best Poem Contest\, the Laureate Prize for Poetry\, the James Wright Poetry Award\, and the Annie Finch Prize for Poetry. His work has appeared in Ploughshares\, North American Review\, Arts & Letters\, River Styx\, Quick Fiction\, Asimov’s Science Fiction Magazine\, and other journals. \nHe received his BA from the University of Iowa and his MFA from Southern Illinois University Carbondale. An avid weightlifter\, medieval weapons collector\, and unabashed history nerd\, he currently lives\, teaches\, and inhabits various coffee shops around Fresno\, CA.
URL:https://www.mostpoetry.org/event/2025festival/
LOCATION:Carnegie Arts Center\, 250 N. Broadway\, Turlock\, CA\, 95380\, United States
CATEGORIES:Festival,Workshops
ATTACH;FMTTYPE=image/png:https://www.mostpoetry.org/wp-content/uploads/2024/12/Festival_FBEventCover-e1734384460154.png
END:VEVENT
END:VCALENDAR