BEGIN:VCALENDAR
VERSION:2.0
PRODID:-//Modesto-Stanislaus Poetry Center - ECPv6.15.13//NONSGML v1.0//EN
CALSCALE:GREGORIAN
METHOD:PUBLISH
X-ORIGINAL-URL:https://www.mostpoetry.org
X-WR-CALDESC:Events for Modesto-Stanislaus Poetry Center
REFRESH-INTERVAL;VALUE=DURATION:PT1H
X-Robots-Tag:noindex
X-PUBLISHED-TTL:PT1H
BEGIN:VTIMEZONE
TZID:America/Los_Angeles
BEGIN:DAYLIGHT
TZOFFSETFROM:-0800
TZOFFSETTO:-0700
TZNAME:PDT
DTSTART:20240310T100000
END:DAYLIGHT
BEGIN:STANDARD
TZOFFSETFROM:-0700
TZOFFSETTO:-0800
TZNAME:PST
DTSTART:20241103T090000
END:STANDARD
BEGIN:DAYLIGHT
TZOFFSETFROM:-0800
TZOFFSETTO:-0700
TZNAME:PDT
DTSTART:20250309T100000
END:DAYLIGHT
BEGIN:STANDARD
TZOFFSETFROM:-0700
TZOFFSETTO:-0800
TZNAME:PST
DTSTART:20251102T090000
END:STANDARD
BEGIN:DAYLIGHT
TZOFFSETFROM:-0800
TZOFFSETTO:-0700
TZNAME:PDT
DTSTART:20260308T100000
END:DAYLIGHT
BEGIN:STANDARD
TZOFFSETFROM:-0700
TZOFFSETTO:-0800
TZNAME:PST
DTSTART:20261101T090000
END:STANDARD
END:VTIMEZONE
BEGIN:VEVENT
DTSTART;TZID=America/Los_Angeles:20250816T130000
DTEND;TZID=America/Los_Angeles:20250816T150000
DTSTAMP:20260423T225905
CREATED:20250706T181508Z
LAST-MODIFIED:20250706T181508Z
UID:3772-1755349200-1755356400@www.mostpoetry.org
SUMMARY:MoSt Summer Poetry Workshop - The Journey Itself is Home: Haibun as Travel Journal
DESCRIPTION:Haibun——the blending or braiding of prose poetry and haiku——has been a vehicle to reflect upon and write about human journeys——external and internal——since the days of the 17th Century Japanese poet Bashō. Join MoSt board member Gary Thomas as we consider and make some sense of the journeys we take in life. Writing supplies will be provided\, but feel free to bring your favorite pen\, pad\, tablet\, and/or travel photos! \nAs always\, this MoSt Summer Poetry Workshop is free and open to the public. We hope to see you from 1:00-3:00 p.m. on Saturday\, August 16th at the Salida Public Library\, 4835 Sisk Road\, Salida CA.
URL:https://www.mostpoetry.org/event/most-summer-poetry-workshop-the-journey-itself-is-home-haibun-as-travel-journal/
LOCATION:Salida Public Library\, 4835 Sisk Road\, Salida\, CA\, 95368\, United States
CATEGORIES:Workshops
ATTACH;FMTTYPE=image/jpeg:https://www.mostpoetry.org/wp-content/uploads/2025/07/MoSt-Poetry-e1751824641423.jpg
END:VEVENT
END:VCALENDAR