BEGIN:VCALENDAR
VERSION:2.0
PRODID:-//Modesto-Stanislaus Poetry Center - ECPv6.15.13//NONSGML v1.0//EN
CALSCALE:GREGORIAN
METHOD:PUBLISH
X-WR-CALNAME:Modesto-Stanislaus Poetry Center
X-ORIGINAL-URL:https://www.mostpoetry.org
X-WR-CALDESC:Events for Modesto-Stanislaus Poetry Center
REFRESH-INTERVAL;VALUE=DURATION:PT1H
X-Robots-Tag:noindex
X-PUBLISHED-TTL:PT1H
BEGIN:VTIMEZONE
TZID:America/Los_Angeles
BEGIN:DAYLIGHT
TZOFFSETFROM:-0800
TZOFFSETTO:-0700
TZNAME:PDT
DTSTART:20240310T100000
END:DAYLIGHT
BEGIN:STANDARD
TZOFFSETFROM:-0700
TZOFFSETTO:-0800
TZNAME:PST
DTSTART:20241103T090000
END:STANDARD
BEGIN:DAYLIGHT
TZOFFSETFROM:-0800
TZOFFSETTO:-0700
TZNAME:PDT
DTSTART:20250309T100000
END:DAYLIGHT
BEGIN:STANDARD
TZOFFSETFROM:-0700
TZOFFSETTO:-0800
TZNAME:PST
DTSTART:20251102T090000
END:STANDARD
BEGIN:DAYLIGHT
TZOFFSETFROM:-0800
TZOFFSETTO:-0700
TZNAME:PDT
DTSTART:20260308T100000
END:DAYLIGHT
BEGIN:STANDARD
TZOFFSETFROM:-0700
TZOFFSETTO:-0800
TZNAME:PST
DTSTART:20261101T090000
END:STANDARD
END:VTIMEZONE
BEGIN:VEVENT
DTSTART;TZID=America/Los_Angeles:20251025T130000
DTEND;TZID=America/Los_Angeles:20251025T133000
DTSTAMP:20260423T195152
CREATED:20251014T003604Z
LAST-MODIFIED:20251019T215926Z
UID:3904-1761397200-1761399000@www.mostpoetry.org
SUMMARY:Author Bio Workshop & Youth Poet Laureate Q & A
DESCRIPTION:Mini Author Biography Workshop & Youth Poet Laureate Q & A\nValentina Zeff\, current Stanislaus County Youth Poet Laureate\, answers your questions! \nJoin us on Saturday\, October 25\, 2025\, at 1:00 p.m. as Youth Poet Laureate Valentina Zeff shares tips on how to write an author bio.  This is great to have when you’re submitting poems to anthologies and poetry journals\, entering poetry contests\, and when you’ve been asked to feature at a poetry reading. \nFeel free to drop in and meet Valentina and learn about the Woven Words: Teen Voices from the Central Valley Anthology and how you can submit poems for that. \nZoom Meeting Link 
URL:https://www.mostpoetry.org/event/25oct2025/
LOCATION:Zoom
CATEGORIES:Workshops,Youth Poet Laureate,Youth Poetry
ATTACH;FMTTYPE=image/jpeg:https://www.mostpoetry.org/wp-content/uploads/2017/08/MoSt-Gala-2017-0001.jpg
ORGANIZER;CN="Stella Beratlis":MAILTO:stellab@mostpoetry.org
END:VEVENT
END:VCALENDAR