BEGIN:VCALENDAR
VERSION:2.0
PRODID:-//Modesto-Stanislaus Poetry Center - ECPv6.15.13//NONSGML v1.0//EN
CALSCALE:GREGORIAN
METHOD:PUBLISH
X-WR-CALNAME:Modesto-Stanislaus Poetry Center
X-ORIGINAL-URL:https://www.mostpoetry.org
X-WR-CALDESC:Events for Modesto-Stanislaus Poetry Center
REFRESH-INTERVAL;VALUE=DURATION:PT1H
X-Robots-Tag:noindex
X-PUBLISHED-TTL:PT1H
BEGIN:VTIMEZONE
TZID:America/Los_Angeles
BEGIN:DAYLIGHT
TZOFFSETFROM:-0800
TZOFFSETTO:-0700
TZNAME:PDT
DTSTART:20220313T100000
END:DAYLIGHT
BEGIN:STANDARD
TZOFFSETFROM:-0700
TZOFFSETTO:-0800
TZNAME:PST
DTSTART:20221106T090000
END:STANDARD
BEGIN:DAYLIGHT
TZOFFSETFROM:-0800
TZOFFSETTO:-0700
TZNAME:PDT
DTSTART:20230312T100000
END:DAYLIGHT
BEGIN:STANDARD
TZOFFSETFROM:-0700
TZOFFSETTO:-0800
TZNAME:PST
DTSTART:20231105T090000
END:STANDARD
BEGIN:DAYLIGHT
TZOFFSETFROM:-0800
TZOFFSETTO:-0700
TZNAME:PDT
DTSTART:20240310T100000
END:DAYLIGHT
BEGIN:STANDARD
TZOFFSETFROM:-0700
TZOFFSETTO:-0800
TZNAME:PST
DTSTART:20241103T090000
END:STANDARD
BEGIN:DAYLIGHT
TZOFFSETFROM:-0800
TZOFFSETTO:-0700
TZNAME:PDT
DTSTART:20250309T100000
END:DAYLIGHT
BEGIN:STANDARD
TZOFFSETFROM:-0700
TZOFFSETTO:-0800
TZNAME:PST
DTSTART:20251102T090000
END:STANDARD
BEGIN:DAYLIGHT
TZOFFSETFROM:-0800
TZOFFSETTO:-0700
TZNAME:PDT
DTSTART:20260308T100000
END:DAYLIGHT
BEGIN:STANDARD
TZOFFSETFROM:-0700
TZOFFSETTO:-0800
TZNAME:PST
DTSTART:20261101T090000
END:STANDARD
BEGIN:DAYLIGHT
TZOFFSETFROM:-0800
TZOFFSETTO:-0700
TZNAME:PDT
DTSTART:20270314T100000
END:DAYLIGHT
BEGIN:STANDARD
TZOFFSETFROM:-0700
TZOFFSETTO:-0800
TZNAME:PST
DTSTART:20271107T090000
END:STANDARD
END:VTIMEZONE
BEGIN:VEVENT
DTSTART;TZID=America/Los_Angeles:20260228T130000
DTEND;TZID=America/Los_Angeles:20260228T130000
DTSTAMP:20260424T171152
CREATED:20260227T030236Z
LAST-MODIFIED:20260227T031745Z
UID:4063-1772283600-1772283600@www.mostpoetry.org
SUMMARY:Write a Tiny Poem: Workshop with Youth Poet Laureate Valentina Zeff
DESCRIPTION:Tiny Poem Workshop With Stanislaus County Youth Poet Laureate Valentina Zeff.  All are welcome! \nLearn how to write a tiny poem + enjoy a Q&A with the Youth Poet Laureate. Find out how to submit your poems to the contest. The Woven Words Tiny Poem Contest is FREE and open to teens who live in or attend high school in Stanislaus County. The contest is a publication opportunity–the entries will be woven into a larger poem and published in a book\, and we will celebrate together a bit later in the spring! \nPLUS YOU CAN WIN PRIZES–top poem in each theme wins $50. Note: all poems will be accepted for publication. Please see contest guidelines for details. \nZoom link: https://us06web.zoom.us/j/85093492645
URL:https://www.mostpoetry.org/event/tiny-poem-workshop-for-ypl-teen-poetry-contest/
LOCATION:Zoom
CATEGORIES:Contests,Submission Opportunities,Youth Poet Laureate,Youth Poetry
ATTACH;FMTTYPE=image/png:https://www.mostpoetry.org/wp-content/uploads/2026/02/tinypoem_workshopFeb28-e1772162239552.png
ORGANIZER;CN="Stella Beratlis":MAILTO:stellab@mostpoetry.org
END:VEVENT
BEGIN:VEVENT
DTSTART;TZID=America/Los_Angeles:20260131T130000
DTEND;TZID=America/Los_Angeles:20260131T140000
DTSTAMP:20260424T171152
CREATED:20260123T210646Z
LAST-MODIFIED:20260130T211716Z
UID:4019-1769864400-1769868000@www.mostpoetry.org
SUMMARY:Write a Tiny Poem Workshop Postponed until February--date TBA
DESCRIPTION:Mini Workshop & Youth Poet Laureate Q & A\n\n\n\nZoom workshop has been cancelled due to unforeseen circumstance. Please return to this page to see future workshops during the month of February!  \nWOVEN WORDS Youth Poetry Contest deadline extended: February 28\, 2026.  \n  \n \n  \nValentina Zeff\, current Stanislaus County Youth Poet Laureate\, answers your questions!\n\n\n\nJoin us on Saturday\, January 24\, 2026 January 31\, 2026\, at 1:00 p.m. as Youth Poet Laureate Valentina Zeff shares tips on how to write a tiny poem for the Woven Words Teen Contest. \n\n\n\nThen you can easily submit your poems to our contest! \n\n\n\nFeel free to drop in and meet Valentina and learn about the Woven Words: Teen Voices from the Central Valley Anthology and how you can submit poems for the contest.
URL:https://www.mostpoetry.org/event/write-a-tiny-poem-with-youth-poet-laureate-valentina-zeff/
CATEGORIES:Contests,Workshops,Youth Poet Laureate,Youth Poetry
ATTACH;FMTTYPE=image/jpeg:https://www.mostpoetry.org/wp-content/uploads/2017/08/MoSt-Gala-2017-0001.jpg
ORGANIZER;CN="Stella Beratlis":MAILTO:stellab@mostpoetry.org
END:VEVENT
BEGIN:VEVENT
DTSTART;TZID=America/Los_Angeles:20260117T130000
DTEND;TZID=America/Los_Angeles:20260117T140000
DTSTAMP:20260424T171152
CREATED:20251217T210308Z
LAST-MODIFIED:20251217T211627Z
UID:3992-1768654800-1768658400@www.mostpoetry.org
SUMMARY:Mini-Workshop for Teens: Write a Tiny Poem - Contest Deadline Jan. 31
DESCRIPTION:Mini Workshop & Youth Poet Laureate Q & A\nValentina Zeff\, current Stanislaus County Youth Poet Laureate\, answers your questions!\nTeens are invited to join Valentina on Zoom on one (or both!) of these two dates: Saturday\, January 17 and Saturday\, January 24\, 2026\, at 1:00 p.m. Valentina shares great tips on how to write a tiny poem for the Woven Words Teen Contest. \nThen you can easily submit your poems to our contest! Deadline for that is January 31\, 2026. \nFeel free to drop in and meet Valentina and learn about the Woven Words: Teen Voices from the Central Valley Anthology. \n  \nJanuary 17 Zoom Meeting\nJanuary 24 Zoom Meeting\n 
URL:https://www.mostpoetry.org/event/2026jan17/
CATEGORIES:Contests,Submission Opportunities,Workshops,Youth Poet Laureate,Youth Poetry
ATTACH;FMTTYPE=image/png:https://www.mostpoetry.org/wp-content/uploads/2025/11/JAN-17-WORKSHOP-e1766005184932.png
ORGANIZER;CN="Stella Beratlis":MAILTO:stellab@mostpoetry.org
END:VEVENT
BEGIN:VEVENT
DTSTART;TZID=America/Los_Angeles:20251025T130000
DTEND;TZID=America/Los_Angeles:20251025T133000
DTSTAMP:20260424T171152
CREATED:20251014T003604Z
LAST-MODIFIED:20251019T215926Z
UID:3904-1761397200-1761399000@www.mostpoetry.org
SUMMARY:Author Bio Workshop & Youth Poet Laureate Q & A
DESCRIPTION:Mini Author Biography Workshop & Youth Poet Laureate Q & A\nValentina Zeff\, current Stanislaus County Youth Poet Laureate\, answers your questions! \nJoin us on Saturday\, October 25\, 2025\, at 1:00 p.m. as Youth Poet Laureate Valentina Zeff shares tips on how to write an author bio.  This is great to have when you’re submitting poems to anthologies and poetry journals\, entering poetry contests\, and when you’ve been asked to feature at a poetry reading. \nFeel free to drop in and meet Valentina and learn about the Woven Words: Teen Voices from the Central Valley Anthology and how you can submit poems for that. \nZoom Meeting Link 
URL:https://www.mostpoetry.org/event/25oct2025/
LOCATION:Zoom
CATEGORIES:Workshops,Youth Poet Laureate,Youth Poetry
ATTACH;FMTTYPE=image/jpeg:https://www.mostpoetry.org/wp-content/uploads/2017/08/MoSt-Gala-2017-0001.jpg
ORGANIZER;CN="Stella Beratlis":MAILTO:stellab@mostpoetry.org
END:VEVENT
BEGIN:VEVENT
DTSTART;TZID=America/Los_Angeles:20250531T130000
DTEND;TZID=America/Los_Angeles:20250531T140000
DTSTAMP:20260424T171152
CREATED:20250501T000924Z
LAST-MODIFIED:20250503T184819Z
UID:3713-1748696400-1748700000@www.mostpoetry.org
SUMMARY:Welcome 2025-2026 Youth Poet Laureate: Reading & Reception
DESCRIPTION:We’ll be celebrating our incoming youth poet laureate\, Valentina Zeff\, at a reading/reception at Modesto Junior College’s Science Community Center.  Come listen to a few poems\, meet youth poets\, and learn about the youth poet laureate program. \nValentina Zeff is a sixteen-year-old poet from Modesto\, California who is currently enrolled in the International Baccalaureate program at Modesto High School. Zeff has been writing free verse and ballad poetry since her freshman year of high school. \nZeff is active within her community and school through social and environmental activism\, extracurricular projects\, and volunteering. She was selected to be a member of the Park’s Youth Committee (April 2024-current)\, Modesto Youth Commission (October 2024-current)\, and student representative for Modesto High School’s Student Senate for both ninth and tenth grade. During the 2023-2024 Speech and Debate season\, she was a top finalist for Original Spoken Word Poetry at State Qualifications. She is also the founder and Co-President of Modesto High School’s Book Club where she leads discussions on novels and poems of interest. Additionally\, she is the Secretary and head layout editor/designer of the Panther Press\, Modesto High School’s monthly newspaper. \nPlease welcome our incoming Stanislaus County Youth Poet Laureate\, Valentina Zeff! \nThe Stanislaus County Youth Poet Laureate program is administered by Modesto-Stanislaus Poetry Center (MoSt Poetry) with partners MJC Library & Learning Center & MJC School of Language Arts & Education\, Stanislaus County Office of Education\, Stanislaus County Library\, and Stanislaus Library Foundation. \n 
URL:https://www.mostpoetry.org/event/2025yplreception/
LOCATION:Modesto Junior College West Campus\, 2201 Blue Gum Avenue\, Modesto\, CA\, 95358\, United States
CATEGORIES:Readings,Youth Poet Laureate,Youth Poetry
ATTACH;FMTTYPE=image/png:https://www.mostpoetry.org/wp-content/uploads/2025/04/yplreading2025may_rev2-e1746297868725.png
ORGANIZER;CN="Stella Beratlis":MAILTO:stellab@mostpoetry.org
END:VEVENT
BEGIN:VEVENT
DTSTART;TZID=America/Los_Angeles:20250517T130000
DTEND;TZID=America/Los_Angeles:20250517T150000
DTSTAMP:20260424T171152
CREATED:20250424T224708Z
LAST-MODIFIED:20250510T035050Z
UID:3696-1747486800-1747494000@www.mostpoetry.org
SUMMARY:Youth Poet Laureate Send-Off Reading & Open Mic: Zoe Byron
DESCRIPTION:Please join us as we bid a fond farewell to 2024-2025 Youth Poet Laureate Zoe Byron\, whose tenure as youth laureate is complete at the end of May. She’s the second ever Stanislaus County Youth Poet Laureate and has done a beautiful job representing the voice of youth through her poems. \nThis final reading will take place at the Oakdale Public Library\, 151 S. First Avenue\, Oakdale CA 95361. Please bring a poem to share at open mic! Reading starts at 1:00 p.m. in the Community Room just inside the front entrance. \n 
URL:https://www.mostpoetry.org/event/2025may17/
LOCATION:Oakdale Library\, 151 South First Avenue\, Oakdale\, CA\, 95361\, United States
CATEGORIES:Open Mic,Readings,Youth Poet Laureate,Youth Poetry
ATTACH;FMTTYPE=image/png:https://www.mostpoetry.org/wp-content/uploads/2025/04/2025may17-ypl-e1745534524532.png
ORGANIZER;CN="Stella Beratlis":MAILTO:stellab@mostpoetry.org
END:VEVENT
BEGIN:VEVENT
DTSTART;TZID=America/Los_Angeles:20250419T120000
DTEND;TZID=America/Los_Angeles:20250419T133000
DTSTAMP:20260424T171152
CREATED:20250126T015232Z
LAST-MODIFIED:20250327T002719Z
UID:3601-1745064000-1745069400@www.mostpoetry.org
SUMMARY:Stanislaus Cty Youth Poet Laureate Reading & Open Mic with Zoe Byron
DESCRIPTION:Join Zoe Byron\, 2024-2025 Youth Poet Laureate of Stanislaus County\, as she reads poems in celebration of National Poetry Month. Be sure to bring a poem or two to share at the Open Mic\, following Zoe’s reading. They don’t have to be poems you’ve written! Just come have some fun with us. \nAt the Salida Library\, April 19 at noon.
URL:https://www.mostpoetry.org/event/2025yplapril/
LOCATION:Nick W. Blom Salida Regional Library Branch\, 4835 Sisk Road\, Salida\, 95368\, United States
CATEGORIES:Open Mic,Readings,Youth Poet Laureate,Youth Poetry
ATTACH;FMTTYPE=image/png:https://www.mostpoetry.org/wp-content/uploads/2025/01/YPL-Reading_Salida_Apr2025-1-e1740704944777.png
END:VEVENT
BEGIN:VEVENT
DTSTART;TZID=America/Los_Angeles:20241123T120000
DTEND;TZID=America/Los_Angeles:20241123T130000
DTSTAMP:20260424T171152
CREATED:20241022T230806Z
LAST-MODIFIED:20241022T230806Z
UID:3488-1732363200-1732366800@www.mostpoetry.org
SUMMARY:Poetry Reading and Open Mic featuring Youth Poet Laureate Zoe Byron
DESCRIPTION:Please join Modesto-Stanislaus Poetry Center and Stanislaus County Library at a poetry reading and open mic at the Oakdale Library\, featuring Stanislaus County Youth Poet Laureate Zoe Byron. Bring a poem—your own or a favorite–to share at open mic. Reading starts at 12:00; free and open to all. \nZoe\, a student at Oakdale High School\, was selected by a panel of judges to serve as the county’s second Youth Poet Laureate. The Youth Poet Laureate program is a partnership between MoSt Poetry\, Stanislaus County Library\, SCOE\, and MJC’s School of Language Arts & Education. For more info: ypl@mostpoetry.org.
URL:https://www.mostpoetry.org/event/2024novypl/
LOCATION:Oakdale Library\, 151 South First Avenue\, Oakdale\, CA\, 95361\, United States
CATEGORIES:Open Mic,Readings,Youth Poet Laureate,Youth Poetry
ATTACH;FMTTYPE=image/png:https://www.mostpoetry.org/wp-content/uploads/2024/10/YPL-reading-Oakdale-Libr-Nov-2024-1920-x-1080-px-e1729638352644.png
ORGANIZER;CN="Stella Beratlis":MAILTO:stellab@mostpoetry.org
END:VEVENT
BEGIN:VEVENT
DTSTART;TZID=America/Los_Angeles:20240803T140000
DTEND;TZID=America/Los_Angeles:20240803T150000
DTSTAMP:20260424T171152
CREATED:20240705T222446Z
LAST-MODIFIED:20240724T201711Z
UID:3339-1722693600-1722697200@www.mostpoetry.org
SUMMARY:Stanislaus County Youth Poet Laureate Reception & Reading
DESCRIPTION:Join us on Saturday\, August 3\, 2024 from 2-3 pm at the Carnegie Arts Center as we celebrate our incoming Stanislaus County Youth Poet Laureate. \nWelcome our new laureate\, Zoe Byron of Oakdale\, and bid a fond farewell to our inaugural laureate\,  Faith Delgado of Turlock.  With readings and refreshments. \nAt The Loft\, 3rd floor of the Carnegie Arts Center\, \nThe Stanislaus County Youth Poet Laureate program is a partnership between Modesto-Stanislaus Poetry Center\, Stanislaus County Library\, Stanislaus County Office of Education\, MJC’s School of Language Arts and Education\, and the Stanislaus Library Foundation. \n  \n  \n 
URL:https://www.mostpoetry.org/event/ypl2024reception/
LOCATION:Carnegie Arts Center\, 250 N. Broadway\, Turlock\, CA\, 95380\, United States
CATEGORIES:Youth Poet Laureate
ATTACH;FMTTYPE=image/png:https://www.mostpoetry.org/wp-content/uploads/2024/07/Poet-Laureate-Reception-Aug-2024-e1720752518556.png
ORGANIZER;CN="Stella Beratlis":MAILTO:stellab@mostpoetry.org
END:VEVENT
BEGIN:VEVENT
DTSTART;TZID=America/Los_Angeles:20240420T140000
DTEND;TZID=America/Los_Angeles:20240420T153000
DTSTAMP:20260424T171152
CREATED:20240404T213738Z
LAST-MODIFIED:20240415T215930Z
UID:3231-1713621600-1713627000@www.mostpoetry.org
SUMMARY:Youth Poet Laureate's Painless Poetry: Open Mic Performance
DESCRIPTION:Saturday\, Apr. 20\, 2 pm\n\nJoin Faith Delgado\, 2023-24 Stanislaus County Youth Poet Laureate\, in this final installment of Painless Poetry. Come show off what you’ve been working on these past months! Connect with Stanislaus County Youth Poet Laureate Faith Delgado if you’d like more information: faithd@mostpoetry.org\n\nLight refreshments will be served while they last.
URL:https://www.mostpoetry.org/event/youth-poet-laureates-painless-poetry-open-mic-performance/
LOCATION:Turlock Library\, 550 N. Minaret Ave\, Turlock\, 95382\, United States
CATEGORIES:Open Mic,Poetry Slam,Readings,Youth Poet Laureate,Youth Poetry
ATTACH;FMTTYPE=image/png:https://www.mostpoetry.org/wp-content/uploads/2024/04/YPL-Open-Mic-Apr-2024-1-e1713214377607.png
ORGANIZER;CN="Stella Beratlis":MAILTO:stellab@mostpoetry.org
END:VEVENT
BEGIN:VEVENT
DTSTART;TZID=America/Los_Angeles:20240316T140000
DTEND;TZID=America/Los_Angeles:20240316T153000
DTSTAMP:20260424T171152
CREATED:20240227T234235Z
LAST-MODIFIED:20240227T234235Z
UID:3194-1710597600-1710603000@www.mostpoetry.org
SUMMARY:Painless Poetry for Teen Poets: Performance Strategies
DESCRIPTION:Painless Poetry: A Workshop for Aspiring Teen Poets – Performance Strategies\nTurlock Library in the Maker Space\n\nHow do you inhabit the space on stage when performing a piece? How about holding a microphone and reading from a page? Join Faith Delgado\, 2023-24 Stanislaus County Youth Poet Laureate\, who will share strategies and explore what might work while performing spoken word poetry. This program is presented in partnership with Modesto-Stanislaus Poetry Center (MoSt)\n  \nSponsored by Modesto-Stanislaus Poetry Center
URL:https://www.mostpoetry.org/event/painless-poetry-for-teen-poets-performance-strategies/
LOCATION:Turlock Library\, 550 N. Minaret Ave\, Turlock\, 95382\, United States
CATEGORIES:Workshops,Youth Poet Laureate,Youth Poetry
ATTACH;FMTTYPE=image/png:https://www.mostpoetry.org/wp-content/uploads/2024/02/PAINLESS-POETRY-MARCH-2024-e1709077306842.png
ORGANIZER;CN="Stella Beratlis":MAILTO:stellab@mostpoetry.org
END:VEVENT
BEGIN:VEVENT
DTSTART;VALUE=DATE:20240127
DTEND;VALUE=DATE:20240128
DTSTAMP:20260424T171152
CREATED:20231215T211402Z
LAST-MODIFIED:20231215T211453Z
UID:3117-1706313600-1706399999@www.mostpoetry.org
SUMMARY:Deadline to apply for Youth Poet Laureate
DESCRIPTION:Young poets: Don’t forget to apply for the Youth Poet Laureate contest by January 27\, 2024. Open to poets ages 15-19 who live or attend school in Stanislaus County and who will reside in the area through the youth poet laureate term (June 1\, 2024 – May 31\, 2025). All details at the Youth Poet Laureate contest page. \nDeadline is 11:59 pm on Saturday\, January 27\, 2024.
URL:https://www.mostpoetry.org/event/deadline-to-apply-for-youth-poet-laureate/
CATEGORIES:Contests,Youth Poet Laureate,Youth Poetry
ATTACH;FMTTYPE=image/jpeg:https://www.mostpoetry.org/wp-content/uploads/2017/08/MoSt-Gala-2017-0001.jpg
ORGANIZER;CN="Stella Beratlis":MAILTO:stellab@mostpoetry.org
END:VEVENT
BEGIN:VEVENT
DTSTART;TZID=America/Los_Angeles:20240113T140000
DTEND;TZID=America/Los_Angeles:20240113T150000
DTSTAMP:20260424T171152
CREATED:20240110T032607Z
LAST-MODIFIED:20240111T232225Z
UID:3144-1705154400-1705158000@www.mostpoetry.org
SUMMARY:Painless Poetry for Teens: Learn about the Stanislaus Youth Poet Laureate Contest
DESCRIPTION:January 13\, 2024. Future Youth Poets Laureate\, Unite! In this first gathering\, learn about the Stanislaus County Youth Poet Laureate program and learn tips for completing the contest  application\, which is due Jan. 27.  Read on to find out about this monthly series.  \n\nPainless Poetry: Workshops for Aspiring Teen Poets/Spoken Word Performers  \nJoin Faith Delgado\, 2023-24 Stanislaus County Youth Poet Laureate\, in a series of informal gatherings to explore the world of spoken word and performance poetry. Watch inspiring spoken word performances\, learn about and practice spoken word technique\, and socialize with fellow writers\, poets\, and performers. Light refreshments served. All events start at 2 pm and are held in the Turlock Library Makerspace. In partnership with the Stanislaus County Library.  \nJanuary 13\, 2024. Future Youth Poets Laureate\, Unite! In this first gathering\, learn about the Stanislaus County Youth Poet Laureate program and learn tips for completing the contest  application\, which is due Jan. 27.  \nFebruary 24\, 2024. Spoken Word: Learn from the Masters. Let’s view iconic spoken word performances and talk about what makes them so great.  \nMarch 16\, 2024. Spittin’ Bars: Spoken Word/Performance Strategies. How do you inhabit the space on stage when performing a piece? How about holding a microphone and reading from a page? Let’s share strategies and explore what might work for us.   \nApril 20\, 2024. Spittin’ Bars Part 2/Open Mic Performance. Show off what you’ve been working on all these months!  \n 
URL:https://www.mostpoetry.org/event/painless-poetry-for-teens-learn-about-the-stanislaus-youth-poet-laureate-contest/
LOCATION:Turlock Library\, 550 N. Minaret Ave\, Turlock\, 95382\, United States
CATEGORIES:Workshops,Youth Poet Laureate,Youth Poetry
ATTACH;FMTTYPE=image/jpeg:https://www.mostpoetry.org/wp-content/uploads/2017/08/MoSt-Gala-2017-0001.jpg
ORGANIZER;CN="Stella Beratlis":MAILTO:stellab@mostpoetry.org
END:VEVENT
BEGIN:VEVENT
DTSTART;TZID=America/Los_Angeles:20231216T133000
DTEND;TZID=America/Los_Angeles:20231216T153000
DTSTAMP:20260424T171152
CREATED:20231108T011308Z
LAST-MODIFIED:20231206T213349Z
UID:3060-1702733400-1702740600@www.mostpoetry.org
SUMMARY:Youth Poet Laureate: Speak Your Silence poetry open mic
DESCRIPTION:Speak Your Silence is a reading on December 16\, 2023 at the Turlock Library in remembrance of Sandy Hook (Dec. 14 is the Sandy Hook Day of Remembrance). \n\nSpeak Your Silence\, a student-led campaign organized by Stanislaus County Youth Poet Laureate Faith  Delgado\, is intended to address and combat all types of violence that occurs in the schools. Youth poets are invited to share their stories and/or experiences in the form of poetry\, slam poetry\, speeches\, spoken word\, etc. This can be about sexual or physical violence\, any kind of bullying\, and/or your experience of how the school handled it. work on the topic of school violence. For middle- and high-schoolers; original work please. \n\n\nFeel free to contact Faith at faithd@mostpoetry.org for any questions about the event!
URL:https://www.mostpoetry.org/event/youth-poet-laureates-speak-your-silence-reading-dec-16-deadline-to-apply-dec/
LOCATION:Turlock Library\, 550 N. Minaret Ave\, Turlock\, 95382\, United States
CATEGORIES:Poetry Slam,Readings,Youth Poet Laureate,Youth Poetry
ATTACH;FMTTYPE=image/png:https://www.mostpoetry.org/wp-content/uploads/2023/11/Speak-your-Silence_Faith-2023-1920-x-1080-px.png
ORGANIZER;CN="Stella Beratlis":MAILTO:stellab@mostpoetry.org
END:VEVENT
BEGIN:VEVENT
DTSTART;TZID=America/Los_Angeles:20231028T130000
DTEND;TZID=America/Los_Angeles:20231028T150000
DTSTAMP:20260424T171152
CREATED:20231018T203025Z
LAST-MODIFIED:20231018T203025Z
UID:2994-1698498000-1698505200@www.mostpoetry.org
SUMMARY:Spoken Word Workshop at the Turlock Library with Faith Delgado
DESCRIPTION:Join Stanislaus County Youth Poet Laureate Faith Delgado as she leads a workshop for teens on spoken word poetry and performance. In the Community Room at the Turlock Library\, 1-3 pm. For more info\, please contact Faith at faithd@mostpoetry.org or the Turlock Library: (209) 664-8100.
URL:https://www.mostpoetry.org/event/spoken-word-workshop-at-the-turlock-library-with-faith-delgado/
LOCATION:Turlock Library\, 550 N. Minaret Ave\, Turlock\, 95382\, United States
CATEGORIES:Poetry Slam,Workshops,Youth Poet Laureate
ATTACH;FMTTYPE=image/jpeg:https://www.mostpoetry.org/wp-content/uploads/2017/08/MoSt-Gala-2017-0001.jpg
ORGANIZER;CN="Stella Beratlis":MAILTO:stellab@mostpoetry.org
END:VEVENT
BEGIN:VEVENT
DTSTART;TZID=America/Los_Angeles:20230826T140000
DTEND;TZID=America/Los_Angeles:20230826T140000
DTSTAMP:20260424T171152
CREATED:20230728T222554Z
LAST-MODIFIED:20230730T222022Z
UID:2900-1693058400-1693058400@www.mostpoetry.org
SUMMARY:Stanislaus County Youth Poet Laureate Reading and Reception
DESCRIPTION:Please join us to celebrate our finalists for the Stanislaus County Youth Poet Laureate contest 2023-2024. Meet our finalists\, Janelle Yulo of Modesto and Zoe Byron of Oakdale\, and our Youth Poet Laureate Faith Delgado. With readings and refreshments. \nAt The Loft\, 3rd floor of the Carnegie Arts Center\, \nStanislaus County Youth Poet Laureate program is a partnership between Modesto-Stanislaus Poetry Center\, Stanislaus County Library\, Stanislaus County Office of Education\, MJC’s School of Language Arts and Education\, and the Stanislaus Library Foundation.
URL:https://www.mostpoetry.org/event/stanislaus-county-youth-poet-laureate-reading-and-reception/
LOCATION:Carnegie Arts Center\, 250 N. Broadway\, Turlock\, CA\, 95380\, United States
CATEGORIES:Other Events,Readings,Youth Poet Laureate,Youth Poetry
ATTACH;FMTTYPE=image/png:https://www.mostpoetry.org/wp-content/uploads/2023/07/Poet-Laureate-Reception-Aug-26-2023.png
ORGANIZER;CN="Stella Beratlis":MAILTO:stellab@mostpoetry.org
END:VEVENT
END:VCALENDAR