BEGIN:VCALENDAR
VERSION:2.0
PRODID:-//Modesto-Stanislaus Poetry Center - ECPv6.15.13//NONSGML v1.0//EN
CALSCALE:GREGORIAN
METHOD:PUBLISH
X-ORIGINAL-URL:https://www.mostpoetry.org
X-WR-CALDESC:Events for Modesto-Stanislaus Poetry Center
REFRESH-INTERVAL;VALUE=DURATION:PT1H
X-Robots-Tag:noindex
X-PUBLISHED-TTL:PT1H
BEGIN:VTIMEZONE
TZID:America/Los_Angeles
BEGIN:DAYLIGHT
TZOFFSETFROM:-0800
TZOFFSETTO:-0700
TZNAME:PDT
DTSTART:20250309T100000
END:DAYLIGHT
BEGIN:STANDARD
TZOFFSETFROM:-0700
TZOFFSETTO:-0800
TZNAME:PST
DTSTART:20251102T090000
END:STANDARD
BEGIN:DAYLIGHT
TZOFFSETFROM:-0800
TZOFFSETTO:-0700
TZNAME:PDT
DTSTART:20260308T100000
END:DAYLIGHT
BEGIN:STANDARD
TZOFFSETFROM:-0700
TZOFFSETTO:-0800
TZNAME:PST
DTSTART:20261101T090000
END:STANDARD
BEGIN:DAYLIGHT
TZOFFSETFROM:-0800
TZOFFSETTO:-0700
TZNAME:PDT
DTSTART:20270314T100000
END:DAYLIGHT
BEGIN:STANDARD
TZOFFSETFROM:-0700
TZOFFSETTO:-0800
TZNAME:PST
DTSTART:20271107T090000
END:STANDARD
END:VTIMEZONE
BEGIN:VEVENT
DTSTART;TZID=America/Los_Angeles:20260310T190000
DTEND;TZID=America/Los_Angeles:20260310T203000
DTSTAMP:20260423T120920
CREATED:20260217T003457Z
LAST-MODIFIED:20260217T003457Z
UID:4047-1773169200-1773174600@www.mostpoetry.org
SUMMARY:Second Tuesday with Eliot Schain & Salvatore Salerno
DESCRIPTION:Modesto-Stanislaus Poetry Center is pleased to present Second Tuesday Poetry featuring Modesto Poet Laureate Emeritus Salvatore Salerno with Sixteen Rivers Press poet Eliot Schain  \nDate: Tuesday\, March 10\, 2026\nTime: 7:00 pm PST\nWhere: Bookish Modesto\, 811 W. Roseburg Ave\, in the Roseburg Square shopping center \nOpen mic following featured poets (3 min per poet); sign up at the event. Hosted by Gillian Wegener \n  \nELIOT SCHAIN\nEliot Schain’s poetry has appeared in Ploughshares\, American Poetry Review\, Santa Monica Review\, and Miramar\, among others\, as well as in a number of anthologies\, including Bear Flag Republic: Prose Poems and Poetics from California and The Place That Inhabits Us: Poems of the San Francisco Bay Watershed.  His book\, The Distant Sound\, was published by Sixteen Rivers Press in 2020.  Earlier books include American Romance and Westering Angels\, both from Zeitgeist Press.  \nSelections from The Distant Sound have been recorded and released as a digital album in collaboration with guitarist Harrison Flynn\, available on Apple Music and Spotify.  A newer collaboration Drive\, They Said\, also with Harrison Flynn\, is available as well.  Schain has served as program director for The Poetry Society of America\, taught high school\, and currently works as a psychotherapist in Berkeley\, California\, where he lives with his wife\, Mary D’Elia.  \nABOUT THE DISTANT SOUND\nThe Distant Sound is a prismatic meditation on what it means to be human\, especially when the body and mind seek their own paths to heaven. The poems employ the long Whitmanian breath and are often narrative\, but with mysterious syntax whose goal is to bypass reason and activate the heart. \n  \nSALVATORE SALERNO \n  \nSalvatore Salerno has an M.F.A. from The University of North Carolina at Greensboro\, where he was awarded The Academy of American Poets University Prize. He has worked as a playwright and poet in the North Carolina Visiting Artist Program. After retiring from teaching English at Davis High School\, Salvatore became a founding member of Modesto-Stanislaus Poetry Center. He was the Poet Laureate of Modesto from 2020-24. His sixth book of poetry is After Thoughts. \n 
URL:https://www.mostpoetry.org/event/2026mar10/
LOCATION:Bookish Modesto\, 811 W. Roseburg Ave\, Modesto\, CA\, 95350\, United States
CATEGORIES:Open Mic,Second Tuesday
ATTACH;FMTTYPE=image/png:https://www.mostpoetry.org/wp-content/uploads/2026/02/Second-Tues-_Mar2026_Salerno-Schain-e1771288458398.png
ORGANIZER;CN="Stella Beratlis":MAILTO:stellab@mostpoetry.org
END:VEVENT
BEGIN:VEVENT
DTSTART;TZID=America/Los_Angeles:20260321T100000
DTEND;TZID=America/Los_Angeles:20260321T120000
DTSTAMP:20260423T120920
CREATED:20260227T205637Z
LAST-MODIFIED:20260227T205637Z
UID:4078-1774087200-1774094400@www.mostpoetry.org
SUMMARY:Nature Poetry Reading & Walk at Dos Rios State Park
DESCRIPTION:Nature lovers and fans of poetry are welcome to celebrate Spring at the 4th Nature Poetry Reading and Walk at Dos Rios State Park on Saturday\, March 21 at 10:00 a.m..  Participants can bring a few of their own nature poems to read\, or read poems from their favorite nature poets.  After the one-hour reading at the ramadas\, an optional hike will be offered by park staff along the 1.8-mile trail around the oxbow pond.  Loaner binoculars are available.
URL:https://www.mostpoetry.org/event/nature-poetry-reading-walk-at-dos-rios-state-park/
LOCATION:Dos Rios State Park\, 3559 Shiloh Rd\, Modesto\, CA\, 95358\, United States
CATEGORIES:Other Events,Readings
ATTACH;FMTTYPE=image/jpeg:https://www.mostpoetry.org/wp-content/uploads/2026/02/Spring-Nature-Poetry-Reading-2026-e1772225596305.jpg
END:VEVENT
BEGIN:VEVENT
DTSTART;VALUE=DATE:20260403
DTEND;VALUE=DATE:20260404
DTSTAMP:20260423T120920
CREATED:20260315T005846Z
LAST-MODIFIED:20260329T033611Z
UID:2264-1775174400-1775260799@www.mostpoetry.org
SUMMARY:Aileen Jaffa Young Poets Contest Deadline
DESCRIPTION:Co-sponsored by Modesto-Stanislaus Poetry Center and National League of American Pen Women\, Modesto Chapter \nCash awards will be given in each of four categories: K-3\, 4-6\, 7-9\, 10-12 \nStanislaus County students in grades K-12 can submit up to 3 poems with an entry fee] of $1 per poem. Each poem must be the student’s original creative work\, 24 lines or less in any style. Submit 2 copies of each poem\, one without the student’s name and one with the student’s name plus an attached entry form. Poems entered in the Aileen Jaffa Young Poets Contest cannot be simultaneously submitted to the Poets’ Corner Contest or any other poetry contest. Submissions must be postmarked by the April 3\, 2026 deadline. \nPlease visit Aileen Jaffa Young Poets Contest for full contest rules.
URL:https://www.mostpoetry.org/event/aileen-jaffa-young-poets-contest/
LOCATION:CA
CATEGORIES:Contests,Youth Poetry
ATTACH;FMTTYPE=image/png:https://www.mostpoetry.org/wp-content/uploads/2026/03/2023-aileen-jaffa-1920-x-1080-px-e1774755366845.png
END:VEVENT
BEGIN:VEVENT
DTSTART;TZID=America/Los_Angeles:20260414T190000
DTEND;TZID=America/Los_Angeles:20260414T203000
DTSTAMP:20260423T120920
CREATED:20260316T005822Z
LAST-MODIFIED:20260328T205312Z
UID:4082-1776193200-1776198600@www.mostpoetry.org
SUMMARY:Second Tuesday Poetry featuring Escritores del Nuevo Sol/Writers of the New Sun
DESCRIPTION:THE ANTIDOTE IS POETRY. COME TO POETRY. \nModesto-Stanislaus Poetry Center is pleased to present Second Tuesday Poetry featuring members of Sacramento-based writing group Escritores del Nuevo Sol/Writers of the New Sun:  Zheyla Henriksen\, Paul Aponte\, Janet Rodriguez\, JoAnn Anglin\, Marco Contreras\, and Lorena Rodriguez. \nDate: Tuesday\, April 14\, 2026\nTime: 7:00 pm PST\nWhere: Bookish Modesto\, 811 W. Roseburg Ave\, in the Roseburg Square shopping center \nOpen mic following featured poets (3 min per poet); sign up at the event. Hosted by Gillian Wegener.  \nZheyla Henriksen is an Ecuadorian poet\, researcher\, artist\, and retired college & university teacher including at UC Davis where she received her PHD in Latin American and Spanish Literature.  She has been awarded several times including in 2004 when she received La Medalla de Oro al Merito Cultural in Cuenca Ecuador.  Zheyla was included in the Who’s Who of Distinguished Professionals\, and in History & Anthology of Ecuadorian Literature (2023). \nPaul Aponte is a Chicano Poet\,co-coordinator of Escritores Del Nuevo Sol / Writers of the New Sun\, and member of Círculo De Poetas & Writers. He has been published in the Tecolote Press anthology Poetry In Flight\, Tule Review 2024\, in the anthology Soñadores – We Came To Dream\, in the Los Angeles Review Volume 20 – Fall 2016\, and in Cold River Press Voices 2022-2025.  His colorful book of poetry DEL CACTUS is available through Prickly Pear Press and other sources. \nJanet Rodriguez is an author\, teacher\, editor\, and the author of Making an American Family: A Recipe in Five Generations (Prickly Pear Publishing\, 2022)\, a family memoir. Her short story\, “The Key in the Tignanello Bag” was recently published in the regional anthology\, Sacramento Noir\, edited by John Freeman. Her work has also been featured in Hobart\, Pangyrus\, Eclectica\, The Rumpus\, Cloud Women’s Quarterly\, American River Review\, and Calaveras Station. Her short stories\, essays\, and poetry usually deal with themes involving morality in faith communities and the mixed-race experience in a culturally binary world.  \nJoAnn Anglin is a leading member of Escritores Del Nuevo Sol and has been a teaching poet in the schools\, including at Shriners Children’s Hospital\, and at New Folsom Prison. Her chapbooks include Words Like Knives\, Like Feathers and Heat\, and her poems have been published in Tule Review\, Sable & Quill\, Sacramento Voices\, Rattlesnake Review\, The Pagan Muse\, 100 Poems about Sacramento\, Acorn\, and Cosumnes River Journal. In 2012\, JoAnn received an Arts Program Award from the Sacramento County Board of Supervisors and the Sacramento City Council and in 2024 she was honored by the California Senate for her contributions as a poet and leader to the community. \nMarco Contreras is from Stockton and currently resides in Sacramento. He has been published in UCLA’s Daily Bruin and La Gente De Aztlan magazine. He also has contributions in several anthologies\, including his latest about his trip to the Trump International Hotel in Las Vegas. \nLorena Rodriguez has roots in the Andes\, born and raised in a land where the cultivation of potatoes and corn is a way of life. A multidisciplinary artist\, Lorena uses performance and theater as a tool for activism\, community building\, and healing. She is a writer\, performer\, fermenter\, dancer\, and textile artist\, and through her work\, she shares practical actions for health and well-being while inspiring the reimagining of systems that address collective needs and foster healing.  \n  \nHISTORY OF LOS ESCRITORES DEL NUEVO SOL  \n \nLos Escritores del Nuevo Sol emerged from a literary program of La Raza Galería Posada (LRGP)\, the Sacramento Chicano/Native American arts center founded in 1972. Our roots can be followed to an initial poetry event organized by the Royal Chicano Air Force and other groups. That event in 1978 was called “One More Canto”. It was held at the Reno Club\, a downtown neighborhood bar and dance club. This idea of poetry for the community grew and future poetry\, song and performance art events continued. LRGP took sponsorship of the Canto Series well into the 1980’s and 1990’s with those events occurring at La Raza Galería Posada\, Luna’s Café\, the Benny Barrios Studio and the Odd Fellows Hall. \nIn the 1990’s LRGP board members Arturo Mantecón and Francisco X. Alarcón organized a Floricanto series featuring Latino poets. Seeing favorable community interest\, they started a writers’ workshop\, Taller Literario. The Taller philosophy was to foster\, preserve\, and present the best of Chicano/Latino and native American writing. The first meetings attracted about a dozen local writers. Alarcón and Mantecón drew on their experience in publishing and working with writing groups to guide this group to be given recognition and to be established in October of 1993. \nThe Taller became an essential part of La Raza Galería Posada readings and became connected with other significant cultural events – Day of the Dead\, Cinco de Mayo\, exhibition openings\, etc.In time\, events were added such as the Valentine’s Day and the all-Spanish readings. \nEventually the group adopted a new name suggested by Graciela Brauer Ramírez: Escritores del Nuevo Sol / Writers of the New Sun. This recognized the 2012 coming of El Sexto Sol\, the dawning of a new world consciousness based on the Mesoamerican worldview. \nAs the years passed\, Los Escritores became a known part of the Sacramento literary community. In 2002\, José Montoya\, a member of Los Escritores\, was appointed Sacramento’s Poet Laureate. Los Escritores participated in his activities resulting in more visibility. In 2020’s\, two additional members were named Poet Laureate – Lara Gularte (El Dorado County) and Nancy González St. Clair (Lodi\, CA) also contributing to more recognition and visibility for Escritores del Nuevo Sol. \nWith the publication of our 2004 anthology\, Voices of the new Sun\, Poems and Stories / Voces del Nuevo Sol\, Cantos y Cuentos\, the group’s written work took tangible form. The 25th Anniversary anthology was published in 2017\, and in 2025 the anthology Then and Now came to cheer the past and present.  \nWhile the circle has grown\, it also acknowledges the loss of loved ones who were a part of its start: Phil Goldvarg\, José Montoya\, Helen and Esteban Villa\, Luz María Gama\, Max Schwartz\, Sam Ríos\, Jean y Winn Starr\, and Escritores co-founder Francisco X. Alarcón. We remember them well.
URL:https://www.mostpoetry.org/event/2026aprilescritores/
LOCATION:Bookish Modesto\, 811 W. Roseburg Ave\, Modesto\, CA\, 95350\, United States
CATEGORIES:Open Mic,Readings,Second Tuesday
ATTACH;FMTTYPE=image/png:https://www.mostpoetry.org/wp-content/uploads/2026/03/2026_April_Escritores-1-e1774731178112.png
ORGANIZER;CN="Stella Beratlis":MAILTO:stellab@mostpoetry.org
END:VEVENT
BEGIN:VEVENT
DTSTART;TZID=America/Los_Angeles:20260512T190000
DTEND;TZID=America/Los_Angeles:20260512T190000
DTSTAMP:20260423T120920
CREATED:20260329T032026Z
LAST-MODIFIED:20260329T032109Z
UID:4108-1778612400-1778612400@www.mostpoetry.org
SUMMARY:Second Tuesday Poetry with featured poets Kathy Pon and Chris Olander
DESCRIPTION:Join us on Tuesday\, May 12\, as we present Gustine-based poet Kathy Pon and Nevada City poet  Chris Olander\, poet laureate emeritus of Nevada County. \nAt Bookish Modesto\, 7 pm. Doors at 6:30 pm. \n  \n 
URL:https://www.mostpoetry.org/event/2026may_st/
LOCATION:Bookish Modesto\, 811 W. Roseburg Ave\, Modesto\, CA\, 95350\, United States
CATEGORIES:Open Mic,Readings,Second Tuesday
ATTACH;FMTTYPE=image/jpeg:https://www.mostpoetry.org/wp-content/uploads/2017/08/MoSt-Gala-2017-0001.jpg
ORGANIZER;CN="Stella Beratlis":MAILTO:stellab@mostpoetry.org
END:VEVENT
BEGIN:VEVENT
DTSTART;TZID=America/Los_Angeles:20260516T140000
DTEND;TZID=America/Los_Angeles:20260516T140000
DTSTAMP:20260423T120920
CREATED:20260419T173609Z
LAST-MODIFIED:20260419T174813Z
UID:4102-1778940000-1778940000@www.mostpoetry.org
SUMMARY:Poetry on Saturday with Sheila Landre and Cleo Griffith
DESCRIPTION:Join us Saturday May 16 as we welcome Sheila Landre and Cleo Griffith to our Poetry on Saturday series! Both have new collections of poetry\, from which they will share poems.
URL:https://www.mostpoetry.org/event/2026maycarnegie/
LOCATION:Carnegie Arts Center\, 250 N. Broadway\, Turlock\, CA\, 95380\, United States
CATEGORIES:Contests,Youth Poetry
ATTACH;FMTTYPE=image/jpeg:https://www.mostpoetry.org/wp-content/uploads/2017/08/MoSt-Gala-2017-0001.jpg
ORGANIZER;CN="Stella Beratlis":MAILTO:stellab@mostpoetry.org
END:VEVENT
END:VCALENDAR