BEGIN:VCALENDAR
VERSION:2.0
PRODID:-//Modesto-Stanislaus Poetry Center - ECPv6.15.13//NONSGML v1.0//EN
CALSCALE:GREGORIAN
METHOD:PUBLISH
X-ORIGINAL-URL:https://www.mostpoetry.org
X-WR-CALDESC:Events for Modesto-Stanislaus Poetry Center
REFRESH-INTERVAL;VALUE=DURATION:PT1H
X-Robots-Tag:noindex
X-PUBLISHED-TTL:PT1H
BEGIN:VTIMEZONE
TZID:America/Los_Angeles
BEGIN:DAYLIGHT
TZOFFSETFROM:-0800
TZOFFSETTO:-0700
TZNAME:PDT
DTSTART:20220313T100000
END:DAYLIGHT
BEGIN:STANDARD
TZOFFSETFROM:-0700
TZOFFSETTO:-0800
TZNAME:PST
DTSTART:20221106T090000
END:STANDARD
BEGIN:DAYLIGHT
TZOFFSETFROM:-0800
TZOFFSETTO:-0700
TZNAME:PDT
DTSTART:20230312T100000
END:DAYLIGHT
BEGIN:STANDARD
TZOFFSETFROM:-0700
TZOFFSETTO:-0800
TZNAME:PST
DTSTART:20231105T090000
END:STANDARD
BEGIN:DAYLIGHT
TZOFFSETFROM:-0800
TZOFFSETTO:-0700
TZNAME:PDT
DTSTART:20240310T100000
END:DAYLIGHT
BEGIN:STANDARD
TZOFFSETFROM:-0700
TZOFFSETTO:-0800
TZNAME:PST
DTSTART:20241103T090000
END:STANDARD
END:VTIMEZONE
BEGIN:VEVENT
DTSTART;TZID=America/Los_Angeles:20231007T130000
DTEND;TZID=America/Los_Angeles:20231007T150000
DTSTAMP:20260425T051201
CREATED:20230930T212828Z
LAST-MODIFIED:20230930T212828Z
UID:2966-1696683600-1696690800@www.mostpoetry.org
SUMMARY:Feels Like All of It: A Sensory\, List-Inspired Poetry Workshop
DESCRIPTION:Modesto-Stanislaus Poetry Center will present a free\, in-person workshop facilitated by Tina Marie Curiel-Vega 1:00-3:00 p.m.on Saturday\, October 7th at the Ceres Library. Please join us!
URL:https://www.mostpoetry.org/event/feels-like-all-of-it-a-sensory-list-inspired-poetry-workshop/
LOCATION:Ceres Library\, 2250 Magnolia Street\, Ceres\, 95307\, United States
CATEGORIES:Workshops
ATTACH;FMTTYPE=image/jpeg:https://www.mostpoetry.org/wp-content/uploads/2023/09/IMG_6470.jpeg
ORGANIZER;CN="Stella Beratlis":MAILTO:stellab@mostpoetry.org
END:VEVENT
BEGIN:VEVENT
DTSTART;TZID=America/Los_Angeles:20231010T190000
DTEND;TZID=America/Los_Angeles:20231010T200000
DTSTAMP:20260425T051201
CREATED:20230919T180558Z
LAST-MODIFIED:20231002T175454Z
UID:2956-1696964400-1696968000@www.mostpoetry.org
SUMMARY:Second Tuesday Reading Series with Brynn Saito and Cristina Sandoval
DESCRIPTION:Join us for this reading with Brynn Saito and Cristina Sandoval.\n\nBrynn Saito’s third book of poems\, Under a Future Sky\, was published in August 2023 by Red Hen Press. A  2023 California Arts Council Individual Artist Fellow\, Brynn is the recipient of the Benjamin Saltman Award\,  and her poems have appeared in the New York Times and American Poetry Review. Brynn lives in the traditional homelands of the Yokuts and Mono peoples (aka\, Fresno\, CA) where she teaches in the MFA program at Fresno State. She’s co-editing with Brandon Shimoda an anthology of poetry written by descendants of the Japanese American / Nikkei incarceration\, forthcoming in 2025 from Haymarket Books.\n\nCristina Sandoval is a recent graduate of the Fresno State MFA program\, and a resident of Modesto\, CA.\n\nRegister here:\nhttps://us02web.zoom.us/meeting/register/tZAkdOupqTkvH9bNir_T5d69J9taVP3SkR4P\n\nYou’ll receive a confirmation email with the Zoom link for the evening.
URL:https://www.mostpoetry.org/event/second-tuesday-reading-series-with-brynn-saito-and-cristina-sandoval/
LOCATION:Zoom
CATEGORIES:Open Mic,Second Tuesday
ATTACH;FMTTYPE=image/png:https://www.mostpoetry.org/wp-content/uploads/2023/09/Blog-Second-Tuesday-Oct-2023.png
ORGANIZER;CN="Stella Beratlis":MAILTO:stellab@mostpoetry.org
END:VEVENT
BEGIN:VEVENT
DTSTART;TZID=America/Los_Angeles:20231021T100000
DTEND;TZID=America/Los_Angeles:20231021T124500
DTSTAMP:20260425T051201
CREATED:20230910T182039Z
LAST-MODIFIED:20230920T174057Z
UID:2946-1697882400-1697892300@www.mostpoetry.org
SUMMARY:Fall Poetry Workshop with Susan Rich
DESCRIPTION:Get your tickets for the great online workshop with poet Susan Rich. Tickets $20; + ticket fees; purchase through Eventbrite. https://mostfallworkshop.eventbrite.com \nSeattle poet Susan Rich is the author of six books of poetry; her work has received fellowships from the Fulbright Foundation\, PEN USA\, Peace Corps Writers\, and more. She teaches at Highline College and is co-founder and executive director of Poets on the Coast: A Weekend Writing Retreat for Women. \n 
URL:https://www.mostpoetry.org/event/susanrich/
LOCATION:CA
CATEGORIES:Workshops
ATTACH;FMTTYPE=image/png:https://www.mostpoetry.org/wp-content/uploads/2023/09/Fall-Poetry-Workshop-October-2023-e1695230825999.png
END:VEVENT
BEGIN:VEVENT
DTSTART;TZID=America/Los_Angeles:20231025T143000
DTEND;TZID=America/Los_Angeles:20231025T170000
DTSTAMP:20260425T051201
CREATED:20231019T163220Z
LAST-MODIFIED:20231019T163220Z
UID:3016-1698244200-1698253200@www.mostpoetry.org
SUMMARY:Poetry Out Loud - Informational Meetings on Zoom
DESCRIPTION:Bring Poetry Out Loud to your school!\nPoetry Out Loud is a national poetry Recitation Contest for high\nschool students that starts at the school level with students\nmemorizing and reciting poems. School winners move on to the\ncounty contest run by Modesto-Stanislaus Poetry Center in early\nFebruary 2024. The finalist there goes on to the state contest in\nSacramento in March\, 2024.\nPlease attend one of these informational Zoom meetings to find out\nmore: Wednesday\, October 25 at 2:45 and at 3:45. (Same meeting\,\ntwo different times for your convenience.)\nhttps://us02web.zoom.us/i/87048923866?\npwd=TGxabEoOUiNDMzdLUTRYViBHYzZIZz09\nThis link can also be found at www.mostpoetry.org\, the website of\nModesto-Stanislaus Poetry Center. Contact us with any questions.
URL:https://www.mostpoetry.org/event/poetry-out-loud-informational-meetings-on-zoom/
LOCATION:Zoom
CATEGORIES:Contests,Other Events,Poetry Out Loud,Youth Poetry
ATTACH;FMTTYPE=image/jpeg:https://www.mostpoetry.org/wp-content/uploads/2023/10/1-e1697732779608.jpg
END:VEVENT
BEGIN:VEVENT
DTSTART;TZID=America/Los_Angeles:20231028T130000
DTEND;TZID=America/Los_Angeles:20231028T150000
DTSTAMP:20260425T051201
CREATED:20231018T203025Z
LAST-MODIFIED:20231018T203025Z
UID:2994-1698498000-1698505200@www.mostpoetry.org
SUMMARY:Spoken Word Workshop at the Turlock Library with Faith Delgado
DESCRIPTION:Join Stanislaus County Youth Poet Laureate Faith Delgado as she leads a workshop for teens on spoken word poetry and performance. In the Community Room at the Turlock Library\, 1-3 pm. For more info\, please contact Faith at faithd@mostpoetry.org or the Turlock Library: (209) 664-8100.
URL:https://www.mostpoetry.org/event/spoken-word-workshop-at-the-turlock-library-with-faith-delgado/
LOCATION:Turlock Library\, 550 N. Minaret Ave\, Turlock\, 95382\, United States
CATEGORIES:Poetry Slam,Workshops,Youth Poet Laureate
ATTACH;FMTTYPE=image/jpeg:https://www.mostpoetry.org/wp-content/uploads/2017/08/MoSt-Gala-2017-0001.jpg
ORGANIZER;CN="Stella Beratlis":MAILTO:stellab@mostpoetry.org
END:VEVENT
END:VCALENDAR