BEGIN:VCALENDAR
VERSION:2.0
PRODID:-//Modesto-Stanislaus Poetry Center - ECPv6.15.13//NONSGML v1.0//EN
CALSCALE:GREGORIAN
METHOD:PUBLISH
X-WR-CALNAME:Modesto-Stanislaus Poetry Center
X-ORIGINAL-URL:https://www.mostpoetry.org
X-WR-CALDESC:Events for Modesto-Stanislaus Poetry Center
REFRESH-INTERVAL;VALUE=DURATION:PT1H
X-Robots-Tag:noindex
X-PUBLISHED-TTL:PT1H
BEGIN:VTIMEZONE
TZID:America/Los_Angeles
BEGIN:DAYLIGHT
TZOFFSETFROM:-0800
TZOFFSETTO:-0700
TZNAME:PDT
DTSTART:20230312T100000
END:DAYLIGHT
BEGIN:STANDARD
TZOFFSETFROM:-0700
TZOFFSETTO:-0800
TZNAME:PST
DTSTART:20231105T090000
END:STANDARD
BEGIN:DAYLIGHT
TZOFFSETFROM:-0800
TZOFFSETTO:-0700
TZNAME:PDT
DTSTART:20240310T100000
END:DAYLIGHT
BEGIN:STANDARD
TZOFFSETFROM:-0700
TZOFFSETTO:-0800
TZNAME:PST
DTSTART:20241103T090000
END:STANDARD
BEGIN:DAYLIGHT
TZOFFSETFROM:-0800
TZOFFSETTO:-0700
TZNAME:PDT
DTSTART:20250309T100000
END:DAYLIGHT
BEGIN:STANDARD
TZOFFSETFROM:-0700
TZOFFSETTO:-0800
TZNAME:PST
DTSTART:20251102T090000
END:STANDARD
END:VTIMEZONE
BEGIN:VEVENT
DTSTART;TZID=America/Los_Angeles:20240409T190000
DTEND;TZID=America/Los_Angeles:20240409T203000
DTSTAMP:20260424T201810
CREATED:20240324T042550Z
LAST-MODIFIED:20240405T172729Z
UID:3218-1712689200-1712694600@www.mostpoetry.org
SUMMARY:Bloom Where Planted: Four Central Valley Poets for National Poetry Month
DESCRIPTION:Join us for our next Second Tuesday Poetry on April 9\, 2024\, as we present four Central Valley poets to help us honor National Poetry Month. \nFeaturing Kristy Lauron\, Elizabeth Sousa\, Jazmarie LaTour\,  and Kevin Walton with open mic following featured poets. \nWhen: Tuesday\, April 9\, 2024 at 7:00 p.m.\nWhere: The Artist Lab at Prospect Theater Project\, 1218 K Street\, Modesto CA 95354.  Plenty of street parking\, free! We are also welcome to park across the street at the Stanislaus County Law Library. \nOpen Mic Sign-up: https://forms.gle/rcwsEcyk7paszWk27(4 mins per poet or 2 pieces\, whichever is shorter) \nOur Featured Poets \nKristy Lauron\nMy name is Kristy Lauron and I am a published poet. I was born and raised in Stockton and have been immersed in the arts since childhood. I believe art is necessary for healing and sharing of our human existence. My poetry is a reflection of my self journey\, offering insights to my trials and tribulations\, all wrapped up in love. \nJazmarie LaTour\nJazmarie is the Poet Laureate of her hometown Stockton\, Ca. She is an artisan\, healer\, mediation leader\, and dreamer who uses writing to attune to the frequency and deep call of the Earth\, her Ancestors\, and the Great Spirit that leads her. Her love for spoken word performance has given her the courage to speak from her heart to anyone who will listen. Her love for the written word has given her the courage to allow others to hold a piece of her heart right in their hands. She is the author of the collection The Nature of Her\, which can be ordered from the thenatureofher.com. \nElizabeth Sousa\nElizabeth Sousa is a poet from Turlock\, a Type One Diabetes advocate\, and an aspiring badass. She was co-organizer of the 2016 Writers Resist reading at the Prospect Theater Project\, and she has performed her pieces on stages throughout the Central Valley. \nKevin Walton\nKevin is a poet and raconteur who founded a Facebook group\, To the Prose Pros\, a space where he shares his work and offers a forum for others to contribute.  He lives in Modesto with his wife\, artist Traci Bookman.
URL:https://www.mostpoetry.org/event/april2024/
LOCATION:The Artist Lab at Prospect Theater Project\, 1214 K Street\, Modesto\, CA\, 95354\, United States
CATEGORIES:Open Mic,Second Tuesday
ATTACH;FMTTYPE=image/png:https://www.mostpoetry.org/wp-content/uploads/2024/03/Bloom-Where-Planted-Four-Local-Poets-for-National-Poetry-Month-e1711254177507.png
ORGANIZER;CN="Stella Beratlis":MAILTO:stellab@mostpoetry.org
END:VEVENT
BEGIN:VEVENT
DTSTART;TZID=America/Los_Angeles:20240420T140000
DTEND;TZID=America/Los_Angeles:20240420T153000
DTSTAMP:20260424T201810
CREATED:20240404T213738Z
LAST-MODIFIED:20240415T215930Z
UID:3231-1713621600-1713627000@www.mostpoetry.org
SUMMARY:Youth Poet Laureate's Painless Poetry: Open Mic Performance
DESCRIPTION:Saturday\, Apr. 20\, 2 pm\n\nJoin Faith Delgado\, 2023-24 Stanislaus County Youth Poet Laureate\, in this final installment of Painless Poetry. Come show off what you’ve been working on these past months! Connect with Stanislaus County Youth Poet Laureate Faith Delgado if you’d like more information: faithd@mostpoetry.org\n\nLight refreshments will be served while they last.
URL:https://www.mostpoetry.org/event/youth-poet-laureates-painless-poetry-open-mic-performance/
LOCATION:Turlock Library\, 550 N. Minaret Ave\, Turlock\, 95382\, United States
CATEGORIES:Open Mic,Poetry Slam,Readings,Youth Poet Laureate,Youth Poetry
ATTACH;FMTTYPE=image/png:https://www.mostpoetry.org/wp-content/uploads/2024/04/YPL-Open-Mic-Apr-2024-1-e1713214377607.png
ORGANIZER;CN="Stella Beratlis":MAILTO:stellab@mostpoetry.org
END:VEVENT
BEGIN:VEVENT
DTSTART;TZID=America/Los_Angeles:20240422T183000
DTEND;TZID=America/Los_Angeles:20240422T193000
DTSTAMP:20260424T201810
CREATED:20240310T004849Z
LAST-MODIFIED:20240310T005645Z
UID:3211-1713810600-1713814200@www.mostpoetry.org
SUMMARY:MoSt Poetry Book Club
DESCRIPTION:Join host Salvatore Salerno for a discussion of The Art of Drowning by Billy Collins\, U.S. Poet Laureate Emeritus. MoSt Book Club will meet Monday\, April 22\, 2024 at 6:30 p.m. in the Maker Space of the Stanislaus County Library\, 1500 I Street\, Modesto CA. Participants may pick up a free copy of The Art of Drowning at the library reference desk prior to the meeting. This MoSt event is free and open to the public.
URL:https://www.mostpoetry.org/event/most-poetry-book-club-5/
LOCATION:Stanislaus County Library\, 1500 I Street\, Modesto\, CA\, 95354\, United States
CATEGORIES:Book Club
ATTACH;FMTTYPE=image/jpeg:https://www.mostpoetry.org/wp-content/uploads/2024/03/Brown-Neutral-Minimalist-Floral-Online-Yoga-Class-Facebook-Event-Cover-e1710032172812.jpg
END:VEVENT
END:VCALENDAR