BEGIN:VCALENDAR
VERSION:2.0
PRODID:-//Modesto-Stanislaus Poetry Center - ECPv6.15.13//NONSGML v1.0//EN
CALSCALE:GREGORIAN
METHOD:PUBLISH
X-ORIGINAL-URL:https://www.mostpoetry.org
X-WR-CALDESC:Events for Modesto-Stanislaus Poetry Center
REFRESH-INTERVAL;VALUE=DURATION:PT1H
X-Robots-Tag:noindex
X-PUBLISHED-TTL:PT1H
BEGIN:VTIMEZONE
TZID:America/Los_Angeles
BEGIN:DAYLIGHT
TZOFFSETFROM:-0800
TZOFFSETTO:-0700
TZNAME:PDT
DTSTART:20230312T100000
END:DAYLIGHT
BEGIN:STANDARD
TZOFFSETFROM:-0700
TZOFFSETTO:-0800
TZNAME:PST
DTSTART:20231105T090000
END:STANDARD
BEGIN:DAYLIGHT
TZOFFSETFROM:-0800
TZOFFSETTO:-0700
TZNAME:PDT
DTSTART:20240310T100000
END:DAYLIGHT
BEGIN:STANDARD
TZOFFSETFROM:-0700
TZOFFSETTO:-0800
TZNAME:PST
DTSTART:20241103T090000
END:STANDARD
BEGIN:DAYLIGHT
TZOFFSETFROM:-0800
TZOFFSETTO:-0700
TZNAME:PDT
DTSTART:20250309T100000
END:DAYLIGHT
BEGIN:STANDARD
TZOFFSETFROM:-0700
TZOFFSETTO:-0800
TZNAME:PST
DTSTART:20251102T090000
END:STANDARD
END:VTIMEZONE
BEGIN:VEVENT
DTSTART;TZID=America/Los_Angeles:20240611T190000
DTEND;TZID=America/Los_Angeles:20240611T203000
DTSTAMP:20260424T170855
CREATED:20240526T093517Z
LAST-MODIFIED:20240526T095350Z
UID:3297-1718132400-1718137800@www.mostpoetry.org
SUMMARY:Second Tuesday Poetry featuring Rooja Mohassessy & Tamer Said Mostafa
DESCRIPTION:Modesto-Stanislaus Poetry Center is proud to present Second Tuesday Poetry featuring Rooja Mohassessy\, author of When Your Sky Runs Into Mine\, and Tamer Mostafa\, author of Where Will I Find America? Hosted by Gillian Wegener.  \nDate: Tuesday\, June 11\, 2024\nTime: 7:00 pm PST\nWhere: The Artist Lab at Prospect Theater Project\, 1214 K Street\, Modesto CA 95354 \nOpen mic following featured poets (3 min per poet); sign up at the event.  \nROOJA MOHASSESSY\nRooja Mohassessy is an Iranian-born poet and educator. She is a MacDowell Fellow and an MFA graduate of Pacific University\, Oregon. Her ekphrastic debut collection When Your Sky Runs Into Mine (Feb 2023) was the winner of the 22nd Annual Elixir Poetry Award. Rooja has been featured on NPR\, The Hive Poetry Collective\, and other poetry podcasts and radio stations. Her poems and reviews have appeared in Narrative Magazine\, Poet Lore\, RHINO Poetry\, Southern Humanities Review\, CALYX Journal\, Ninth Letter\, Cream City Review\, The Adroit Journal\, New Letters\, The Rumpus\, The Journal\, Verse Daily\, Poetry Daily\, and elsewhere. Her work is also anthologized in California Fire & Water\, A Climate Crisis Anthology\, and Colossus: Body\, a compilation of writings by Californians writing on the themes of bodily autonomy and reproductive rights. Rooja is an editorial assistant at the journal Prairie Schooner. \nAbout WHEN YOUR SKY RUNS INTO MINE\n “Rooja Mohassessy’s debut collection\, WHEN YOUR SKY RUNS INTO MINE\, belies any notion of a first book. It is a work of expansive vision and formal achievement\, sounding an assured and unforgettable voice in poetry. Ekphrasis is at the core of Mohassessy’s poetics\, resplendent in her responses to works of visual art and in the richly textured images she creates with intricate diction and syntax.”  \n-Shara McCallum  \nTAMER SAID MOSTAFA\nTamer Said Mostafa is an Arab-American\, Muslim poet and storyteller from Stockton\, California. His work has appeared in literary journals and magazines such as Zone 3\, Confrontation\, Glass: A Journal of Poetry\, and Freezeray among others. Tamer is a Best of the Net and Pushcart nominee\, and a graduate of the creative writing program at University of California\, Davis where he won the Lois Ann Lattin Rosenberg Contest for Poetry. His debut\, full length book of poetry\, Where Will I Find America? was released in Summer 2021. Tamer lives life through spirituality\, community work\, and the music of Bone Thugs-n-Harmony. \n  \nAbout WHERE WILL I FIND AMERICA?\n“In the debut collection Where Will I Find America?\, Tamer Said Mostafa renders narratives of childhood to adulthood demanding an interrogation of what it means to be a person of other. From body image to intimacy\, these poems beautifully weave inextricable culture and place. Islamic traditions provide the framework for extraordinary love of family as well as witnessing of self as each poem shelters the narrative bravely. We too want to see the past with eloquent bravery\, knowing that its truth is not the same as what we imagine. This collection’s lyrical and visual evocations do no harm in the telling about the harmed. Empathy and love counter the brutality of social order and familial dislocation. As Mostafa brings mind and body into these compassionate poems\, he reveals a hopeful awakening.” \n-Rhony Bhopla
URL:https://www.mostpoetry.org/event/second-tuesday-poetry-featuring-rooja-mohassessy-tamer-said-mostafa/
LOCATION:The Artist Lab at Prospect Theater Project\, 1214 K Street\, Modesto\, CA\, 95354\, United States
ATTACH;FMTTYPE=image/png:https://www.mostpoetry.org/wp-content/uploads/2024/05/June-2024-Second-Tues-Rooja-Tamer_Corrected-1-e1716716072442.png
END:VEVENT
BEGIN:VEVENT
DTSTART;TZID=America/Los_Angeles:20240615T130000
DTEND;TZID=America/Los_Angeles:20240615T150000
DTSTAMP:20260424T170855
CREATED:20240522T181609Z
LAST-MODIFIED:20240522T181609Z
UID:3288-1718456400-1718463600@www.mostpoetry.org
SUMMARY:MoSt Summer Poetry Workshop #1--Classicontempo: Classic and Contemporary Poems of Love\, Irritation\, Birds\, & More
DESCRIPTION:FREE!  Saturday\, June 15\, 1:00-3:00 p.m. at Modesto Library Auditorium \nJoin MoSt board member Gary Thomas as we discuss–and write to–“ancient” and “modern” poems that deal with common themes such as love\, annoyance\, (in)justice\, and the mashups we encounter between customary and cutting-edge visions of life. Writing supplies will be provided\, but feel free to bring your favorite pen\, pad\, and/or tablet!
URL:https://www.mostpoetry.org/event/most-summer-poetry-workshop-1-classicontempo-classic-and-contemporary-poems-of-love-irritation-birds-more/
LOCATION:Stanislaus County Library\, 1500 I Street\, Modesto\, CA\, 95354\, United States
CATEGORIES:Workshops
ATTACH;FMTTYPE=image/jpeg:https://www.mostpoetry.org/wp-content/uploads/2017/08/MoSt-Gala-2017-0001.jpg
END:VEVENT
END:VCALENDAR