BEGIN:VCALENDAR
VERSION:2.0
PRODID:-//Modesto-Stanislaus Poetry Center - ECPv6.15.13//NONSGML v1.0//EN
CALSCALE:GREGORIAN
METHOD:PUBLISH
X-ORIGINAL-URL:https://www.mostpoetry.org
X-WR-CALDESC:Events for Modesto-Stanislaus Poetry Center
REFRESH-INTERVAL;VALUE=DURATION:PT1H
X-Robots-Tag:noindex
X-PUBLISHED-TTL:PT1H
BEGIN:VTIMEZONE
TZID:America/Los_Angeles
BEGIN:DAYLIGHT
TZOFFSETFROM:-0800
TZOFFSETTO:-0700
TZNAME:PDT
DTSTART:20230312T100000
END:DAYLIGHT
BEGIN:STANDARD
TZOFFSETFROM:-0700
TZOFFSETTO:-0800
TZNAME:PST
DTSTART:20231105T090000
END:STANDARD
BEGIN:DAYLIGHT
TZOFFSETFROM:-0800
TZOFFSETTO:-0700
TZNAME:PDT
DTSTART:20240310T100000
END:DAYLIGHT
BEGIN:STANDARD
TZOFFSETFROM:-0700
TZOFFSETTO:-0800
TZNAME:PST
DTSTART:20241103T090000
END:STANDARD
BEGIN:DAYLIGHT
TZOFFSETFROM:-0800
TZOFFSETTO:-0700
TZNAME:PDT
DTSTART:20250309T100000
END:DAYLIGHT
BEGIN:STANDARD
TZOFFSETFROM:-0700
TZOFFSETTO:-0800
TZNAME:PST
DTSTART:20251102T090000
END:STANDARD
END:VTIMEZONE
BEGIN:VEVENT
DTSTART;TZID=America/Los_Angeles:20240709T190000
DTEND;TZID=America/Los_Angeles:20240709T203000
DTSTAMP:20260424T153316
CREATED:20240622T214518Z
LAST-MODIFIED:20240622T220129Z
UID:3329-1720551600-1720557000@www.mostpoetry.org
SUMMARY:Second Tuesday Poetry featuring Monolin “Manny” Moreno and Lillian Vallee
DESCRIPTION:Date: Tuesday\, July 9\, 2024\nTime: 7:00 pm PST\nWhere: The Artist Lab at Prospect Theater Project\, 1214 K Street\, Modesto CA 95354 \nOpen mic following featured poets (3 min per poet); sign up at the event.  \nHosted by Gillian Wegener \nMonolin “Manny” Moreno \n  \nMonolin “Manny” Moreno is of Yaqui-Tarascan descent and an Enrolled Member of the State Recognized Tribal Group of the Texas Band of Yaqui Indians. His five published works include poetry collections\, memoirs\, and a remembrance of Native elders Harry Jack and Barry Beaver Turner.  \nHis poems have appeared in Song of the San Joaquin\, Hincha Poesia and Whispering Thunder.  He was a Pushcart Prize nominee in 2011 and was Poet of the Month for Moon Tide Press in 2012. \nMoreno is a Sundancer and member of the Black Wolf Honor Society  Gourd Clan and Native American Church. Manny was brought out and introduced as a community elder at a pow-wow in Stockton CA\, and he has served the Native community as a spiritual leader.  \nManny’s newest book\, Santa Nella Blues\, was just published earlier this year and was created with support and funding from The Heartland Creative Corps\, California Arts Council\, Merced United Way\, and the Merced County Art Council. \nLillian Vallee\nLillian Vallee is an award-winning translator\, writer and scholar who served an apprenticeship with the Nobel-Prize winning Polish poet Czeslaw Milosz. Her poems appear in Collision I\, II & III and More Than Soil\, More Than Sky: The Modesto Poets. She was one of the featured poets in Highway 99\, A  \n  \nLiterary Journey through California’s Great Central Valley and is the author of three chapbooks—Vision at Orestimba\, Erratics\, and handful of snow.  \nHer popular monthly column in Stanislaus Connections\, “Rivers of Birds\, Forests of Tule: Central Valley Nature and Culture in Season\,” was published in 2019  as a collection of the same name. Lillian is professor emeritus in English at MJC. 
URL:https://www.mostpoetry.org/event/second-tuesday-poetry-featuring-monolin-manny-moreno-and-lillian-vallee/
LOCATION:The Artist Lab at Prospect Theater Project\, 1214 K Street\, Modesto\, CA\, 95354\, United States
ATTACH;FMTTYPE=image/png:https://www.mostpoetry.org/wp-content/uploads/2024/06/July-2024-Second-Tues-3-e1719093291700.png
ORGANIZER;CN="Stella Beratlis":MAILTO:stellab@mostpoetry.org
END:VEVENT
BEGIN:VEVENT
DTSTART;TZID=America/Los_Angeles:20240720T130000
DTEND;TZID=America/Los_Angeles:20240720T150000
DTSTAMP:20260424T153316
CREATED:20240706T164404Z
LAST-MODIFIED:20240706T164404Z
UID:3345-1721480400-1721487600@www.mostpoetry.org
SUMMARY:MoSt Summer Poetry Workshop--Monsters\, Villains\, & a Disaster or Two: Writing About the Scary Stuff
DESCRIPTION:Our July 20th MoSt Summer Poetry Workshop offers participants the opportunity to write about scary subject matter with facilitator Gillian Wegener. Please join us at the Modesto Library on Saturday\, 7/20/24 at 1:00 p.m. for this free workshop open to all members of the public\, from novice to experienced poet and everything in-between.
URL:https://www.mostpoetry.org/event/most-summer-poetry-workshop-monsters-villains-a-disaster-or-two-writing-about-the-scary-stuff/
LOCATION:Stanislaus County Library\, 1500 I Street\, Modesto\, CA\, 95354\, United States
CATEGORIES:Workshops
ATTACH;FMTTYPE=image/jpeg:https://www.mostpoetry.org/wp-content/uploads/2024/07/Modesto-Stanislaus-Poetry-Center-presents-1-e1720284033525.jpg
END:VEVENT
BEGIN:VEVENT
DTSTART;TZID=America/Los_Angeles:20240727T100000
DTEND;TZID=America/Los_Angeles:20240727T110000
DTSTAMP:20260424T153316
CREATED:20240605T222908Z
LAST-MODIFIED:20240605T222908Z
UID:3311-1722074400-1722078000@www.mostpoetry.org
SUMMARY:Poetry Book Club--Modern Poetry by Diane Seuss
DESCRIPTION:Please join us at 10:00 a.m. Saturday\, July 27\, 2024 at Bakeshop\, 940 Eleventh Street in Modesto for MoSt Poetry Book Club. Linda Scheller will facilitate a discussion of Modern Poetry\, the latest collection by Diane Seuss. Copies are available at the Modesto Library main desk. You’re always more than welcome to come and enjoy the discussion whether or not you’ve read the book! This event is free and open to the public. \n“Diane Seuss’s signature voice—audacious in its honesty\, virtuosic in its artistry\, outsider in its attitude—has become one of the most original in contemporary poetry. Her latest collection takes its title\, Modern Poetry\, from the first textbook Seuss encountered as a child and the first poetry course she took in college\, as an enrapt but ill-equipped student\, one who felt poetry was beyond her reach. Many of the poems make use of the forms and terms of musical and poetic craft—ballad\, fugue\, aria\, refrain\, coda—and contend with the works of writers overrepresented in textbooks and anthologies and those too often underrepresented. Seuss provides a moving account of her picaresque years and their uncertainties\, and in the process\, she enters the realm between Modernism and Romanticism\, between romance and objectivity\, with Keats as ghost\, lover\, and interlocutor.” —https://www.graywolfpress.org/books/modern-poetry \n \nDiane Seuss is the author of six books of poetry\, including Modern Poetry; frank: sonnets\, winner of the Pulitzer Prize\, the National Book Critics Circle Award\, the Los Angeles Times Book Prize\, and the PEN/Voelcker Prize; Still Life With Two Dead Peacocks and a Girl\, a finalist for the National Book Critics Circle Award and the Los Angeles Times Book Prize; and Four-Legged Girl\, a finalist for the Pulitzer Prize. She was a 2020 Guggenheim Fellow\, and in 2021 she received the John Updike Award from the American Academy of Arts and Letters. She lives in Michigan.
URL:https://www.mostpoetry.org/event/poetry-book-club-modern-poetry-by-diane-seuss/
LOCATION:BakeShop\, 940 Eleventh Street\, Modesto\, CA\, 95354\, United States
CATEGORIES:Book Club,Books
ATTACH;FMTTYPE=image/jpeg:https://www.mostpoetry.org/wp-content/uploads/2024/06/MoSt-Poetry-e1717625617368.jpg
END:VEVENT
END:VCALENDAR