BEGIN:VCALENDAR
VERSION:2.0
PRODID:-//Modesto-Stanislaus Poetry Center - ECPv6.15.13//NONSGML v1.0//EN
CALSCALE:GREGORIAN
METHOD:PUBLISH
X-ORIGINAL-URL:https://www.mostpoetry.org
X-WR-CALDESC:Events for Modesto-Stanislaus Poetry Center
REFRESH-INTERVAL;VALUE=DURATION:PT1H
X-Robots-Tag:noindex
X-PUBLISHED-TTL:PT1H
BEGIN:VTIMEZONE
TZID:America/Los_Angeles
BEGIN:DAYLIGHT
TZOFFSETFROM:-0800
TZOFFSETTO:-0700
TZNAME:PDT
DTSTART:20230312T100000
END:DAYLIGHT
BEGIN:STANDARD
TZOFFSETFROM:-0700
TZOFFSETTO:-0800
TZNAME:PST
DTSTART:20231105T090000
END:STANDARD
BEGIN:DAYLIGHT
TZOFFSETFROM:-0800
TZOFFSETTO:-0700
TZNAME:PDT
DTSTART:20240310T100000
END:DAYLIGHT
BEGIN:STANDARD
TZOFFSETFROM:-0700
TZOFFSETTO:-0800
TZNAME:PST
DTSTART:20241103T090000
END:STANDARD
BEGIN:DAYLIGHT
TZOFFSETFROM:-0800
TZOFFSETTO:-0700
TZNAME:PDT
DTSTART:20250309T100000
END:DAYLIGHT
BEGIN:STANDARD
TZOFFSETFROM:-0700
TZOFFSETTO:-0800
TZNAME:PST
DTSTART:20251102T090000
END:STANDARD
END:VTIMEZONE
BEGIN:VEVENT
DTSTART;TZID=America/Los_Angeles:20241210T180000
DTEND;TZID=America/Los_Angeles:20241210T193000
DTSTAMP:20260424T075533
CREATED:20241121T215500Z
LAST-MODIFIED:20241203T235850Z
UID:3505-1733853600-1733859000@www.mostpoetry.org
SUMMARY:Second Tuesday: Members' Holiday Open Mic & Potluck
DESCRIPTION:The Modesto-Stanislaus Poetry Center presents Second Tuesday: Members’ Holiday Open Mic and Potluck. Bring a dish to share\, and help us celebrate 15 years of bringing poetry to the community through our Second Tuesday series. If you’re not a MoSt member yet\, you are warmly encouraged to attend and join us at the door.  \nOn Tuesday\, December 10 at the Dragonfly Art for Life\, 1210 J Street\, Modesto CA 95354.  \nMoSt Poetry is proud to serve our community with free poetry events\, including the Second Tuesday Poetry series\, Poetry on Saturdays at the Carnegie Arts Center\, Free Summer Poetry Workshops at the Library\, New Year’s Poetry Challenge\, Poetry Everywhere initiative at Stanislaus County K-12 public schools\, and more. Programs we administer or in which we partner include Poetry Out Loud\, Aileen Jaffa Youth Poetry Contest\, Stanislaus County Youth Poet Laureate\, and the City of Modesto’s Poets’ Corner Contest.  \nOn Facebook\, Instagram\, and Threads: @mostpoetry. 
URL:https://www.mostpoetry.org/event/holidayreading2024/
LOCATION:The Dragonfly Art for Life\, 1210 J Street\, Modesto\, CA\, 95350\, United States
CATEGORIES:Book Club,Open Mic,Readings,Second Tuesday,Youth Poetry
ATTACH;FMTTYPE=image/png:https://www.mostpoetry.org/wp-content/uploads/2024/11/Most-SecondTues-Dec2024-e1732559642111.png
ORGANIZER;CN="Stella Beratlis":MAILTO:stellab@mostpoetry.org
END:VEVENT
BEGIN:VEVENT
DTSTART;VALUE=DATE:20241215
DTEND;VALUE=DATE:20241216
DTSTAMP:20260424T075533
CREATED:20241125T233846Z
LAST-MODIFIED:20241125T234631Z
UID:3513-1734220800-1734307199@www.mostpoetry.org
SUMMARY:First Day of NYPC16: New Year's Poetry Challenge
DESCRIPTION:Keep an eye out for our New Year’s Poetry Challenge sign-ups! NYPC prompts begin Dec. 15. Sign-up form will be on MostPoetry.org homepage.
URL:https://www.mostpoetry.org/event/nypc16/
LOCATION:CA
CATEGORIES:NYPC
ATTACH;FMTTYPE=image/png:https://www.mostpoetry.org/wp-content/uploads/2024/11/nypc16_2024-e1732577917407.png
END:VEVENT
END:VCALENDAR