BEGIN:VCALENDAR
VERSION:2.0
PRODID:-//Modesto-Stanislaus Poetry Center - ECPv6.15.13//NONSGML v1.0//EN
CALSCALE:GREGORIAN
METHOD:PUBLISH
X-WR-CALNAME:Modesto-Stanislaus Poetry Center
X-ORIGINAL-URL:https://www.mostpoetry.org
X-WR-CALDESC:Events for Modesto-Stanislaus Poetry Center
REFRESH-INTERVAL;VALUE=DURATION:PT1H
X-Robots-Tag:noindex
X-PUBLISHED-TTL:PT1H
BEGIN:VTIMEZONE
TZID:America/Los_Angeles
BEGIN:DAYLIGHT
TZOFFSETFROM:-0800
TZOFFSETTO:-0700
TZNAME:PDT
DTSTART:20240310T100000
END:DAYLIGHT
BEGIN:STANDARD
TZOFFSETFROM:-0700
TZOFFSETTO:-0800
TZNAME:PST
DTSTART:20241103T090000
END:STANDARD
BEGIN:DAYLIGHT
TZOFFSETFROM:-0800
TZOFFSETTO:-0700
TZNAME:PDT
DTSTART:20250309T100000
END:DAYLIGHT
BEGIN:STANDARD
TZOFFSETFROM:-0700
TZOFFSETTO:-0800
TZNAME:PST
DTSTART:20251102T090000
END:STANDARD
BEGIN:DAYLIGHT
TZOFFSETFROM:-0800
TZOFFSETTO:-0700
TZNAME:PDT
DTSTART:20260308T100000
END:DAYLIGHT
BEGIN:STANDARD
TZOFFSETFROM:-0700
TZOFFSETTO:-0800
TZNAME:PST
DTSTART:20261101T090000
END:STANDARD
END:VTIMEZONE
BEGIN:VEVENT
DTSTART;TZID=America/Los_Angeles:20250708T190000
DTEND;TZID=America/Los_Angeles:20250708T190000
DTSTAMP:20260423T212427
CREATED:20250627T172145Z
LAST-MODIFIED:20250627T175952Z
UID:3760-1752001200-1752001200@www.mostpoetry.org
SUMMARY:Second Tuesday Poetry featuring Sherre Vernon and Paula Sheil
DESCRIPTION:Modesto-Stanislaus Poetry Center is pleased to present Second Tuesday Poetry featuring Sherre Vernon (Merced) and Paula Sheil (Stockton) \nDate: Tuesday\, July 8\, 2025\nTime: 7:00 pm PST\nWhere: Bookish Modesto\, 811 W. Orangeburg Ave\, in the Roseburg Square shopping center \nOpen mic following featured poets (3 min per poet); sign up at the event. Hosted by Gillian Wegener \nPaula Sheil  \nPaula Sheil is a Professor of English at San Joaquin Delta College. She received a Bachelor of Arts in Liberal Arts from Raymond College and a Master of Arts in Writing from New College of California. She founded\, with friends\, Tuleburg Press in 2012 and The Write Place in 2017. \nShe taught elementary education\, moved on to arts administration\, and then journalism before joining the faculty at Delta. In the 1990s\, she ran an open mic that prompted her interest in publishing. She and the late Julia Holzer published ¡ZamBomba!\, a poetry quarterly that was read from Seattle to San Diego\, until 2000. At Delta\, Sheil started the Writer’s Guild and Artifact\, the college literary magazine.  \nHer work has been published in too many small journals\, magazines\, and newspapers to mention. She’s prouder yet of the poets and writers she has published and remains committed to empowering and amplifying the voices of Stockton and San Joaquin.  \nSherre Vernon \nSherre Vernon (she/her/hers) is the award-winning author of Green Ink Wings\, The Name is Perilous\, and Flame Nebula\, Bright Nova. Sherre has been published in journals such as Tahoma Literary Review and The Chestnut Review\, nominated for Best of the Net and Pushcart prizes\, and anthologized in several collections including Fat & Queer and Best Small Fictions. \nWe welcome these poets\, both new to the Second Tuesday series!
URL:https://www.mostpoetry.org/event/2025july/
LOCATION:Bookish Modesto\, 811 W. Roseburg Ave\, Modesto\, CA\, 95350\, United States
CATEGORIES:Open Mic,Readings,Second Tuesday
ATTACH;FMTTYPE=image/png:https://www.mostpoetry.org/wp-content/uploads/2025/06/July-2025-Second-Tues-Vernon-Sheil-1920-x-1080-px-e1751044850528.png
ORGANIZER;CN="Stella Beratlis":MAILTO:stellab@mostpoetry.org
END:VEVENT
BEGIN:VEVENT
DTSTART;TZID=America/Los_Angeles:20250719T130000
DTEND;TZID=America/Los_Angeles:20250719T143000
DTSTAMP:20260423T212427
CREATED:20250627T181730Z
LAST-MODIFIED:20250627T182016Z
UID:3764-1752930000-1752935400@www.mostpoetry.org
SUMMARY:Free Poetry Workshop: Paint Chip Poetry at the Library
DESCRIPTION:Join Stella Beratlis at the Salida Library on July 19\, 2025 at 1:00 p.m. in a cool\, fun\, and relaxed environment to try out a variety of poetry prompts inspired by the descriptive language of paint chips. All ages invited.  \nFeel free to bring your own extra paint chips to add to the prompt possibilities.
URL:https://www.mostpoetry.org/event/free-poetry-workshop-paint-chip-poetry/
LOCATION:Salida Public Library\, 4835 Sisk Road\, Salida\, CA\, 95368\, United States
CATEGORIES:Workshops
ATTACH;FMTTYPE=image/png:https://www.mostpoetry.org/wp-content/uploads/2025/06/workshopJuly2025-e1751048162369.png
ORGANIZER;CN="Stella Beratlis":MAILTO:stellab@mostpoetry.org
END:VEVENT
END:VCALENDAR