BEGIN:VCALENDAR
VERSION:2.0
PRODID:-//Modesto-Stanislaus Poetry Center - ECPv6.15.13//NONSGML v1.0//EN
CALSCALE:GREGORIAN
METHOD:PUBLISH
X-WR-CALNAME:Modesto-Stanislaus Poetry Center
X-ORIGINAL-URL:https://www.mostpoetry.org
X-WR-CALDESC:Events for Modesto-Stanislaus Poetry Center
REFRESH-INTERVAL;VALUE=DURATION:PT1H
X-Robots-Tag:noindex
X-PUBLISHED-TTL:PT1H
BEGIN:VTIMEZONE
TZID:America/Los_Angeles
BEGIN:DAYLIGHT
TZOFFSETFROM:-0800
TZOFFSETTO:-0700
TZNAME:PDT
DTSTART:20240310T100000
END:DAYLIGHT
BEGIN:STANDARD
TZOFFSETFROM:-0700
TZOFFSETTO:-0800
TZNAME:PST
DTSTART:20241103T090000
END:STANDARD
BEGIN:DAYLIGHT
TZOFFSETFROM:-0800
TZOFFSETTO:-0700
TZNAME:PDT
DTSTART:20250309T100000
END:DAYLIGHT
BEGIN:STANDARD
TZOFFSETFROM:-0700
TZOFFSETTO:-0800
TZNAME:PST
DTSTART:20251102T090000
END:STANDARD
BEGIN:DAYLIGHT
TZOFFSETFROM:-0800
TZOFFSETTO:-0700
TZNAME:PDT
DTSTART:20260308T100000
END:DAYLIGHT
BEGIN:STANDARD
TZOFFSETFROM:-0700
TZOFFSETTO:-0800
TZNAME:PST
DTSTART:20261101T090000
END:STANDARD
END:VTIMEZONE
BEGIN:VEVENT
DTSTART;TZID=America/Los_Angeles:20251111T190000
DTEND;TZID=America/Los_Angeles:20251111T203000
DTSTAMP:20260423T150654
CREATED:20251023T024613Z
LAST-MODIFIED:20251031T215834Z
UID:3921-1762887600-1762893000@www.mostpoetry.org
SUMMARY:Second Tuesday Reading featuring Marisol Baca & Gillian Wegener at Bookish
DESCRIPTION:Please join us at Bookish Modesto as we feature two tremendous Central Valley poets: Gillian Wegener and Marisol Baca. \nMarisol Baca teaches English\, Literature\, and Creative Writing at Fresno City College. She teaches Honors in the Leon S. Peters Honors Program\, and she also teaches as a part of the RAIN program (Resources for American Indian Needs). Baca is the author of a book of poems called Tremor\, and she was named Fresno’s first woman and first Chicana/Latinx Poet Laureate (2019-2021). Marisol’s poem about the naming of Fresno has been designated the city’s official poem. \nGillian Wegener is the author of one chapbook and two full-length collections of poetry: Lifting One Foot\, Lifting the Other (In the Grove Press\, 2001)\, The Opposite of Clairvoyance (2008)\, and This Sweet Haphazard (2017)\, both from Sixteen Rivers Press. She is also the founding president of Modesto-Stanislaus Poetry Center\, a previous Poet Laureate for the City of Modesto (2012-2016)\, and a two-time recipient of the Dorothy Sargent Rosenberg Poetry Prize. She is a long-time educator in Oakdale and has lived in Modesto longer than she’s lived anywhere else. \nThe reading starts at 7:00 at Bookish Modesto. With open mic following featured poets. \n 
URL:https://www.mostpoetry.org/event/2025nov11/
LOCATION:Bookish Modesto\, 811 W. Roseburg Ave\, Modesto\, CA\, 95350\, United States
CATEGORIES:Open Mic,Second Tuesday
ATTACH;FMTTYPE=image/png:https://www.mostpoetry.org/wp-content/uploads/2025/10/Nov-2025-Second-Tues-Baca-Wegener-e1761947750945.png
ORGANIZER;CN="Stella Beratlis":MAILTO:stellab@mostpoetry.org
END:VEVENT
BEGIN:VEVENT
DTSTART;TZID=America/Los_Angeles:20251122T140000
DTEND;TZID=America/Los_Angeles:20251122T150000
DTSTAMP:20260423T150654
CREATED:20251030T201648Z
LAST-MODIFIED:20251030T201648Z
UID:3924-1763820000-1763823600@www.mostpoetry.org
SUMMARY:MoSt Poetry on Saturday featuring Lucille Lang Day and Carl Landauer
DESCRIPTION:Please join host Gary Thomas at 2:00 p.m. on Saturday\, November 22\, 2025 at Carnegie Arts Center (250 North Broadway Ave.\, Turlock\, California) for a poetry reading featuring Lucille Lang Day and Carl Landauer. There will be light refreshments and an open mic time following the featured poets. This event is free and open to the public. \n \nLucille Lang Day is the author of four poetry chapbooks and seven full-length collections\, most recently Birds of San Pancho and Other Poems of Place. She has also edited three poetry anthologies and published two children’s books and a memoir. Her work appears in more than 200 magazines and anthologies\, such as The Cincinnati Review\, The Hudson Review\, River Styx\, The Threepenny Review\, Scientific American\, ZYZZYVA\, and Attached to the Living World: A New Ecopoetry Anthology. Her many honors include the Blue Light Poetry Prize\, two PEN Oakland – Josephine Miles Literary Awards\, the Joseph Henry Jackson Award\, and eleven Pushcart Prize nominations. She is founder and publisher of a small press\, Scarlet Tanager Books. https://lucillelangday.com \n  \n \nCarl Landauer taught history at Yale\, Stanford\, and McGill and is currently a contributing editor for Poetry Flash and a visiting scholar with UC Berkeley’s Institute for South Asia Studies. His poetry has appeared in Kenyon Review\, Exacting Clam\, and Poetry Flash. His writing on poetry and cultural history has appeared in Beat Scene\, The American Scholar\, Salmagundi\, Confrontation\, Renaissance Quarterly\, German Studies Review\, and Poetry Flash—as well as a critical analysis of Project 2025 published by Public Seminar. He is currently writing a long series of poems he calls “refracted ekphrases\,” each of which focuses on a movie that is adapted from literature. \n 
URL:https://www.mostpoetry.org/event/most-poetry-on-saturday-featuring-lucille-lang-day-and-carl-landauer/
LOCATION:Carnegie Arts Center\, 250 N. Broadway\, Turlock\, CA\, 95380\, United States
CATEGORIES:Poetry on Saturday,Readings
ATTACH;FMTTYPE=image/jpeg:https://www.mostpoetry.org/wp-content/uploads/2025/10/Thank-you-for-the-beauty-you-create-each-day-e1762905904292.jpg
END:VEVENT
END:VCALENDAR