BEGIN:VCALENDAR
VERSION:2.0
PRODID:-//Modesto-Stanislaus Poetry Center - ECPv6.15.13//NONSGML v1.0//EN
CALSCALE:GREGORIAN
METHOD:PUBLISH
X-ORIGINAL-URL:https://www.mostpoetry.org
X-WR-CALDESC:Events for Modesto-Stanislaus Poetry Center
REFRESH-INTERVAL;VALUE=DURATION:PT1H
X-Robots-Tag:noindex
X-PUBLISHED-TTL:PT1H
BEGIN:VTIMEZONE
TZID:America/Los_Angeles
BEGIN:DAYLIGHT
TZOFFSETFROM:-0800
TZOFFSETTO:-0700
TZNAME:PDT
DTSTART:20230312T100000
END:DAYLIGHT
BEGIN:STANDARD
TZOFFSETFROM:-0700
TZOFFSETTO:-0800
TZNAME:PST
DTSTART:20231105T090000
END:STANDARD
BEGIN:DAYLIGHT
TZOFFSETFROM:-0800
TZOFFSETTO:-0700
TZNAME:PDT
DTSTART:20240310T100000
END:DAYLIGHT
BEGIN:STANDARD
TZOFFSETFROM:-0700
TZOFFSETTO:-0800
TZNAME:PST
DTSTART:20241103T090000
END:STANDARD
BEGIN:DAYLIGHT
TZOFFSETFROM:-0800
TZOFFSETTO:-0700
TZNAME:PDT
DTSTART:20250309T100000
END:DAYLIGHT
BEGIN:STANDARD
TZOFFSETFROM:-0700
TZOFFSETTO:-0800
TZNAME:PST
DTSTART:20251102T090000
END:STANDARD
END:VTIMEZONE
BEGIN:VEVENT
DTSTART;TZID=America/Los_Angeles:20240203T100000
DTEND;TZID=America/Los_Angeles:20240203T140000
DTSTAMP:20260425T035101
CREATED:20231212T190405Z
LAST-MODIFIED:20231220T194836Z
UID:3084-1706954400-1706968800@www.mostpoetry.org
SUMMARY:12th Annual MoSt Poetry Festival with Maya Khosla
DESCRIPTION:MoSt Poetry Festival\nSaturday\, February 3\, 2024\n“Writing the Way Through Wild Spaces”\nWorkshop leader: Maya Khosla\, Wildlife Biologist\, Poet\, Filmmaker\nCarnegie Arts Center       250 N. Broadway        Turlock\, CA\n10:00 a.m. to 2:00 p.m.\nDoors open at 9:30 a.m. — continental breakfast included\n$40 RSVP at https://poetryfestival12.eventbrite.com\n  \n\n \n\n\nMaya Khosla is a biologist and writer. As Sonoma County Poet Laureate (2018-2020)\, she brought Sonoma’s communities together to heal through gatherings\, field walks\, and shared writing after the recent wildfires. Her books include “All the Fires of Wind and Light” (Sixteen Rivers Press; 2020 PEN Oakland/Josephine Miles Literary Award)\, “Keel Bone” (Bear Star Press; Dorothy Brunsman Poetry Prize). She is the winner of the 2023 Fund for Wild Nature Grassroots Activist Award and co-winner of the Environmentalist of the Year Award from 2020 Sonoma County Conservation Council (SCCC). Her work has been featured in For the Wild\, her writing was part of the award-winning documentary films including “Village of Dust\, City of Water\,” about the water crises in rural India. \n\n\n\nScan to purchase your ticket\n\n \n\n\n\nThis event is supported in part by Poets & Writers.
URL:https://www.mostpoetry.org/event/12th-annual-most-poetry-festival-with-maya-khosla/
LOCATION:Carnegie Arts Center\, 250 N. Broadway\, Turlock\, CA\, 95380\, United States
CATEGORIES:Other Events,Workshops
ATTACH;FMTTYPE=image/png:https://www.mostpoetry.org/wp-content/uploads/2023/12/Facebook-event-cover_Festival2023-1920-x-1080-px-e1703101663501.png
END:VEVENT
BEGIN:VEVENT
DTSTART;TZID=America/Los_Angeles:20240224T140000
DTEND;TZID=America/Los_Angeles:20240224T150000
DTSTAMP:20260425T035101
CREATED:20240109T012835Z
LAST-MODIFIED:20240109T013006Z
UID:3136-1708783200-1708786800@www.mostpoetry.org
SUMMARY:MoSt Poetry On Saturday featuring Susan Kelly-DeWitt & Mary Mackey
DESCRIPTION:Please join us at the Carnegie Arts Center\, 250 North Broadway in Turlock\, for a MoSt Poetry reading featuring Susan Kelly-DeWitt and Mary Mackey on Saturday\, February 24\, 2024 at 2:00 p.m. PST.  An open mic will follow the featured poets\, and light refreshments will be available. This reading\, hosted by Gary Thomas\, is free and open to the public. \nSusan Kelly-DeWitt is a former Wallace Stegner Fellow and the author of Gatherer’s Alphabet (Gunpowder Press\, CA Poets Prize\, 2022)\, Gravitational Tug (Main Street Rag\, 2020)\, Spider Season (Cold River Press\, 2016)\, The Fortunate Islands (Marick Press\, 2008) and a number of previous small press collections. Her work has also appeared in many anthologies\, and in print and online journals at home and abroad. She is currently a member of the National Book Critics Circle\, the Northern California Book Reviewers Association and a contributing editor for Poetry Flash. A new book\, Frangible Operas: Selected Uncollected is forthcoming from Gunpowder Press. For more information\, please visit her website at www.susankelly-dewitt.com. \n  \nMary Mackey became a writer by running high fevers\, tramping through tropical jungles\, being swarmed by army ants\, and reading. She is the author of eight poetry collections\, including Sugar Zone\, winner of a PEN Award\, and The Jaguars That Prowl Our Dreams\, winner of a the 2019 Eric Hoffer Award for Best Book Published by a Small Press. Her poetry has been praised by Wendell Berry\, Jane Hirshfield\, D. Nurkse\, Al Young\, Rafael Jesús González\, and Maxine Hong Kingston for its beauty\, precision\, originality\, and extraordinary range. She is also the author of 14 novels including The New York Times bestseller A Grand Passion.  Recent honors and awards include: \n2023 City of Angels Women’s Film Festival Award Official Selection for Best Feature Screenplay for “The Stand In.” The screenplay is an adaptation of Mary Mackey’s novel of the same title\, published under her pen name “Kate Clemens.” \nNorthern California Book Reviews Award Finalist for “Creativity: Where Poems Begin\, Best Book of Creative Nonfiction Published in 2023. \nWinner of City of Angels Film Festival for Best Short Screenplay for “Time Piece “ 2022. \n“Lady Danger\,” Nominated for Best Feature-Length Screenplay\, City of Angels Womens Film Festival\, 2022. \n  \n 
URL:https://www.mostpoetry.org/event/most-poetry-on-saturday-featuring-susan-kelly-dewitt-mary-mackey/
LOCATION:Carnegie Arts Center\, 250 N. Broadway\, Turlock\, CA\, 95380\, United States
CATEGORIES:Poetry on Saturday,Readings
ATTACH;FMTTYPE=image/jpeg:https://www.mostpoetry.org/wp-content/uploads/2024/01/Floral-Facebook-Event-Cover-1-e1704762772699.jpg
END:VEVENT
END:VCALENDAR