BEGIN:VCALENDAR
VERSION:2.0
PRODID:-//Modesto-Stanislaus Poetry Center - ECPv6.15.13//NONSGML v1.0//EN
CALSCALE:GREGORIAN
METHOD:PUBLISH
X-WR-CALNAME:Modesto-Stanislaus Poetry Center
X-ORIGINAL-URL:https://www.mostpoetry.org
X-WR-CALDESC:Events for Modesto-Stanislaus Poetry Center
REFRESH-INTERVAL;VALUE=DURATION:PT1H
X-Robots-Tag:noindex
X-PUBLISHED-TTL:PT1H
BEGIN:VTIMEZONE
TZID:America/Los_Angeles
BEGIN:DAYLIGHT
TZOFFSETFROM:-0800
TZOFFSETTO:-0700
TZNAME:PDT
DTSTART:20230312T100000
END:DAYLIGHT
BEGIN:STANDARD
TZOFFSETFROM:-0700
TZOFFSETTO:-0800
TZNAME:PST
DTSTART:20231105T090000
END:STANDARD
BEGIN:DAYLIGHT
TZOFFSETFROM:-0800
TZOFFSETTO:-0700
TZNAME:PDT
DTSTART:20240310T100000
END:DAYLIGHT
BEGIN:STANDARD
TZOFFSETFROM:-0700
TZOFFSETTO:-0800
TZNAME:PST
DTSTART:20241103T090000
END:STANDARD
BEGIN:DAYLIGHT
TZOFFSETFROM:-0800
TZOFFSETTO:-0700
TZNAME:PDT
DTSTART:20250309T100000
END:DAYLIGHT
BEGIN:STANDARD
TZOFFSETFROM:-0700
TZOFFSETTO:-0800
TZNAME:PST
DTSTART:20251102T090000
END:STANDARD
END:VTIMEZONE
BEGIN:VEVENT
DTSTART;TZID=America/Los_Angeles:20240921T130000
DTEND;TZID=America/Los_Angeles:20240921T150000
DTSTAMP:20260424T170743
CREATED:20240828T202429Z
LAST-MODIFIED:20240828T204316Z
UID:3397-1726923600-1726930800@www.mostpoetry.org
SUMMARY:Summer Poetry Workshop #4  "Poetry for the Ages"
DESCRIPTION:Join facilitator Linda Scheller in the Modesto Library Auditorium from 1:00-3:00 p.m. Saturday\, September 21st\, 2024 to read and discuss poetry focussed on youth and aging. We’ll draft poems that recall\, explain\, or imagine different stages in our lives with the option to share what we’ve written. This workshop is free and open to the public.
URL:https://www.mostpoetry.org/event/summer-poetry-workshop-4-poetry-for-the-ages/
LOCATION:Stanislaus County Library\, 1500 I Street\, Modesto\, CA\, 95354\, United States
CATEGORIES:Workshops
ATTACH;FMTTYPE=image/jpeg:https://www.mostpoetry.org/wp-content/uploads/2024/08/Neon-and-Palm-Trees-Summer-Concert-Facebook-Event-Cover-3-e1724876439442.jpg
END:VEVENT
END:VCALENDAR