BEGIN:VCALENDAR
VERSION:2.0
PRODID:-//Modesto-Stanislaus Poetry Center - ECPv6.15.13//NONSGML v1.0//EN
CALSCALE:GREGORIAN
METHOD:PUBLISH
X-WR-CALNAME:Modesto-Stanislaus Poetry Center
X-ORIGINAL-URL:https://www.mostpoetry.org
X-WR-CALDESC:Events for Modesto-Stanislaus Poetry Center
REFRESH-INTERVAL;VALUE=DURATION:PT1H
X-Robots-Tag:noindex
X-PUBLISHED-TTL:PT1H
BEGIN:VTIMEZONE
TZID:America/Los_Angeles
BEGIN:DAYLIGHT
TZOFFSETFROM:-0800
TZOFFSETTO:-0700
TZNAME:PDT
DTSTART:20240310T100000
END:DAYLIGHT
BEGIN:STANDARD
TZOFFSETFROM:-0700
TZOFFSETTO:-0800
TZNAME:PST
DTSTART:20241103T090000
END:STANDARD
BEGIN:DAYLIGHT
TZOFFSETFROM:-0800
TZOFFSETTO:-0700
TZNAME:PDT
DTSTART:20250309T100000
END:DAYLIGHT
BEGIN:STANDARD
TZOFFSETFROM:-0700
TZOFFSETTO:-0800
TZNAME:PST
DTSTART:20251102T090000
END:STANDARD
BEGIN:DAYLIGHT
TZOFFSETFROM:-0800
TZOFFSETTO:-0700
TZNAME:PDT
DTSTART:20260308T100000
END:DAYLIGHT
BEGIN:STANDARD
TZOFFSETFROM:-0700
TZOFFSETTO:-0800
TZNAME:PST
DTSTART:20261101T090000
END:STANDARD
END:VTIMEZONE
BEGIN:VEVENT
DTSTART;TZID=America/Los_Angeles:20250621T130000
DTEND;TZID=America/Los_Angeles:20250621T150000
DTSTAMP:20260424T032651
CREATED:20250512T190625Z
LAST-MODIFIED:20250512T190625Z
UID:3742-1750510800-1750518000@www.mostpoetry.org
SUMMARY:MoSt Poetry Summer Workshop "Writing Prose Poems: Breaking Free of the Line Break"
DESCRIPTION:SATURDAY\, JUNE 21\, 2025         \n1 p.m. to 3 p.m. \nSALIDA PUBLIC LIBRARY \n4835 SISK ROAD\, SALIDA\, CA 95368  \n As the downtown Modesto library undergoes extensive renovations\, the Modesto-Stanislaus Poetry Center (MoSt) will be kicking off its annual summer workshop series this year at a new location\, the Salida Public Library. \nParticipants will be given the opportunity to read several outstanding examples of the form by noted practitioners and discuss them and how those pieces differ from other types of poetry.  As usual\, though\, the bulk of the time will be dedicated to having attendees begin crafting their own prose poems that afternoon. As always\, we would love to hear what’s been written during the session\, but only if you feel comfortable doing so. \nWe look forward to seeing you that day!!
URL:https://www.mostpoetry.org/event/most-poetry-summer-workshop-writing-prose-poems-breaking-free-of-the-line-break/
LOCATION:Salida Public Library\, 4835 Sisk Road\, Salida\, CA\, 95368\, United States
CATEGORIES:Workshops
ATTACH;FMTTYPE=image/jpeg:https://www.mostpoetry.org/wp-content/uploads/2025/05/Green-Watercolor-Happy-Wedding-Facebook-Event-Cover-e1747076505512.jpg
END:VEVENT
END:VCALENDAR