BEGIN:VCALENDAR
VERSION:2.0
PRODID:-//Modesto-Stanislaus Poetry Center - ECPv6.15.13//NONSGML v1.0//EN
CALSCALE:GREGORIAN
METHOD:PUBLISH
X-WR-CALNAME:Modesto-Stanislaus Poetry Center
X-ORIGINAL-URL:https://www.mostpoetry.org
X-WR-CALDESC:Events for Modesto-Stanislaus Poetry Center
REFRESH-INTERVAL;VALUE=DURATION:PT1H
X-Robots-Tag:noindex
X-PUBLISHED-TTL:PT1H
BEGIN:VTIMEZONE
TZID:America/Los_Angeles
BEGIN:DAYLIGHT
TZOFFSETFROM:-0800
TZOFFSETTO:-0700
TZNAME:PDT
DTSTART:20240310T100000
END:DAYLIGHT
BEGIN:STANDARD
TZOFFSETFROM:-0700
TZOFFSETTO:-0800
TZNAME:PST
DTSTART:20241103T090000
END:STANDARD
BEGIN:DAYLIGHT
TZOFFSETFROM:-0800
TZOFFSETTO:-0700
TZNAME:PDT
DTSTART:20250309T100000
END:DAYLIGHT
BEGIN:STANDARD
TZOFFSETFROM:-0700
TZOFFSETTO:-0800
TZNAME:PST
DTSTART:20251102T090000
END:STANDARD
BEGIN:DAYLIGHT
TZOFFSETFROM:-0800
TZOFFSETTO:-0700
TZNAME:PDT
DTSTART:20260308T100000
END:DAYLIGHT
BEGIN:STANDARD
TZOFFSETFROM:-0700
TZOFFSETTO:-0800
TZNAME:PST
DTSTART:20261101T090000
END:STANDARD
END:VTIMEZONE
BEGIN:VEVENT
DTSTART;TZID=America/Los_Angeles:20251011T090000
DTEND;TZID=America/Los_Angeles:20251011T110000
DTSTAMP:20260423T212733
CREATED:20250906T210809Z
LAST-MODIFIED:20250906T210809Z
UID:3856-1760173200-1760180400@www.mostpoetry.org
SUMMARY:Autumn Nature Poetry Reading & Walk at Dos Rios State Park
DESCRIPTION:AUTUMN NATURE POETRY READING AND WALK \nSaturday\, October 11\, 2025 –  9:00-11:00 a.m.\nDOS RIOS STATE PARK\n3559 Shiloh Road\nModesto\, CA\nJoin us at the base camp of the oxbow pond for our third nature poetry reading and walk. Park visitors are invited to bring a few of their favorite poems on nature\, written by themselves or by other writers\, that they can share. Hosted by Sal Salerno\, local poet and park volunteer. The reading will be followed by a 10:00 a.m. optional walk on the Pond Loop Trail\, led by State Park staff.
URL:https://www.mostpoetry.org/event/autumn-nature-poetry-reading-walk-at-dos-rios-state-park/
LOCATION:Dos Rios State Park\, 3559 Shiloh Rd\, Modesto\, CA\, 95358\, United States
ATTACH;FMTTYPE=image/jpeg:https://www.mostpoetry.org/wp-content/uploads/2017/08/MoSt-Gala-2017-0001.jpg
END:VEVENT
END:VCALENDAR