BEGIN:VCALENDAR
VERSION:2.0
PRODID:-//Modesto-Stanislaus Poetry Center - ECPv6.15.13//NONSGML v1.0//EN
CALSCALE:GREGORIAN
METHOD:PUBLISH
X-WR-CALNAME:Modesto-Stanislaus Poetry Center
X-ORIGINAL-URL:https://www.mostpoetry.org
X-WR-CALDESC:Events for Modesto-Stanislaus Poetry Center
REFRESH-INTERVAL;VALUE=DURATION:PT1H
X-Robots-Tag:noindex
X-PUBLISHED-TTL:PT1H
BEGIN:VTIMEZONE
TZID:America/Los_Angeles
BEGIN:DAYLIGHT
TZOFFSETFROM:-0800
TZOFFSETTO:-0700
TZNAME:PDT
DTSTART:20220313T100000
END:DAYLIGHT
BEGIN:STANDARD
TZOFFSETFROM:-0700
TZOFFSETTO:-0800
TZNAME:PST
DTSTART:20221106T090000
END:STANDARD
BEGIN:DAYLIGHT
TZOFFSETFROM:-0800
TZOFFSETTO:-0700
TZNAME:PDT
DTSTART:20230312T100000
END:DAYLIGHT
BEGIN:STANDARD
TZOFFSETFROM:-0700
TZOFFSETTO:-0800
TZNAME:PST
DTSTART:20231105T090000
END:STANDARD
BEGIN:DAYLIGHT
TZOFFSETFROM:-0800
TZOFFSETTO:-0700
TZNAME:PDT
DTSTART:20240310T100000
END:DAYLIGHT
BEGIN:STANDARD
TZOFFSETFROM:-0700
TZOFFSETTO:-0800
TZNAME:PST
DTSTART:20241103T090000
END:STANDARD
END:VTIMEZONE
BEGIN:VEVENT
DTSTART;TZID=America/Los_Angeles:20230408T120000
DTEND;TZID=America/Los_Angeles:20230408T133000
DTSTAMP:20260425T184807
CREATED:20230315T222931Z
LAST-MODIFIED:20230315T223042Z
UID:2721-1680955200-1680960600@www.mostpoetry.org
SUMMARY:Saturday in the Park With Poetry
DESCRIPTION:As April is National Poetry Month\, Modesto-Stanislaus Poetry Center is offering an outdoors event on Saturday\, April 8\, 2023 from noon to 1:30 p.m. The location is Davis Community Park at 2701 College Avenue in Modesto. The host will be Salvatore Salerno\, poet laureate of Modesto. Participants can bring a bag lunch and read from their most recent favorite book of poetry.  They are also invited to bring other poetry books to donate and trade with other participants. We will meet at the picnic tables near the parking lot.  If the tables are otherwise occupied\, be prepared by bringing a lawn chair\, and we can gather elsewhere beneath the welcoming shade of a tree.
URL:https://www.mostpoetry.org/event/saturday-in-the-park-with-poetry-2/
LOCATION:Davis Park\, 2701 College Ave\, Modesto\, CA\, 95350\, United States
ATTACH;FMTTYPE=image/jpeg:https://www.mostpoetry.org/wp-content/uploads/2023/03/Mint-Floral-Rustic-Wedding-Facebook-Event-Cover-copy.jpg
END:VEVENT
END:VCALENDAR